BEGIN:VCALENDAR
VERSION:2.0
PRODID:-//Ohio&#039;s Hospice - ECPv6.15.20//NONSGML v1.0//EN
CALSCALE:GREGORIAN
METHOD:PUBLISH
X-WR-CALNAME:Ohio&#039;s Hospice
X-ORIGINAL-URL:https://www.ohioshospice.org
X-WR-CALDESC:Events for Ohio&#039;s Hospice
REFRESH-INTERVAL;VALUE=DURATION:PT1H
X-Robots-Tag:noindex
X-PUBLISHED-TTL:PT1H
BEGIN:VTIMEZONE
TZID:America/New_York
BEGIN:DAYLIGHT
TZOFFSETFROM:-0500
TZOFFSETTO:-0400
TZNAME:EDT
DTSTART:20220313T070000
END:DAYLIGHT
BEGIN:STANDARD
TZOFFSETFROM:-0400
TZOFFSETTO:-0500
TZNAME:EST
DTSTART:20221106T060000
END:STANDARD
BEGIN:DAYLIGHT
TZOFFSETFROM:-0500
TZOFFSETTO:-0400
TZNAME:EDT
DTSTART:20230312T070000
END:DAYLIGHT
BEGIN:STANDARD
TZOFFSETFROM:-0400
TZOFFSETTO:-0500
TZNAME:EST
DTSTART:20231105T060000
END:STANDARD
BEGIN:DAYLIGHT
TZOFFSETFROM:-0500
TZOFFSETTO:-0400
TZNAME:EDT
DTSTART:20240310T070000
END:DAYLIGHT
BEGIN:STANDARD
TZOFFSETFROM:-0400
TZOFFSETTO:-0500
TZNAME:EST
DTSTART:20241103T060000
END:STANDARD
END:VTIMEZONE
BEGIN:VTIMEZONE
TZID:America/Halifax
BEGIN:DAYLIGHT
TZOFFSETFROM:-0400
TZOFFSETTO:-0300
TZNAME:ADT
DTSTART:20220313T060000
END:DAYLIGHT
BEGIN:STANDARD
TZOFFSETFROM:-0300
TZOFFSETTO:-0400
TZNAME:AST
DTSTART:20221106T050000
END:STANDARD
BEGIN:DAYLIGHT
TZOFFSETFROM:-0400
TZOFFSETTO:-0300
TZNAME:ADT
DTSTART:20230312T060000
END:DAYLIGHT
BEGIN:STANDARD
TZOFFSETFROM:-0300
TZOFFSETTO:-0400
TZNAME:AST
DTSTART:20231105T050000
END:STANDARD
BEGIN:DAYLIGHT
TZOFFSETFROM:-0400
TZOFFSETTO:-0300
TZNAME:ADT
DTSTART:20240310T060000
END:DAYLIGHT
BEGIN:STANDARD
TZOFFSETFROM:-0300
TZOFFSETTO:-0400
TZNAME:AST
DTSTART:20241103T050000
END:STANDARD
END:VTIMEZONE
BEGIN:VEVENT
DTSTART;TZID=America/New_York:20230913T173000
DTEND;TZID=America/New_York:20231101T184500
DTSTAMP:20260425T230013
CREATED:20230808T190937Z
LAST-MODIFIED:20250206T203935Z
UID:10000120-1694626200-1698864300@www.ohioshospice.org
SUMMARY:Ohio's Hospice LifeCare – Adult Grief Group: Faces of Grief
DESCRIPTION:WHAT:\nOhio’s Hospice LifeCare Pathways of HopeSM Grief Counseling Center is hosting a seven-week adult grief group\, Faces of Grief. David Hargrave\, LSW\, CTP\, CGGS\, bereavement counseling professional with Ohio’s Hospice LifeCare\, will lead the workshop. \nWHEN:\nWednesday\, Sept. 13\, through Wednesday\, Nov. 1\, 2023\n5:30-6:45 pm \nWHERE:\nMarilyn B. and Mark E. Gustafson Center for Supportive Care\nOhio’s Hospice LifeCare\n1900 Akron Rd.\, Wooster\, OH 44691 \nTOPICS COVERED: \n\nMyths About Grief\nCommon and Normal Grief Reactions\nDifferent Grieving Styles\nThe Four Tasks of Mourning\nAcknowledging the Secondary Losses\nFactors That Influence the Grief Journey\nTaking Care of Yourself During the Journey of Grief\n\nThe Faces of Grief group provides a safe venue for sharing experiences\, discussing key challenges\, and learning about positive coping strategies along the grief journey. \nThese sessions are designed to help adult grievers understand the many nuances of grief\, help them with processing the pain\, and help them adjust to a world without their loved one. During the Faces of Grief group\, participants will identify and process many of the ways that grief presents itself. \nIt is not necessary to share openly in a group setting to receive support. The weekly curriculum and insights from others can generate hope and clarification for one’s own grief experience. \nREGISTRATION:\nWhile the event is free and open to the public\, registration is required. To register and for more information\, please call 330.264.4899 or email PathwaysofHope@LifeCareHospice.org and include your name\, the name of the event\, the date of the event\, and your phone number. \nShare this:\n				Share on Facebook (Opens in new window)\n				Facebook\n			\n				Share on X (Opens in new window)\n				X
URL:https://www.ohioshospice.org/event/ohios-hospice-lifecare-adult-grief-group-faces-of-grief-2/
LOCATION:Ohio’s Hospice | Wooster\, 1900 Akron Rd.\, Wooster\, OH\, 44691\, United States
CATEGORIES:Grief Support,Ohio's Hospice | Wooster
ATTACH;FMTTYPE=image/jpeg:https://www.ohioshospice.org/wp-content/uploads/2023/08/SM_OHLC_20230808_FacesofGrief_01_08581.jpg
ORGANIZER;CN="Ohio%E2%80%99s Hospice | Wooster":MAILTO:Info@OhiosHospice.org
END:VEVENT
BEGIN:VEVENT
DTSTART;VALUE=DATE:20231020
DTEND;VALUE=DATE:20231216
DTSTAMP:20260425T230013
CREATED:20231020T132212Z
LAST-MODIFIED:20231215T215834Z
UID:10000130-1697760000-1702684799@www.ohioshospice.org
SUMMARY:Hospice Holiday Ornaments 2023
DESCRIPTION:Online ordering has ended. Thank you to everyone who supported our mission! \nWe invite you to honor or memorialize your loved ones with a Hospice Holiday ornament!\nWith your generous contribution\, you’ll receive the 2023 Hospice Holiday ornament. For only $15 per ornament (plus an additional $5 charge for shipping)\, you can pay tribute to those closest to you during this special holiday season. Net proceeds benefit Community Care Hospice and Ohio’s Hospice of Fayette County patient care and services. Thank you for supporting our mission to provide superior care and superior services to each patient and family we have the privilege of serving. Your support is a gift to the community. \n \nQuestions?\nCommunity Care Hospice\n1669 Rombach Ave.\nWilmington\, OH 45177 \nFor more information\, please call Kim Parrish at 937.382.5400. \nor \nOhio’s Hospice of Fayette County\n222 N. Oakland Ave.\nWashington Court House\, OH 43160 \nFor more information\, please call Stacy Havens at 740.335.0149. \nShare this:\n				Share on Facebook (Opens in new window)\n				Facebook\n			\n				Share on X (Opens in new window)\n				X
URL:https://www.ohioshospice.org/event/hospice-holiday-ornaments-2023/
LOCATION:OH
CATEGORIES:Foundation
ATTACH;FMTTYPE=image/jpeg:https://www.ohioshospice.org/wp-content/uploads/2022/08/SM_OHFC_20220819_HolidayOrnament_01-scaled.jpg
ORGANIZER;CN="Ohio%E2%80%99s Hospice | Washington Court House":MAILTO:Info@OhiosHospice.org
END:VEVENT
END:VCALENDAR