BEGIN:VCALENDAR
VERSION:2.0
PRODID:-//Ohio&#039;s Hospice - ECPv6.15.20//NONSGML v1.0//EN
CALSCALE:GREGORIAN
METHOD:PUBLISH
X-ORIGINAL-URL:https://www.ohioshospice.org
X-WR-CALDESC:Events for Ohio&#039;s Hospice
REFRESH-INTERVAL;VALUE=DURATION:PT1H
X-Robots-Tag:noindex
X-PUBLISHED-TTL:PT1H
BEGIN:VTIMEZONE
TZID:America/Halifax
BEGIN:DAYLIGHT
TZOFFSETFROM:-0400
TZOFFSETTO:-0300
TZNAME:ADT
DTSTART:20220313T060000
END:DAYLIGHT
BEGIN:STANDARD
TZOFFSETFROM:-0300
TZOFFSETTO:-0400
TZNAME:AST
DTSTART:20221106T050000
END:STANDARD
BEGIN:DAYLIGHT
TZOFFSETFROM:-0400
TZOFFSETTO:-0300
TZNAME:ADT
DTSTART:20230312T060000
END:DAYLIGHT
BEGIN:STANDARD
TZOFFSETFROM:-0300
TZOFFSETTO:-0400
TZNAME:AST
DTSTART:20231105T050000
END:STANDARD
BEGIN:DAYLIGHT
TZOFFSETFROM:-0400
TZOFFSETTO:-0300
TZNAME:ADT
DTSTART:20240310T060000
END:DAYLIGHT
BEGIN:STANDARD
TZOFFSETFROM:-0300
TZOFFSETTO:-0400
TZNAME:AST
DTSTART:20241103T050000
END:STANDARD
END:VTIMEZONE
BEGIN:VTIMEZONE
TZID:America/New_York
BEGIN:DAYLIGHT
TZOFFSETFROM:-0500
TZOFFSETTO:-0400
TZNAME:EDT
DTSTART:20220313T070000
END:DAYLIGHT
BEGIN:STANDARD
TZOFFSETFROM:-0400
TZOFFSETTO:-0500
TZNAME:EST
DTSTART:20221106T060000
END:STANDARD
BEGIN:DAYLIGHT
TZOFFSETFROM:-0500
TZOFFSETTO:-0400
TZNAME:EDT
DTSTART:20230312T070000
END:DAYLIGHT
BEGIN:STANDARD
TZOFFSETFROM:-0400
TZOFFSETTO:-0500
TZNAME:EST
DTSTART:20231105T060000
END:STANDARD
BEGIN:DAYLIGHT
TZOFFSETFROM:-0500
TZOFFSETTO:-0400
TZNAME:EDT
DTSTART:20240310T070000
END:DAYLIGHT
BEGIN:STANDARD
TZOFFSETFROM:-0400
TZOFFSETTO:-0500
TZNAME:EST
DTSTART:20241103T060000
END:STANDARD
BEGIN:DAYLIGHT
TZOFFSETFROM:-0500
TZOFFSETTO:-0400
TZNAME:EDT
DTSTART:20250309T070000
END:DAYLIGHT
BEGIN:STANDARD
TZOFFSETFROM:-0400
TZOFFSETTO:-0500
TZNAME:EST
DTSTART:20251102T060000
END:STANDARD
END:VTIMEZONE
BEGIN:VEVENT
DTSTART;VALUE=DATE:20231020
DTEND;VALUE=DATE:20231216
DTSTAMP:20260424T060340
CREATED:20231020T132212Z
LAST-MODIFIED:20231215T215834Z
UID:10000130-1697760000-1702684799@www.ohioshospice.org
SUMMARY:Hospice Holiday Ornaments 2023
DESCRIPTION:Online ordering has ended. Thank you to everyone who supported our mission! \nWe invite you to honor or memorialize your loved ones with a Hospice Holiday ornament!\nWith your generous contribution\, you’ll receive the 2023 Hospice Holiday ornament. For only $15 per ornament (plus an additional $5 charge for shipping)\, you can pay tribute to those closest to you during this special holiday season. Net proceeds benefit Community Care Hospice and Ohio’s Hospice of Fayette County patient care and services. Thank you for supporting our mission to provide superior care and superior services to each patient and family we have the privilege of serving. Your support is a gift to the community. \n \nQuestions?\nCommunity Care Hospice\n1669 Rombach Ave.\nWilmington\, OH 45177 \nFor more information\, please call Kim Parrish at 937.382.5400. \nor \nOhio’s Hospice of Fayette County\n222 N. Oakland Ave.\nWashington Court House\, OH 43160 \nFor more information\, please call Stacy Havens at 740.335.0149. \nShare this:\n				Share on Facebook (Opens in new window)\n				Facebook\n			\n				Share on X (Opens in new window)\n				X
URL:https://www.ohioshospice.org/event/hospice-holiday-ornaments-2023/
LOCATION:OH
CATEGORIES:Foundation
ATTACH;FMTTYPE=image/jpeg:https://www.ohioshospice.org/wp-content/uploads/2022/08/SM_OHFC_20220819_HolidayOrnament_01-scaled.jpg
ORGANIZER;CN="Ohio%E2%80%99s Hospice | Washington Court House":MAILTO:Info@OhiosHospice.org
END:VEVENT
BEGIN:VEVENT
DTSTART;TZID=America/New_York:20231115T180000
DTEND;TZID=America/New_York:20231220T190000
DTSTAMP:20260424T060340
CREATED:20231113T174400Z
LAST-MODIFIED:20240110T205431Z
UID:10000158-1700071200-1703098800@www.ohioshospice.org
SUMMARY:Coping With Grief During the Holidays
DESCRIPTION:WHAT:\nThe holidays are stressful in the best of times. But while grieving\, this stress can be overwhelming\, and the holidays are often less than joyful and bright. Family or friend gatherings\, while a good source of support\, can be exhausting as grievers try to get through the holiday season.  \nIf you need support during this time of year\, join us at one of our holiday grief support groups. \nPathways of HopeSM Grief Counseling Centers provide a variety of services to the communities we serve. Support and education are provided by a team of counselors and social workers\, all with significant experience and expertise in assisting grieving children\, adolescents and adults. \nTROY:\nWednesdays\, 6-7 pm\nNovember 15\, 2023 – January 3\, 2024\n(No group session on December 13.)\nOhio’s Hospice of Miami County\, Board Room\n3230 N. County Rd.\n25A\, Troy\, OH 45373 \nHOW:\nJust drop in. There is no cost to attend\, and no registration is required. For more information\, please call 937.258.4991 . \n\n\nOTHER LOCATIONS AND TIMES:\nWednesdays\, 10-11 am\nNovember 15\, 2023 – January 3\, 2024\nOhio’s Hospice of Dayton\, Community Room\n324 Wilmington Ave.\nDayton\, OH 45420 \nWednesdays\, 6-7 pm\nNovember 15\, 2023 – January 3\, 2024\nOhio’s Hospice\n7575 Paragon Ave.\nDayton\, OH 45459 \nShare this:\n				Share on Facebook (Opens in new window)\n				Facebook\n			\n				Share on X (Opens in new window)\n				X
URL:https://www.ohioshospice.org/event/coping-with-grief-during-the-holidays-3/2023-11-15/
LOCATION:Ohio’s Hospice | Troy\, 3230 N. County Rd. 25A\, Troy\, OH\, 45373\, United States
CATEGORIES:Grief Support,Ohio's Hospice | Troy
ATTACH;FMTTYPE=image/png:https://www.ohioshospice.org/wp-content/uploads/2023/11/SM_POH_20231110__GriefSupportGroup_04_TROY_PID09528.png
ORGANIZER;CN="Ohio%E2%80%99s Hospice | Troy":MAILTO:Info@OhiosHospice.org
END:VEVENT
BEGIN:VEVENT
DTSTART;TZID=America/New_York:20231115T180000
DTEND;TZID=America/New_York:20240103T190000
DTSTAMP:20260424T060340
CREATED:20231113T174227Z
LAST-MODIFIED:20240110T210116Z
UID:10000150-1700071200-1704308400@www.ohioshospice.org
SUMMARY:Coping With Grief During the Holidays
DESCRIPTION:WHAT:\nThe holidays are stressful in the best of times. But while grieving\, this stress can be overwhelming\, and the holidays are often less than joyful and bright. Family or friend gatherings\, while a good source of support\, can be exhausting as grievers try to get through the holiday season.  \nIf you need support during this time of year\, join us at one of our holiday grief support groups. \nPathways of HopeSM Grief Counseling Centers provide a variety of services to the communities we serve. Support and education are provided by a team of counselors and social workers\, all with significant experience and expertise in assisting grieving children\, adolescents and adults. \nDAYTON:\nWednesdays\, 6-7 pm\nNovember 15\, 2023 – January 3\, 2024\nOhio’s Hospice\n7575 Paragon Ave.\nDayton\, OH 45459 \nHOW:\nJust drop in. There is no cost to attend\, and no registration is required. For more information\, please call 937.258.4991 . \n\n\nOTHER LOCATIONS AND TIMES:\nWednesdays\, 10-11 am\nNovember 15\, 2023 – January 3\, 2024\nOhio’s Hospice of Dayton\, Community Room\n324 Wilmington Ave.\nDayton\, OH 45420 \nWednesdays\, 6-7 pm\nNovember 15\, 2023 – January 3\, 2024\n(No group session on December 13.)\nOhio’s Hospice of Miami County\, Board Room\n3230 N. County Rd.\n25A\, Troy\, OH 45373 \nShare this:\n				Share on Facebook (Opens in new window)\n				Facebook\n			\n				Share on X (Opens in new window)\n				X
URL:https://www.ohioshospice.org/event/coping-with-grief-during-the-holidays-2/
LOCATION:Ohio’s Hospice\, 7575 Paragon Rd\, Dayton\, OH\, 45459\, United States
CATEGORIES:Grief Support,Ohio's Hospice
ATTACH;FMTTYPE=image/jpeg:https://www.ohioshospice.org/wp-content/uploads/2023/11/SM_POH_20231110__GriefSupportGroup_04_DAYTON_PID09528.jpg
ORGANIZER;CN="Ohio's Hospice":MAILTO:Info@OhiosHospice.org
END:VEVENT
BEGIN:VEVENT
DTSTART;TZID=America/New_York:20231122T180000
DTEND;TZID=America/New_York:20231227T190000
DTSTAMP:20260424T060340
CREATED:20231113T174400Z
LAST-MODIFIED:20240110T205431Z
UID:10000159-1700676000-1703703600@www.ohioshospice.org
SUMMARY:Coping With Grief During the Holidays
DESCRIPTION:WHAT:\nThe holidays are stressful in the best of times. But while grieving\, this stress can be overwhelming\, and the holidays are often less than joyful and bright. Family or friend gatherings\, while a good source of support\, can be exhausting as grievers try to get through the holiday season.  \nIf you need support during this time of year\, join us at one of our holiday grief support groups. \nPathways of HopeSM Grief Counseling Centers provide a variety of services to the communities we serve. Support and education are provided by a team of counselors and social workers\, all with significant experience and expertise in assisting grieving children\, adolescents and adults. \nTROY:\nWednesdays\, 6-7 pm\nNovember 15\, 2023 – January 3\, 2024\n(No group session on December 13.)\nOhio’s Hospice of Miami County\, Board Room\n3230 N. County Rd.\n25A\, Troy\, OH 45373 \nHOW:\nJust drop in. There is no cost to attend\, and no registration is required. For more information\, please call 937.258.4991 . \n\n\nOTHER LOCATIONS AND TIMES:\nWednesdays\, 10-11 am\nNovember 15\, 2023 – January 3\, 2024\nOhio’s Hospice of Dayton\, Community Room\n324 Wilmington Ave.\nDayton\, OH 45420 \nWednesdays\, 6-7 pm\nNovember 15\, 2023 – January 3\, 2024\nOhio’s Hospice\n7575 Paragon Ave.\nDayton\, OH 45459 \nShare this:\n				Share on Facebook (Opens in new window)\n				Facebook\n			\n				Share on X (Opens in new window)\n				X
URL:https://www.ohioshospice.org/event/coping-with-grief-during-the-holidays-3/2023-11-22/
LOCATION:Ohio’s Hospice | Troy\, 3230 N. County Rd. 25A\, Troy\, OH\, 45373\, United States
CATEGORIES:Grief Support,Ohio's Hospice | Troy
ATTACH;FMTTYPE=image/png:https://www.ohioshospice.org/wp-content/uploads/2023/11/SM_POH_20231110__GriefSupportGroup_04_TROY_PID09528.png
ORGANIZER;CN="Ohio%E2%80%99s Hospice | Troy":MAILTO:Info@OhiosHospice.org
END:VEVENT
BEGIN:VEVENT
DTSTART;TZID=America/New_York:20231129T180000
DTEND;TZID=America/New_York:20240103T190000
DTSTAMP:20260424T060340
CREATED:20231113T174400Z
LAST-MODIFIED:20240110T205431Z
UID:10000160-1701280800-1704308400@www.ohioshospice.org
SUMMARY:Coping With Grief During the Holidays
DESCRIPTION:WHAT:\nThe holidays are stressful in the best of times. But while grieving\, this stress can be overwhelming\, and the holidays are often less than joyful and bright. Family or friend gatherings\, while a good source of support\, can be exhausting as grievers try to get through the holiday season.  \nIf you need support during this time of year\, join us at one of our holiday grief support groups. \nPathways of HopeSM Grief Counseling Centers provide a variety of services to the communities we serve. Support and education are provided by a team of counselors and social workers\, all with significant experience and expertise in assisting grieving children\, adolescents and adults. \nTROY:\nWednesdays\, 6-7 pm\nNovember 15\, 2023 – January 3\, 2024\n(No group session on December 13.)\nOhio’s Hospice of Miami County\, Board Room\n3230 N. County Rd.\n25A\, Troy\, OH 45373 \nHOW:\nJust drop in. There is no cost to attend\, and no registration is required. For more information\, please call 937.258.4991 . \n\n\nOTHER LOCATIONS AND TIMES:\nWednesdays\, 10-11 am\nNovember 15\, 2023 – January 3\, 2024\nOhio’s Hospice of Dayton\, Community Room\n324 Wilmington Ave.\nDayton\, OH 45420 \nWednesdays\, 6-7 pm\nNovember 15\, 2023 – January 3\, 2024\nOhio’s Hospice\n7575 Paragon Ave.\nDayton\, OH 45459 \nShare this:\n				Share on Facebook (Opens in new window)\n				Facebook\n			\n				Share on X (Opens in new window)\n				X
URL:https://www.ohioshospice.org/event/coping-with-grief-during-the-holidays-3/2023-11-29/
LOCATION:Ohio’s Hospice | Troy\, 3230 N. County Rd. 25A\, Troy\, OH\, 45373\, United States
CATEGORIES:Grief Support,Ohio's Hospice | Troy
ATTACH;FMTTYPE=image/png:https://www.ohioshospice.org/wp-content/uploads/2023/11/SM_POH_20231110__GriefSupportGroup_04_TROY_PID09528.png
ORGANIZER;CN="Ohio%E2%80%99s Hospice | Troy":MAILTO:Info@OhiosHospice.org
END:VEVENT
BEGIN:VEVENT
DTSTART;TZID=America/New_York:20231206T160000
DTEND;TZID=America/New_York:20231206T180000
DTSTAMP:20260424T060340
CREATED:20231109T172854Z
LAST-MODIFIED:20231116T163740Z
UID:10000131-1701878400-1701885600@www.ohioshospice.org
SUMMARY:Ohio’s Hospice of Dayton 45th Anniversary Open House
DESCRIPTION:WHAT:\nPlease join us for a community open house as we celebrate 45 years of serving our community!  \nWHEN:\nWednesday\, December 6\, 2023\n4-6 pm \nWHERE:\nOhio’s Hospice of Dayton\nCommunity Room\n324 Wilmington Ave.\nDayton\, OH 45420 \nFor questions call 937.258.5537. \nShare this:\n				Share on Facebook (Opens in new window)\n				Facebook\n			\n				Share on X (Opens in new window)\n				X
URL:https://www.ohioshospice.org/event/ohios-hospice-of-dayton-45th-anniversary-open-house/
LOCATION:OH
CATEGORIES:Ohio's Hospice | Dayton
ATTACH;FMTTYPE=image/jpeg:https://www.ohioshospice.org/wp-content/uploads/2023/11/SM_OHOD_20231108_45thAnniversary_01_09557.jpg
ORGANIZER;CN="Ohio%E2%80%99s Hospice | Dayton":MAILTO:Info@OhiosHospice.org
END:VEVENT
BEGIN:VEVENT
DTSTART;TZID=America/New_York:20231206T180000
DTEND;TZID=America/New_York:20231227T190000
DTSTAMP:20260424T060340
CREATED:20240110T210028Z
LAST-MODIFIED:20240110T210131Z
UID:10000161-1701885600-1703703600@www.ohioshospice.org
SUMMARY:Coping With Grief During the Holidays
DESCRIPTION:WHAT:\nThe holidays are stressful in the best of times. But while grieving\, this stress can be overwhelming\, and the holidays are often less than joyful and bright. Family or friend gatherings\, while a good source of support\, can be exhausting as grievers try to get through the holiday season.  \nIf you need support during this time of year\, join us at one of our holiday grief support groups. \nPathways of HopeSM Grief Counseling Centers provide a variety of services to the communities we serve. Support and education are provided by a team of counselors and social workers\, all with significant experience and expertise in assisting grieving children\, adolescents and adults. \nTROY:\nWednesdays\, 6-7 pm\nNovember 15\, 2023 – January 3\, 2024\n(No group session on December 13.)\nOhio’s Hospice of Miami County\, Board Room\n3230 N. County Rd.\n25A\, Troy\, OH 45373 \nHOW:\nJust drop in. There is no cost to attend\, and no registration is required. For more information\, please call 937.258.4991 . \n\n\nOTHER LOCATIONS AND TIMES:\nWednesdays\, 10-11 am\nNovember 15\, 2023 – January 3\, 2024\nOhio’s Hospice of Dayton\, Community Room\n324 Wilmington Ave.\nDayton\, OH 45420 \nWednesdays\, 6-7 pm\nNovember 15\, 2023 – January 3\, 2024\nOhio’s Hospice\n7575 Paragon Ave.\nDayton\, OH 45459 \nShare this:\n				Share on Facebook (Opens in new window)\n				Facebook\n			\n				Share on X (Opens in new window)\n				X
URL:https://www.ohioshospice.org/event/coping-with-grief-during-the-holidays-3-2/
LOCATION:Ohio’s Hospice | Troy\, 3230 N. County Rd. 25A\, Troy\, OH\, 45373\, United States
CATEGORIES:Grief Support,Ohio's Hospice | Troy
ATTACH;FMTTYPE=image/png:https://www.ohioshospice.org/wp-content/uploads/2023/11/SM_POH_20231110__GriefSupportGroup_04_TROY_PID09528.png
ORGANIZER;CN="Ohio%E2%80%99s Hospice | Troy":MAILTO:Info@OhiosHospice.org
END:VEVENT
END:VCALENDAR