BEGIN:VCALENDAR
VERSION:2.0
PRODID:-//Ohio&#039;s Hospice - ECPv6.15.20//NONSGML v1.0//EN
CALSCALE:GREGORIAN
METHOD:PUBLISH
X-WR-CALNAME:Ohio&#039;s Hospice
X-ORIGINAL-URL:https://www.ohioshospice.org
X-WR-CALDESC:Events for Ohio&#039;s Hospice
REFRESH-INTERVAL;VALUE=DURATION:PT1H
X-Robots-Tag:noindex
X-PUBLISHED-TTL:PT1H
BEGIN:VTIMEZONE
TZID:America/New_York
BEGIN:DAYLIGHT
TZOFFSETFROM:-0500
TZOFFSETTO:-0400
TZNAME:EDT
DTSTART:20230312T070000
END:DAYLIGHT
BEGIN:STANDARD
TZOFFSETFROM:-0400
TZOFFSETTO:-0500
TZNAME:EST
DTSTART:20231105T060000
END:STANDARD
BEGIN:DAYLIGHT
TZOFFSETFROM:-0500
TZOFFSETTO:-0400
TZNAME:EDT
DTSTART:20240310T070000
END:DAYLIGHT
BEGIN:STANDARD
TZOFFSETFROM:-0400
TZOFFSETTO:-0500
TZNAME:EST
DTSTART:20241103T060000
END:STANDARD
BEGIN:DAYLIGHT
TZOFFSETFROM:-0500
TZOFFSETTO:-0400
TZNAME:EDT
DTSTART:20250309T070000
END:DAYLIGHT
BEGIN:STANDARD
TZOFFSETFROM:-0400
TZOFFSETTO:-0500
TZNAME:EST
DTSTART:20251102T060000
END:STANDARD
END:VTIMEZONE
BEGIN:VEVENT
DTSTART;TZID=America/New_York:20240508T173000
DTEND;TZID=America/New_York:20240626T184500
DTSTAMP:20260420T215659
CREATED:20240131T164711Z
LAST-MODIFIED:20240131T164731Z
UID:10000208-1715189400-1719427500@www.ohioshospice.org
SUMMARY:Faces of Grief - Adult Grief Group
DESCRIPTION:WHAT:\nOhio’s Hospice LifeCare Pathways of HopeSM Grief Counseling Center is hosting a seven-week adult grief group\, Faces of Grief. David Hargrave\, LSW\, CTP\, CGGS\, bereavement counseling professional with Ohio’s Hospice LifeCare\, will lead the workshop. \nWHEN:\nWednesday\, May 8\, through Wednesday\, June 26\, 2024\n5:30-6:45 pm \nWHERE:\nMarilyn B. and Mark E. Gustafson Center for Supportive Care\nOhio’s Hospice LifeCare\n1900 Akron Rd.\, Wooster\, OH 44691 \nTOPICS COVERED: \n\nMyths About Grief\nCommon and Normal Grief Reactions\nDifferent Grieving Styles\nThe Four Tasks of Mourning\nAcknowledging the Secondary Losses\nFactors That Influence the Grief Journey\nTaking Care of Yourself During the Journey of Grief\n\nThe Faces of Grief group provides a safe venue for sharing experiences\, discussing key challenges\, and learning about positive coping strategies along the grief journey. \nThese sessions are designed to help adult grievers understand the many nuances of grief\, help them with processing the pain\, and help them adjust to a world without their loved one. During the Faces of Grief group\, participants will identify and process many of the ways that grief presents itself. \nIt is not necessary to share openly in a group setting to receive support. The weekly curriculum and insights from others can generate hope and clarification for one’s own grief experience. \nREGISTRATION:\nWhile the event is free and open to the public\, registration is required. To register and for more information\, please call 330.264.4899 or email PathwaysofHope@LifeCareHospice.org and include your name\, the name of the event\, the date of the event\, and your phone number. \nShare this:\n				Share on Facebook (Opens in new window)\n				Facebook\n			\n				Share on X (Opens in new window)\n				X
URL:https://www.ohioshospice.org/event/faces-of-grief-adult-grief-group-may2024/
LOCATION:Ohio’s Hospice | Wooster\, 1900 Akron Rd.\, Wooster\, OH\, 44691\, United States
CATEGORIES:Grief Support,Ohio's Hospice | Wooster
ATTACH;FMTTYPE=image/jpeg:https://www.ohioshospice.org/wp-content/uploads/2024/01/SM_OHLC_20240131_FacesofGrief_May-June_01.jpg
ORGANIZER;CN="Ohio%E2%80%99s Hospice | Wooster":MAILTO:Info@OhiosHospice.org
END:VEVENT
BEGIN:VEVENT
DTSTART;TZID=America/New_York:20240621T090000
DTEND;TZID=America/New_York:20240621T183000
DTSTAMP:20260420T215659
CREATED:20240102T205813Z
LAST-MODIFIED:20240607T151248Z
UID:10000182-1718960400-1718994600@www.ohioshospice.org
SUMMARY:2024 Camp Pathways
DESCRIPTION:WHAT:\nA day of support and fun for grieving children and teens. \nCamp Pathways is a unique experience designed to encourage children and teens to express their feelings of grief in a safe and fun environment. Professional grief counselors and trained volunteers lead group sessions and activities. Some of the benefits of the camp are: \n\nAn opportunity to be with other kids and teens who also have experienced the death of a loved one.\nGroup support time that provides grief activities.\nLots of fun\, age appropriate outdoor activities such as swimming\, games\, and arts and crafts.\nA memorial service that honors the memory of the loved one.\n\nWHEN:\nFriday\, June 21\, 2024\n9 am-6:30 pm \nWHERE:\nCamp Joy Outdoor Education Center\n10117 Old 3C Hwy.\nClarksville\, OH 45113 \nCOST:\nFree due to generous support from our community. \nREGISTRATION:\nRegistration for camp is closed. For questions\, please give us a call at 937.258.4991. \n \nINTERESTED IN BECOMING A CAMP VOLUNTEER?\nA camp volunteer is someone safe to talk\, play\, laugh and cry with during camp. Camp volunteers are assigned one to two children for the duration of camp. To volunteer\, you must: \n\nBe 18 years of age or older.\nBe available and present on camp day from 8:30 am-4:30 pm.\nComplete an online application with two references (new volunteers only) and submit by April 30\, 2024.\nComplete an interview.\nComplete a background check and be fingerprinted.\nAttend one training/orientation session. Dates and times to be announced.\n\nPlease submit by April 30\, 2024. \nVolunteer Application \n  \nShare this:\n				Share on Facebook (Opens in new window)\n				Facebook\n			\n				Share on X (Opens in new window)\n				X
URL:https://www.ohioshospice.org/event/ohod-2024-camp-pathways/
LOCATION:Camp Joy\, 10117 Old 3C Hwy\, Clarksville\, 45113\, United States
CATEGORIES:Grief Support,Ohio's Hospice | Dayton
ATTACH;FMTTYPE=image/jpeg:https://www.ohioshospice.org/wp-content/uploads/2024/03/SM_OHOD_20240325_CampPathways.jpg
END:VEVENT
END:VCALENDAR