BEGIN:VCALENDAR
VERSION:2.0
PRODID:-//Ohio&#039;s Hospice - ECPv6.15.20//NONSGML v1.0//EN
CALSCALE:GREGORIAN
METHOD:PUBLISH
X-ORIGINAL-URL:https://www.ohioshospice.org
X-WR-CALDESC:Events for Ohio&#039;s Hospice
REFRESH-INTERVAL;VALUE=DURATION:PT1H
X-Robots-Tag:noindex
X-PUBLISHED-TTL:PT1H
BEGIN:VTIMEZONE
TZID:America/New_York
BEGIN:DAYLIGHT
TZOFFSETFROM:-0500
TZOFFSETTO:-0400
TZNAME:EDT
DTSTART:20230312T070000
END:DAYLIGHT
BEGIN:STANDARD
TZOFFSETFROM:-0400
TZOFFSETTO:-0500
TZNAME:EST
DTSTART:20231105T060000
END:STANDARD
BEGIN:DAYLIGHT
TZOFFSETFROM:-0500
TZOFFSETTO:-0400
TZNAME:EDT
DTSTART:20240310T070000
END:DAYLIGHT
BEGIN:STANDARD
TZOFFSETFROM:-0400
TZOFFSETTO:-0500
TZNAME:EST
DTSTART:20241103T060000
END:STANDARD
BEGIN:DAYLIGHT
TZOFFSETFROM:-0500
TZOFFSETTO:-0400
TZNAME:EDT
DTSTART:20250309T070000
END:DAYLIGHT
BEGIN:STANDARD
TZOFFSETFROM:-0400
TZOFFSETTO:-0500
TZNAME:EST
DTSTART:20251102T060000
END:STANDARD
END:VTIMEZONE
BEGIN:VEVENT
DTSTART;TZID=America/New_York:20241122T173000
DTEND;TZID=America/New_York:20241122T220000
DTSTAMP:20260422T224623
CREATED:20240118T165501Z
LAST-MODIFIED:20240711T175352Z
UID:10000179-1732296600-1732312800@www.ohioshospice.org
SUMMARY:2024 Keys of Life Stars of the Silver Screen
DESCRIPTION:Register Online \nWHAT:\nOhio’s Hospice brings back the popular “Keys of Life\,” a dueling piano event\, with a theme of “Stars from the Silver Screen.” The community favorite will feature an adult evening of music\, food\, beverages\, raffles and singalongs with the Cleveland Keys.  \nThe theme\, “Stars from the Silver Screen\,” brings thoughts of Hollywood’s artistic masterpieces\, as well as its biggest night when everyone dreams of going home with an Oscar. In keeping with tradition\, this will be an evening of musical entertainment and great fun as we guess the celebrities among us as they show off their favorite movie characters and costumes. Please feel free to participate and dress the part. All characters are welcome!   \nWHEN:\nFriday\, November 22\, 2024\nDoors open: 5:30 pm\nEntertainment begins at 7 pm. \nWHERE:\nBryn Du Field House\n537 Jones Rd.\nGranville\, OH 43023 \nCOST:\nTickets are $75 per person.\nDrink tickets are $5 each. \nSponsorship opportunities are available. Net proceeds from the 2024 Keys of Life benefit Ohio’s Hospice of Central Ohio patient care and services. \nHOW:\nTickets go on sale August 1\, 2024. To register online\, click the button below. Registration is required. For questions or sponsorship information\, email Adrianne Veatch at AVeatch@HospiceofCentralOhio.org or call 740.788.1503. \n  \nRegister Online \n  \nShare this:\n				Share on Facebook (Opens in new window)\n				Facebook\n			\n				Share on X (Opens in new window)\n				X
URL:https://www.ohioshospice.org/event/ohco-2024-keys-of-life/
LOCATION:Bryn Du Field House\, 537 Jones Road\, Granville\, OH\, 43023\, United States
CATEGORIES:Foundation,Ohio's Hospice | Newark
ATTACH;FMTTYPE=image/jpeg:https://www.ohioshospice.org/wp-content/uploads/2024/01/SM_OHCO_20240116_KeysofLife_Event_01_WEB.jpg
END:VEVENT
END:VCALENDAR