BEGIN:VCALENDAR
VERSION:2.0
PRODID:-//Ohio&#039;s Hospice - ECPv6.15.20//NONSGML v1.0//EN
CALSCALE:GREGORIAN
METHOD:PUBLISH
X-ORIGINAL-URL:https://www.ohioshospice.org
X-WR-CALDESC:Events for Ohio&#039;s Hospice
REFRESH-INTERVAL;VALUE=DURATION:PT1H
X-Robots-Tag:noindex
X-PUBLISHED-TTL:PT1H
BEGIN:VTIMEZONE
TZID:America/New_York
BEGIN:DAYLIGHT
TZOFFSETFROM:-0500
TZOFFSETTO:-0400
TZNAME:EDT
DTSTART:20240310T070000
END:DAYLIGHT
BEGIN:STANDARD
TZOFFSETFROM:-0400
TZOFFSETTO:-0500
TZNAME:EST
DTSTART:20241103T060000
END:STANDARD
BEGIN:DAYLIGHT
TZOFFSETFROM:-0500
TZOFFSETTO:-0400
TZNAME:EDT
DTSTART:20250309T070000
END:DAYLIGHT
BEGIN:STANDARD
TZOFFSETFROM:-0400
TZOFFSETTO:-0500
TZNAME:EST
DTSTART:20251102T060000
END:STANDARD
BEGIN:DAYLIGHT
TZOFFSETFROM:-0500
TZOFFSETTO:-0400
TZNAME:EDT
DTSTART:20260308T070000
END:DAYLIGHT
BEGIN:STANDARD
TZOFFSETFROM:-0400
TZOFFSETTO:-0500
TZNAME:EST
DTSTART:20261101T060000
END:STANDARD
END:VTIMEZONE
BEGIN:VTIMEZONE
TZID:UTC
BEGIN:STANDARD
TZOFFSETFROM:+0000
TZOFFSETTO:+0000
TZNAME:UTC
DTSTART:20240101T000000
END:STANDARD
END:VTIMEZONE
BEGIN:VEVENT
DTSTART;TZID=America/New_York:20250607T083000
DTEND;TZID=America/New_York:20250607T130000
DTSTAMP:20260423T170457
CREATED:20250113T210646Z
LAST-MODIFIED:20250520T192827Z
UID:10000423-1749285000-1749301200@www.ohioshospice.org
SUMMARY:2025 Remembrance Walk
DESCRIPTION:Register Online \nWHAT:\nThe Ohio’s Hospice 2025 Remembrance Walk offers families and friends an opportunity to honor the memory of a loved one and raise funds to support patient care and services. These include community-wide grief counseling and financial assistance for patients unable to pay for their care. \nWHEN:\nSaturday\, June 7\, 2025\nRegistration begins at 9 am.\nWalk starts at 10 am. \nWHERE:\nOhio’s Hospice\n3230 N. County Rd. 25A\nTroy\, OH 45373 \nCOST:\nIndividual Walker: $25\nVeteran or Active Military: $20\nYouth Walker (12 & under): $15\nMemory Walk Sign: $20 \nSponsorship opportunities are available. Net proceeds benefit Ohio’s Hospice patient care and services. \n \nHOW:\nTo register online\, click the button below. For more information\, please contact Candis Conley at CConley@OhiosHospice.org or 937.477.4027. For information about sponsorship opportunities\, please contact Sydney Munch at SMunch@OhiosHospice.org or 937.604.0495. \nDeadline for registration to be guaranteed a t-shirt: Friday\, May 9\, 2025\nDeadline to purchase a memory sign: Sunday\, May 25\, 2025 \nRegister Online \n  \nSPONSORED BY: \nPresenting Sponsor: \n \n Silver Sponsor: \n \n Bronze Sponsors:\nGreenville National Bank\nMessenger Press \n Supporting Sponsor:\nMcGohan Brabender \nShare this:\n				Share on Facebook (Opens in new window)\n				Facebook\n			\n				Share on X (Opens in new window)\n				X
URL:https://www.ohioshospice.org/event/2025-remembrance-walk-troy/
LOCATION:Ohio’s Hospice | Troy\, 3230 N. County Rd. 25A\, Troy\, OH\, 45373\, United States
CATEGORIES:Foundation,Ohio's Hospice | Troy,Remembrance
ATTACH;FMTTYPE=image/jpeg:https://www.ohioshospice.org/wp-content/uploads/2025/01/SM_TRY_20250113_01_Walk_Event_WEB.jpg
ORGANIZER;CN="Ohio%E2%80%99s Hospice | Troy":MAILTO:Info@OhiosHospice.org
END:VEVENT
BEGIN:VEVENT
DTSTART;TZID=UTC:20250608T140000
DTEND;TZID=UTC:20250608T150000
DTSTAMP:20260423T170457
CREATED:20250110T212858Z
LAST-MODIFIED:20250527T152054Z
UID:10000421-1749391200-1749394800@www.ohioshospice.org
SUMMARY:2025 Butterfly Release
DESCRIPTION:WHAT:\nOhio’s Hospice is holding a Celebrating Life’s Stories® 2025 Butterfly Release as a way to remember and honor special people who have touched our lives and live on in our memories. After a brief program including music\, participants will release butterflies in memory of loved ones. If you are unable to attend the event\, butterflies requested will be released on your behalf. \nWHEN:\nSunday\, June 8\, 2025\n2 pm \nWHERE:\nOhio’s Hospice\n1900 Akron Rd.\nWooster\, OH 44691\nLocated behind the main building\, next to the pond. You are welcome to bring a camping chair or blanket. \nCOST:\nButterflies are $20 each.\nSponsorship opportunities are available. Net proceeds benefit Ohio’s Hospice patient care and services. \nHOW:\nRegistration for this event is now close. For questions or sponsorship information\, email Mona Sayre at MSayre@OhiosHospice.org  or call 330.663.6490. \n \n  \nSponsored By: \n \nShare this:\n				Share on Facebook (Opens in new window)\n				Facebook\n			\n				Share on X (Opens in new window)\n				X
URL:https://www.ohioshospice.org/event/2025-butterfly-release-wooster/
LOCATION:Ohio’s Hospice | Wooster\, 1900 Akron Rd.\, Wooster\, OH\, 44691\, United States
CATEGORIES:Foundation,Ohio's Hospice | Wooster,Remembrance
ATTACH;FMTTYPE=image/jpeg:https://www.ohioshospice.org/wp-content/uploads/2025/01/SM_WST_20250110_01_Butterfly_Event_WEB.jpg
ORGANIZER;CN="Ohio%E2%80%99s Hospice | Wooster":MAILTO:Info@OhiosHospice.org
END:VEVENT
BEGIN:VEVENT
DTSTART;TZID=America/New_York:20250613T073000
DTEND;TZID=America/New_York:20250613T140000
DTSTAMP:20260423T170457
CREATED:20250114T191124Z
LAST-MODIFIED:20250515T200943Z
UID:10000424-1749799800-1749823200@www.ohioshospice.org
SUMMARY:2025 Golf Classic
DESCRIPTION:Register Online \nWHAT:\nJoin us for the Ohio’s Hospice 2025 Golf Classic. Enjoy a day of golf\, lunch\, snacks\, drinks\, and hole competitions all to support Ohio’s Hospice’s continued mission of serving patients\, families and the community. \nWHEN:\nFriday\, June 13\, 2025\nRegistration: 7:30 am\nShotgun Start: 8:30 am\nGrilled Lunch: 1 pm \nWHERE:\nThe Links at Echo Springs\n5940 Loudon Street Rd.\nJohnstown\, OH 43031 \nCOST:\n$500 team of four\nIncludes 18 holes of golf with a cart\, lunch\, drinks and snacks. \nSponsorship opportunities are available. Net proceeds benefit Ohio’s Hospice patient care and services. \nHOW:\nTo register online\, click the button below. Registration is required. For event questions\, email Adrianne Veatch at AVeatch@OhiosHospice.org or call 740.708.2983. For sponsorship information\, email Stacy Geller at SGeller@OhiosHospice.org or call 740.975.5940. First-come first-served\, event sells out fast! \n  \nRegister Online \n  \nSPONSORED BY: \nPlatinum Sponsors: \n \n \n \nGold Sponsor: \n \n \nShare this:\n				Share on Facebook (Opens in new window)\n				Facebook\n			\n				Share on X (Opens in new window)\n				X
URL:https://www.ohioshospice.org/event/2025-golf-classic-johnstown/
LOCATION:The Links at Echo Springs\, 5940 Loudon Street Rd.\, Johnstown\, OH\, 43031\, United States
CATEGORIES:Foundation,Ohio's Hospice | Newark
ATTACH;FMTTYPE=image/jpeg:https://www.ohioshospice.org/wp-content/uploads/2025/01/SM_NWK_20250113_01_GolfOuting_Event_WEB.jpg
ORGANIZER;CN="Ohio%E2%80%99s Hospice | Newark":MAILTO:Info@OhiosHospice.org
END:VEVENT
BEGIN:VEVENT
DTSTART;TZID=America/New_York:20250623T073000
DTEND;TZID=America/New_York:20250623T140000
DTSTAMP:20260423T170457
CREATED:20250114T192458Z
LAST-MODIFIED:20250527T141440Z
UID:10000425-1750663800-1750687200@www.ohioshospice.org
SUMMARY:2025 Golf Classic
DESCRIPTION:Register Online \nWHAT:\nJoin us for the Ohio’s Hospice 2025 inaugural Hope Swings Golf Classic. Enjoy a day of golf\, breakfast\, lunch\, snacks\, drinks\, and hole competitions all to support Ohio’s Hospice’s continued mission of serving patients\, families and the community. \nWHEN:\nMonday\, June 23\, 2025\nShotgun Start: 10:30 am \nWHERE:\nBrookside Country Club\n1800 Canton Ave. NW\nCanton\, OH 44708 \nCOST:\n$1\,000 team of four\nIncludes 18 holes of golf with a cart\, breakfast\, lunch\, drinks and snacks. \nSponsorship opportunities are available. Net proceeds benefit Ohio’s Hospice patient care and services. \nHOW:\nTo register online\, click the button below. For questions or sponsorship information\, email Mona Sayre at MSayre@OhiosHospice.org or call 330.663.6490. \n  \nRegister Online \n  \nHole Sponsor: \n \nShare this:\n				Share on Facebook (Opens in new window)\n				Facebook\n			\n				Share on X (Opens in new window)\n				X
URL:https://www.ohioshospice.org/event/2025-golf-classic-canton/
LOCATION:Brookside Country Club\, 1800 Canton Ave. NW\, Canton\, 44708\, United States
CATEGORIES:Foundation,Ohio's Hospice | New Philadelphia
ATTACH;FMTTYPE=image/jpeg:https://www.ohioshospice.org/wp-content/uploads/2025/01/SM_NPH_20250113_01_GolfOuting_Event_WEB.jpg
ORGANIZER;CN="Ohio's Hospice | New Philadelphia":MAILTO:Info@OhiosHospice.org
END:VEVENT
END:VCALENDAR