BEGIN:VCALENDAR
VERSION:2.0
PRODID:-//Ohio&#039;s Hospice - ECPv6.15.20//NONSGML v1.0//EN
CALSCALE:GREGORIAN
METHOD:PUBLISH
X-ORIGINAL-URL:https://www.ohioshospice.org
X-WR-CALDESC:Events for Ohio&#039;s Hospice
REFRESH-INTERVAL;VALUE=DURATION:PT1H
X-Robots-Tag:noindex
X-PUBLISHED-TTL:PT1H
BEGIN:VTIMEZONE
TZID:America/New_York
BEGIN:DAYLIGHT
TZOFFSETFROM:-0500
TZOFFSETTO:-0400
TZNAME:EDT
DTSTART:20240310T070000
END:DAYLIGHT
BEGIN:STANDARD
TZOFFSETFROM:-0400
TZOFFSETTO:-0500
TZNAME:EST
DTSTART:20241103T060000
END:STANDARD
BEGIN:DAYLIGHT
TZOFFSETFROM:-0500
TZOFFSETTO:-0400
TZNAME:EDT
DTSTART:20250309T070000
END:DAYLIGHT
BEGIN:STANDARD
TZOFFSETFROM:-0400
TZOFFSETTO:-0500
TZNAME:EST
DTSTART:20251102T060000
END:STANDARD
BEGIN:DAYLIGHT
TZOFFSETFROM:-0500
TZOFFSETTO:-0400
TZNAME:EDT
DTSTART:20260308T070000
END:DAYLIGHT
BEGIN:STANDARD
TZOFFSETFROM:-0400
TZOFFSETTO:-0500
TZNAME:EST
DTSTART:20261101T060000
END:STANDARD
END:VTIMEZONE
BEGIN:VEVENT
DTSTART;TZID=America/New_York:20250810T140000
DTEND;TZID=America/New_York:20250810T160000
DTSTAMP:20260421T155035
CREATED:20250110T213634Z
LAST-MODIFIED:20250729T161421Z
UID:10000422-1754834400-1754841600@www.ohioshospice.org
SUMMARY:2025 Butterfly Release
DESCRIPTION:Register Online \nWHAT:\nOhio’s Hospice is holding a Celebrating Life’s Stories® 2025 Butterfly Release as a way to remember and honor special people who have touched our lives and live on in our memories. After a brief program including music\, participants will release butterflies in memory of loved ones. \nWHEN:\nSunday\, August 10\, 2025\n2 pm \nWHERE:\nOhio’s Hospice\nThe Dr. Leslie Harrold Community Campus\n716 Commercial Ave. SW\nNew Philadelphia\, OH 44663\nLocated in the pavilion behind the building. You are welcome to bring a camping chair or blanket. \nCOST:\nButterflies are $20 each. \nSponsorship opportunities are available. Net proceeds benefit Ohio’s Hospice patient care and services. \nHOW:\nTo register online\, click the button below. Registration is required. For questions or sponsorship information\, email Mona Sayre at MSayre@OhiosHospice.org or call 330.663.6490. The registration deadline is Wednesday\, Aug. 6\, 2025. \n  \nRegister Online \n \nSponsored By:\nPainted Lady Sponsors:\nDr. Lindsey Moore\nPulp Juice & Smoothie Bar \nShare this:\n				Share on Facebook (Opens in new window)\n				Facebook\n			\n				Share on X (Opens in new window)\n				X
URL:https://www.ohioshospice.org/event/2025-butterfly-release-nph/
CATEGORIES:Foundation,Ohio's Hospice | New Philadelphia,Remembrance
ATTACH;FMTTYPE=image/jpeg:https://www.ohioshospice.org/wp-content/uploads/2025/01/SM_NPH_20250110_01_Butterfly_Event_WEB.jpg
END:VEVENT
BEGIN:VEVENT
DTSTART;TZID=America/New_York:20250822T090000
DTEND;TZID=America/New_York:20250822T170000
DTSTAMP:20260421T155035
CREATED:20250205T150441Z
LAST-MODIFIED:20250807T185354Z
UID:10000440-1755853200-1755882000@www.ohioshospice.org
SUMMARY:2025 Golf Classic
DESCRIPTION:Register Online \nWHAT:\nJoin us for the Ohio’s Hospice 2025 Golf Classic. Enjoy a day of golf\, lunch\, dinner\, drinks\, and games of chance all to support Ohio’s Hospice’s continued mission of serving patients\, families and the community. \nWHEN:\nFriday\, August 22\, 2025\nRegistration: 9 am\nTee Time: 10 am \nWHERE:\nThe Pines Golf Club\n1319 N. Millborne Rd.\nOrrville\, OH 44667 \nCOST:\n$560 team of four \nIncludes 18 holes of golf with a cart\, lunch\, dinner\, drinks and snacks. Net proceeds benefit Ohio’s Hospice patient care and services. \nHOW:\nTo register online\, click the button below. Registration is required. For questions or sponsorship information\, email Mona Sayre at MSayre@OhiosHospice.org  or call 330.663.6490. \n  \nRegister Online \n  \n  \nSPONSORED BY: \nPresenting Sponsor: \n \n Gold Sponsor: \n \nBeverage Cart Sponsors:\n \nMillersburg Eagles FOE 2418 \nShare this:\n				Share on Facebook (Opens in new window)\n				Facebook\n			\n				Share on X (Opens in new window)\n				X
URL:https://www.ohioshospice.org/event/2025-golf-classic-wooster/
LOCATION:The Pines Golf Club\, 1319 N. Millborne Rd.\, Orrville\, 44667
CATEGORIES:Foundation,Ohio's Hospice | Wooster
ATTACH;FMTTYPE=image/jpeg:https://www.ohioshospice.org/wp-content/uploads/2025/02/SM_WST_20250205_01_GolfOuting_Event_WEB.jpg
ORGANIZER;CN="Ohio%E2%80%99s Hospice | Wooster":MAILTO:Info@OhiosHospice.org
END:VEVENT
BEGIN:VEVENT
DTSTART;TZID=America/New_York:20250829T110000
DTEND;TZID=America/New_York:20250829T170000
DTSTAMP:20260421T155035
CREATED:20250114T194631Z
LAST-MODIFIED:20250612T195324Z
UID:10000426-1756465200-1756486800@www.ohioshospice.org
SUMMARY:2025 Golf Classic
DESCRIPTION:Register Online \nWHAT:\nJoin us for the Ohio’s Hospice 2025 Golf Classic. Enjoy a day of golf\, lunch\, snacks\, drinks\, and games of chance all to support  our continued mission of serving patients\, families and the community. \nWHEN:\nFriday\, Aug. 29\, 2025\nRegistration: 11 am\nLunch: 11:30 am\nShotgun Start: Noon\nAwards: 5 pm \nWHERE:\nElks 797 Golf Course\n2593 Rombach Ave.\nWilmington\, OH 45177 \nCOST:\n$95 per golfer\n$350 team of four\nIncludes 18 holes of golf with a cart\, lunch\, drinks and snacks. \nSponsorship opportunities are available. Net proceeds benefit Ohio’s Hospice patient care and services. \nHOW:\nTo register online\, click the button below. For questions or sponsorship information\, email Candis Conley at CConley@OhiosHospice.org or call 937.477.4027. First-come first-served\, event sells out fast! \n \nRegister Online \n  \nSPONSORED BY: \nBirdie Sponsor: \n \nBogie Sponsors:\nWalmart DC 7012\nTrustwell Living Bell Gardens Place\nFraternal Order of Eagles #4014\nUSI Insurance Services \nShare this:\n				Share on Facebook (Opens in new window)\n				Facebook\n			\n				Share on X (Opens in new window)\n				X
URL:https://www.ohioshospice.org/event/2025-golf-classic-wilmington/
LOCATION:Elks 797 Golf Course\, 2593 Rombach Ave.\, Wilmington\, OH\, 45177\, United States
CATEGORIES:Foundation,Ohio's Hospice | Wilmington
ATTACH;FMTTYPE=image/jpeg:https://www.ohioshospice.org/wp-content/uploads/2025/01/SM_WIL_20250113_01_GolfOuting_Event_WEB.jpg
ORGANIZER;CN="Ohio's Hospice | Wilmington":MAILTO:Info@OhiosHospice.org
END:VEVENT
END:VCALENDAR