BEGIN:VCALENDAR
VERSION:2.0
PRODID:-//Ohio&#039;s Hospice - ECPv6.15.20//NONSGML v1.0//EN
CALSCALE:GREGORIAN
METHOD:PUBLISH
X-ORIGINAL-URL:https://www.ohioshospice.org
X-WR-CALDESC:Events for Ohio&#039;s Hospice
REFRESH-INTERVAL;VALUE=DURATION:PT1H
X-Robots-Tag:noindex
X-PUBLISHED-TTL:PT1H
BEGIN:VTIMEZONE
TZID:America/New_York
BEGIN:DAYLIGHT
TZOFFSETFROM:-0500
TZOFFSETTO:-0400
TZNAME:EDT
DTSTART:20230312T070000
END:DAYLIGHT
BEGIN:STANDARD
TZOFFSETFROM:-0400
TZOFFSETTO:-0500
TZNAME:EST
DTSTART:20231105T060000
END:STANDARD
BEGIN:DAYLIGHT
TZOFFSETFROM:-0500
TZOFFSETTO:-0400
TZNAME:EDT
DTSTART:20240310T070000
END:DAYLIGHT
BEGIN:STANDARD
TZOFFSETFROM:-0400
TZOFFSETTO:-0500
TZNAME:EST
DTSTART:20241103T060000
END:STANDARD
BEGIN:DAYLIGHT
TZOFFSETFROM:-0500
TZOFFSETTO:-0400
TZNAME:EDT
DTSTART:20250309T070000
END:DAYLIGHT
BEGIN:STANDARD
TZOFFSETFROM:-0400
TZOFFSETTO:-0500
TZNAME:EST
DTSTART:20251102T060000
END:STANDARD
END:VTIMEZONE
BEGIN:VEVENT
DTSTART;TZID=America/New_York:20241001T123000
DTEND;TZID=America/New_York:20241001T143000
DTSTAMP:20260425T083941
CREATED:20240214T154432Z
LAST-MODIFIED:20260317T191320Z
UID:10000340-1727785800-1727793000@www.ohioshospice.org
SUMMARY:Growing Together Monthly Support Group
DESCRIPTION:WHAT:\nPathways of HopeSM Grief Counseling Center at Ohio’s Hospice hosts a monthly support group\, Growing Together. Growing Together is for those who are grieving the loss of a loved one. The group meets twice monthly to share a meal and enjoy the fellowship of others who also have experienced the loss of a loved one. \nThis time is an accessible\, respectful and confidential space. If you’re grieving the loss of a loved one or supporting a friend who is grieving\, please join us for a meal. \nWHEN:\nFirst Tuesday – Lunch Bunch – 12:30 pm\nThird Tuesday – Dinner Out – 3:30 pm \nWHERE:\nThe Barn Restaurant\n877 W. Main St.\nSmithville\, OH 44677 \nQuestions:\nFor more information\, please email NorthPathwaysofHope@OhiosHospice.org or call 800.653.4490\, option 6. \nShare this:\n				Share on Facebook (Opens in new window)\n				Facebook\n			\n				Share on X (Opens in new window)\n				X
URL:https://www.ohioshospice.org/event/growing-together-monthly-support-group-lunch/2024-10-01/
LOCATION:The Barn Restaurant\, 877 W. Main St.\, Smithville\, OH\, 44677\, United States
CATEGORIES:Grief Support,Ohio's Hospice | Wooster
ATTACH;FMTTYPE=image/jpeg:https://www.ohioshospice.org/wp-content/uploads/2024/02/SM_OHLC_20240130_GrowingTogether_01.jpg
ORGANIZER;CN="Ohio%E2%80%99s Hospice | Wooster":MAILTO:Info@OhiosHospice.org
END:VEVENT
BEGIN:VEVENT
DTSTART;TZID=America/New_York:20241002T173000
DTEND;TZID=America/New_York:20241002T184500
DTSTAMP:20260425T083941
CREATED:20240131T164829Z
LAST-MODIFIED:20250206T203724Z
UID:10000406-1727890200-1727894700@www.ohioshospice.org
SUMMARY:Faces of Grief - Adult Grief Group
DESCRIPTION:WHAT:\nOhio’s Hospice Pathways of HopeSM Grief Counseling Center in Wooster is hosting a seven-week adult grief group\, Faces of Grief. David Hargrave\, LSW\, CTP\, CGGS\, bereavement counseling professional with Ohio’s Hospice\, will lead the workshop. \nWHEN:\nWednesday\, Sept. 11\, through Wednesday\, Oct. 30\, 2024\n5:30-6:45 pm \nWHERE:\nMarilyn B. and Mark E. Gustafson Center for Supportive Care\nOhio’s Hospice\n1900 Akron Rd.\, Wooster\, OH 44691 \nTOPICS COVERED: \n\nMyths About Grief\nCommon and Normal Grief Reactions\nDifferent Grieving Styles\nThe Four Tasks of Mourning\nAcknowledging the Secondary Losses\nFactors That Influence the Grief Journey\nTaking Care of Yourself During the Journey of Grief\n\nThe Faces of Grief group provides a safe venue for sharing experiences\, discussing key challenges\, and learning about positive coping strategies along the grief journey. \nThese sessions are designed to help adult grievers understand the many nuances of grief\, help them with processing the pain\, and help them adjust to a world without their loved one. During the Faces of Grief group\, participants will identify and process many of the ways that grief presents itself. \nIt is not necessary to share openly in a group setting to receive support. The weekly curriculum and insights from others can generate hope and clarification for one’s own grief experience. \nREGISTRATION:\nWhile the event is free and open to the public\, registration is required. To register and for more information\, please call 330.264.4899 or email PathwaysofHope@LifeCareHospice.org and include your name\, the name of the event\, the date of the event\, and your phone number. \nShare this:\n				Share on Facebook (Opens in new window)\n				Facebook\n			\n				Share on X (Opens in new window)\n				X
URL:https://www.ohioshospice.org/event/faces-of-grief-adult-grief-group-sept2024/2024-10-02/
LOCATION:Ohio’s Hospice | Wooster\, 1900 Akron Rd.\, Wooster\, OH\, 44691\, United States
CATEGORIES:Grief Support,Ohio's Hospice | Wooster
ATTACH;FMTTYPE=image/jpeg:https://www.ohioshospice.org/wp-content/uploads/2024/01/SM_OHLC_20240131_FacesofGrief_Sep-Oct_01.jpg
ORGANIZER;CN="Ohio%E2%80%99s Hospice | Wooster":MAILTO:Info@OhiosHospice.org
END:VEVENT
BEGIN:VEVENT
DTSTART;TZID=America/New_York:20241009T173000
DTEND;TZID=America/New_York:20241009T184500
DTSTAMP:20260425T083941
CREATED:20240131T164829Z
LAST-MODIFIED:20250206T203724Z
UID:10000407-1728495000-1728499500@www.ohioshospice.org
SUMMARY:Faces of Grief - Adult Grief Group
DESCRIPTION:WHAT:\nOhio’s Hospice Pathways of HopeSM Grief Counseling Center in Wooster is hosting a seven-week adult grief group\, Faces of Grief. David Hargrave\, LSW\, CTP\, CGGS\, bereavement counseling professional with Ohio’s Hospice\, will lead the workshop. \nWHEN:\nWednesday\, Sept. 11\, through Wednesday\, Oct. 30\, 2024\n5:30-6:45 pm \nWHERE:\nMarilyn B. and Mark E. Gustafson Center for Supportive Care\nOhio’s Hospice\n1900 Akron Rd.\, Wooster\, OH 44691 \nTOPICS COVERED: \n\nMyths About Grief\nCommon and Normal Grief Reactions\nDifferent Grieving Styles\nThe Four Tasks of Mourning\nAcknowledging the Secondary Losses\nFactors That Influence the Grief Journey\nTaking Care of Yourself During the Journey of Grief\n\nThe Faces of Grief group provides a safe venue for sharing experiences\, discussing key challenges\, and learning about positive coping strategies along the grief journey. \nThese sessions are designed to help adult grievers understand the many nuances of grief\, help them with processing the pain\, and help them adjust to a world without their loved one. During the Faces of Grief group\, participants will identify and process many of the ways that grief presents itself. \nIt is not necessary to share openly in a group setting to receive support. The weekly curriculum and insights from others can generate hope and clarification for one’s own grief experience. \nREGISTRATION:\nWhile the event is free and open to the public\, registration is required. To register and for more information\, please call 330.264.4899 or email PathwaysofHope@LifeCareHospice.org and include your name\, the name of the event\, the date of the event\, and your phone number. \nShare this:\n				Share on Facebook (Opens in new window)\n				Facebook\n			\n				Share on X (Opens in new window)\n				X
URL:https://www.ohioshospice.org/event/faces-of-grief-adult-grief-group-sept2024/2024-10-09/
LOCATION:Ohio’s Hospice | Wooster\, 1900 Akron Rd.\, Wooster\, OH\, 44691\, United States
CATEGORIES:Grief Support,Ohio's Hospice | Wooster
ATTACH;FMTTYPE=image/jpeg:https://www.ohioshospice.org/wp-content/uploads/2024/01/SM_OHLC_20240131_FacesofGrief_Sep-Oct_01.jpg
ORGANIZER;CN="Ohio%E2%80%99s Hospice | Wooster":MAILTO:Info@OhiosHospice.org
END:VEVENT
BEGIN:VEVENT
DTSTART;TZID=America/New_York:20241014T173000
DTEND;TZID=America/New_York:20241014T184500
DTSTAMP:20260425T083941
CREATED:20240119T214723Z
LAST-MODIFIED:20240507T172010Z
UID:10000201-1728927000-1728931500@www.ohioshospice.org
SUMMARY:Bereavement Workshop: Grief\, Trauma and Loss
DESCRIPTION:WHAT:\nFor those who have experienced the death of a loved one and need grief support services\, the Pathways of HopeSM Grief Counseling Center is offering a bereavement workshop\, “Grief\, Trauma and Loss.” \nDavid Hargrave\, LSW\, CCTP\, CGCS\, bereavement counseling professional with Ohio’s Hospice\, will lead the workshop. Hargrave has significant experience and expertise in assisting children\, adolescents and adults with grief. \nParticipants will learn about symptoms and responses to loss\, differences and similarities between trauma and grief\, and tips for coping with grief. \nWHEN:\nMonday\, October 14\, 2024\n5:30-6:45 pm \nWHERE:\nOhio’s Hospice\n1900 Akron Rd.\nWooster\, Ohio 44691 \nCOST:\nFree and open to the public. \nHOW:\nWhile the event is free and open to the public\, registration is required. To register\, please call 330.264.4899 or email PathwaysOfHope@LifeCareHospice.org and include your name\, the name of the event\, the date of the event\, and your phone number. For those who wish to attend the bereavement workshop\, please note that there are limited seats available. \nShare this:\n				Share on Facebook (Opens in new window)\n				Facebook\n			\n				Share on X (Opens in new window)\n				X
URL:https://www.ohioshospice.org/event/bereavement-workshop-grief-trauma-and-loss-2024/
LOCATION:Ohio’s Hospice | Wooster\, 1900 Akron Rd.\, Wooster\, OH\, 44691\, United States
CATEGORIES:Grief Support,Ohio's Hospice | Wooster
ATTACH;FMTTYPE=image/jpeg:https://www.ohioshospice.org/wp-content/uploads/2024/01/SM_OHLC_20240130_BereavementWorkshop_Trauma_01.jpg
ORGANIZER;CN="Ohio%E2%80%99s Hospice | Wooster":MAILTO:Info@OhiosHospice.org
END:VEVENT
BEGIN:VEVENT
DTSTART;TZID=America/New_York:20241015T153000
DTEND;TZID=America/New_York:20241015T173000
DTSTAMP:20260425T083941
CREATED:20240214T151834Z
LAST-MODIFIED:20260317T191432Z
UID:10000221-1729006200-1729013400@www.ohioshospice.org
SUMMARY:Growing Together Monthly Support Group
DESCRIPTION:WHAT:\nPathways of HopeSM Grief Counseling Center at Ohio’s Hospice hosts a monthly support group\, Growing Together. Growing Together is for those who are grieving the loss of a loved one. The group meets twice monthly to share a meal and enjoy the fellowship of others who also have experienced the loss of a loved one. \n“This time is an accessible\, respectful and confidential space\,” said David Hargrave\, LSW\, CTP\, CGGS\, bereavement counseling professional with Ohio’s Hospice. “If you’re grieving the loss of a loved one or supporting a friend who is grieving\, please join us for a meal.” \nWHEN:\nFirst Tuesday – Lunch Bunch – 12:30 pm\nThird Tuesday – Dinner Out – 3:30 pm \nWHERE:\nThe Barn Restaurant\n877 W. Main St.\nSmithville\, OH 44677 \nQuestions:\nFor more information\, please email PathwaysofHope@LifeCareHospice.org or call 330.264.4899. \nShare this:\n				Share on Facebook (Opens in new window)\n				Facebook\n			\n				Share on X (Opens in new window)\n				X
URL:https://www.ohioshospice.org/event/growing-together-monthly-support-group-dinner/2024-10-15/
LOCATION:The Barn Restaurant\, 877 W. Main St.\, Smithville\, OH\, 44677\, United States
CATEGORIES:Grief Support,Ohio's Hospice | Wooster
ATTACH;FMTTYPE=image/jpeg:https://www.ohioshospice.org/wp-content/uploads/2024/02/SM_OHLC_20240130_GrowingTogether_01.jpg
ORGANIZER;CN="Ohio%E2%80%99s Hospice | Wooster":MAILTO:Info@OhiosHospice.org
END:VEVENT
BEGIN:VEVENT
DTSTART;TZID=America/New_York:20241016T173000
DTEND;TZID=America/New_York:20241016T184500
DTSTAMP:20260425T083941
CREATED:20240131T164829Z
LAST-MODIFIED:20250206T203724Z
UID:10000408-1729099800-1729104300@www.ohioshospice.org
SUMMARY:Faces of Grief - Adult Grief Group
DESCRIPTION:WHAT:\nOhio’s Hospice Pathways of HopeSM Grief Counseling Center in Wooster is hosting a seven-week adult grief group\, Faces of Grief. David Hargrave\, LSW\, CTP\, CGGS\, bereavement counseling professional with Ohio’s Hospice\, will lead the workshop. \nWHEN:\nWednesday\, Sept. 11\, through Wednesday\, Oct. 30\, 2024\n5:30-6:45 pm \nWHERE:\nMarilyn B. and Mark E. Gustafson Center for Supportive Care\nOhio’s Hospice\n1900 Akron Rd.\, Wooster\, OH 44691 \nTOPICS COVERED: \n\nMyths About Grief\nCommon and Normal Grief Reactions\nDifferent Grieving Styles\nThe Four Tasks of Mourning\nAcknowledging the Secondary Losses\nFactors That Influence the Grief Journey\nTaking Care of Yourself During the Journey of Grief\n\nThe Faces of Grief group provides a safe venue for sharing experiences\, discussing key challenges\, and learning about positive coping strategies along the grief journey. \nThese sessions are designed to help adult grievers understand the many nuances of grief\, help them with processing the pain\, and help them adjust to a world without their loved one. During the Faces of Grief group\, participants will identify and process many of the ways that grief presents itself. \nIt is not necessary to share openly in a group setting to receive support. The weekly curriculum and insights from others can generate hope and clarification for one’s own grief experience. \nREGISTRATION:\nWhile the event is free and open to the public\, registration is required. To register and for more information\, please call 330.264.4899 or email PathwaysofHope@LifeCareHospice.org and include your name\, the name of the event\, the date of the event\, and your phone number. \nShare this:\n				Share on Facebook (Opens in new window)\n				Facebook\n			\n				Share on X (Opens in new window)\n				X
URL:https://www.ohioshospice.org/event/faces-of-grief-adult-grief-group-sept2024/2024-10-16/
LOCATION:Ohio’s Hospice | Wooster\, 1900 Akron Rd.\, Wooster\, OH\, 44691\, United States
CATEGORIES:Grief Support,Ohio's Hospice | Wooster
ATTACH;FMTTYPE=image/jpeg:https://www.ohioshospice.org/wp-content/uploads/2024/01/SM_OHLC_20240131_FacesofGrief_Sep-Oct_01.jpg
ORGANIZER;CN="Ohio%E2%80%99s Hospice | Wooster":MAILTO:Info@OhiosHospice.org
END:VEVENT
BEGIN:VEVENT
DTSTART;TZID=America/New_York:20241023T173000
DTEND;TZID=America/New_York:20241023T184500
DTSTAMP:20260425T083941
CREATED:20240131T164829Z
LAST-MODIFIED:20250206T203724Z
UID:10000409-1729704600-1729709100@www.ohioshospice.org
SUMMARY:Faces of Grief - Adult Grief Group
DESCRIPTION:WHAT:\nOhio’s Hospice Pathways of HopeSM Grief Counseling Center in Wooster is hosting a seven-week adult grief group\, Faces of Grief. David Hargrave\, LSW\, CTP\, CGGS\, bereavement counseling professional with Ohio’s Hospice\, will lead the workshop. \nWHEN:\nWednesday\, Sept. 11\, through Wednesday\, Oct. 30\, 2024\n5:30-6:45 pm \nWHERE:\nMarilyn B. and Mark E. Gustafson Center for Supportive Care\nOhio’s Hospice\n1900 Akron Rd.\, Wooster\, OH 44691 \nTOPICS COVERED: \n\nMyths About Grief\nCommon and Normal Grief Reactions\nDifferent Grieving Styles\nThe Four Tasks of Mourning\nAcknowledging the Secondary Losses\nFactors That Influence the Grief Journey\nTaking Care of Yourself During the Journey of Grief\n\nThe Faces of Grief group provides a safe venue for sharing experiences\, discussing key challenges\, and learning about positive coping strategies along the grief journey. \nThese sessions are designed to help adult grievers understand the many nuances of grief\, help them with processing the pain\, and help them adjust to a world without their loved one. During the Faces of Grief group\, participants will identify and process many of the ways that grief presents itself. \nIt is not necessary to share openly in a group setting to receive support. The weekly curriculum and insights from others can generate hope and clarification for one’s own grief experience. \nREGISTRATION:\nWhile the event is free and open to the public\, registration is required. To register and for more information\, please call 330.264.4899 or email PathwaysofHope@LifeCareHospice.org and include your name\, the name of the event\, the date of the event\, and your phone number. \nShare this:\n				Share on Facebook (Opens in new window)\n				Facebook\n			\n				Share on X (Opens in new window)\n				X
URL:https://www.ohioshospice.org/event/faces-of-grief-adult-grief-group-sept2024/2024-10-23/
LOCATION:Ohio’s Hospice | Wooster\, 1900 Akron Rd.\, Wooster\, OH\, 44691\, United States
CATEGORIES:Grief Support,Ohio's Hospice | Wooster
ATTACH;FMTTYPE=image/jpeg:https://www.ohioshospice.org/wp-content/uploads/2024/01/SM_OHLC_20240131_FacesofGrief_Sep-Oct_01.jpg
ORGANIZER;CN="Ohio%E2%80%99s Hospice | Wooster":MAILTO:Info@OhiosHospice.org
END:VEVENT
BEGIN:VEVENT
DTSTART;TZID=America/New_York:20241030T173000
DTEND;TZID=America/New_York:20241030T184500
DTSTAMP:20260425T083941
CREATED:20240131T164829Z
LAST-MODIFIED:20250206T203724Z
UID:10000410-1730309400-1730313900@www.ohioshospice.org
SUMMARY:Faces of Grief - Adult Grief Group
DESCRIPTION:WHAT:\nOhio’s Hospice Pathways of HopeSM Grief Counseling Center in Wooster is hosting a seven-week adult grief group\, Faces of Grief. David Hargrave\, LSW\, CTP\, CGGS\, bereavement counseling professional with Ohio’s Hospice\, will lead the workshop. \nWHEN:\nWednesday\, Sept. 11\, through Wednesday\, Oct. 30\, 2024\n5:30-6:45 pm \nWHERE:\nMarilyn B. and Mark E. Gustafson Center for Supportive Care\nOhio’s Hospice\n1900 Akron Rd.\, Wooster\, OH 44691 \nTOPICS COVERED: \n\nMyths About Grief\nCommon and Normal Grief Reactions\nDifferent Grieving Styles\nThe Four Tasks of Mourning\nAcknowledging the Secondary Losses\nFactors That Influence the Grief Journey\nTaking Care of Yourself During the Journey of Grief\n\nThe Faces of Grief group provides a safe venue for sharing experiences\, discussing key challenges\, and learning about positive coping strategies along the grief journey. \nThese sessions are designed to help adult grievers understand the many nuances of grief\, help them with processing the pain\, and help them adjust to a world without their loved one. During the Faces of Grief group\, participants will identify and process many of the ways that grief presents itself. \nIt is not necessary to share openly in a group setting to receive support. The weekly curriculum and insights from others can generate hope and clarification for one’s own grief experience. \nREGISTRATION:\nWhile the event is free and open to the public\, registration is required. To register and for more information\, please call 330.264.4899 or email PathwaysofHope@LifeCareHospice.org and include your name\, the name of the event\, the date of the event\, and your phone number. \nShare this:\n				Share on Facebook (Opens in new window)\n				Facebook\n			\n				Share on X (Opens in new window)\n				X
URL:https://www.ohioshospice.org/event/faces-of-grief-adult-grief-group-sept2024/2024-10-30/
LOCATION:Ohio’s Hospice | Wooster\, 1900 Akron Rd.\, Wooster\, OH\, 44691\, United States
CATEGORIES:Grief Support,Ohio's Hospice | Wooster
ATTACH;FMTTYPE=image/jpeg:https://www.ohioshospice.org/wp-content/uploads/2024/01/SM_OHLC_20240131_FacesofGrief_Sep-Oct_01.jpg
ORGANIZER;CN="Ohio%E2%80%99s Hospice | Wooster":MAILTO:Info@OhiosHospice.org
END:VEVENT
END:VCALENDAR