BEGIN:VCALENDAR
VERSION:2.0
PRODID:-//Ohio&#039;s Hospice - ECPv6.15.20//NONSGML v1.0//EN
CALSCALE:GREGORIAN
METHOD:PUBLISH
X-WR-CALNAME:Ohio&#039;s Hospice
X-ORIGINAL-URL:https://www.ohioshospice.org
X-WR-CALDESC:Events for Ohio&#039;s Hospice
REFRESH-INTERVAL;VALUE=DURATION:PT1H
X-Robots-Tag:noindex
X-PUBLISHED-TTL:PT1H
BEGIN:VTIMEZONE
TZID:America/New_York
BEGIN:DAYLIGHT
TZOFFSETFROM:-0500
TZOFFSETTO:-0400
TZNAME:EDT
DTSTART:20220313T070000
END:DAYLIGHT
BEGIN:STANDARD
TZOFFSETFROM:-0400
TZOFFSETTO:-0500
TZNAME:EST
DTSTART:20221106T060000
END:STANDARD
BEGIN:DAYLIGHT
TZOFFSETFROM:-0500
TZOFFSETTO:-0400
TZNAME:EDT
DTSTART:20230312T070000
END:DAYLIGHT
BEGIN:STANDARD
TZOFFSETFROM:-0400
TZOFFSETTO:-0500
TZNAME:EST
DTSTART:20231105T060000
END:STANDARD
BEGIN:DAYLIGHT
TZOFFSETFROM:-0500
TZOFFSETTO:-0400
TZNAME:EDT
DTSTART:20240310T070000
END:DAYLIGHT
BEGIN:STANDARD
TZOFFSETFROM:-0400
TZOFFSETTO:-0500
TZNAME:EST
DTSTART:20241103T060000
END:STANDARD
END:VTIMEZONE
BEGIN:VEVENT
DTSTART;TZID=America/New_York:20231205T190000
DTEND;TZID=America/New_York:20231205T200000
DTSTAMP:20260424T080808
CREATED:20230821T193147Z
LAST-MODIFIED:20230821T193147Z
UID:10000126-1701802800-1701806400@www.ohioshospice.org
SUMMARY:Ohio's Hospice of Dayton 2023 Hope for the Holidays
DESCRIPTION:Register Online \nWHAT:\nDuring this holiday season\, we want to help you remember as well as celebrate the loved ones you have lost. Pathways of HopeSM invites you to join in Hope for the Holidays\, our holiday grief support program\, which provides grieving individuals and families an opportunity to honor loved ones who have died. Hope for the Holidays is open to any member of the community who is grieving the loss of a loved one. Participants will receive helpful insights and information about coping with holiday grief. \nWHEN:\nTuesday\, December 5\, 7 pm\nThursday\, December 7\, 7 pm \nWHERE:\nOhio’s Hospice of Dayton\, Community Room\n324 Wilmington Ave.\nDayton\, OH 45420 \nCOST:\nThe program is free of charge thanks to the generosity of our community.  \nHOW:\nTo register online\, click the button below. Because of limited seating\, reservations are required and will be accepted until November 28 or until capacity is reached\, whichever comes first. In the event of questionable weather\, please call 937.258.4991  for updates. The registration deadline is Tuesday\, November 28\, 2023. \n  \nRegister Online \n  \nShare this:\n				Share on Facebook (Opens in new window)\n				Facebook\n			\n				Share on X (Opens in new window)\n				X
URL:https://www.ohioshospice.org/event/ohod-2023-hope-for-the-holidays/2023-12-05/
CATEGORIES:Grief Support,Ohio's Hospice | Dayton
ATTACH;FMTTYPE=image/jpeg:https://www.ohioshospice.org/wp-content/uploads/2023/08/GR_OHOD_20230821_HopefortheHolidays_Events_02.jpg
END:VEVENT
BEGIN:VEVENT
DTSTART;TZID=America/New_York:20231206T160000
DTEND;TZID=America/New_York:20231206T180000
DTSTAMP:20260424T080808
CREATED:20231109T172854Z
LAST-MODIFIED:20231116T163740Z
UID:10000131-1701878400-1701885600@www.ohioshospice.org
SUMMARY:Ohio’s Hospice of Dayton 45th Anniversary Open House
DESCRIPTION:WHAT:\nPlease join us for a community open house as we celebrate 45 years of serving our community!  \nWHEN:\nWednesday\, December 6\, 2023\n4-6 pm \nWHERE:\nOhio’s Hospice of Dayton\nCommunity Room\n324 Wilmington Ave.\nDayton\, OH 45420 \nFor questions call 937.258.5537. \nShare this:\n				Share on Facebook (Opens in new window)\n				Facebook\n			\n				Share on X (Opens in new window)\n				X
URL:https://www.ohioshospice.org/event/ohios-hospice-of-dayton-45th-anniversary-open-house/
CATEGORIES:Ohio's Hospice | Dayton
ATTACH;FMTTYPE=image/jpeg:https://www.ohioshospice.org/wp-content/uploads/2023/11/SM_OHOD_20231108_45thAnniversary_01_09557.jpg
ORGANIZER;CN="Ohio%E2%80%99s Hospice | Dayton":MAILTO:Info@OhiosHospice.org
END:VEVENT
BEGIN:VEVENT
DTSTART;TZID=America/New_York:20231207T190000
DTEND;TZID=America/New_York:20231207T200000
DTSTAMP:20260424T080808
CREATED:20230821T193147Z
LAST-MODIFIED:20230821T193147Z
UID:10000127-1701975600-1701979200@www.ohioshospice.org
SUMMARY:Ohio's Hospice of Dayton 2023 Hope for the Holidays
DESCRIPTION:Register Online \nWHAT:\nDuring this holiday season\, we want to help you remember as well as celebrate the loved ones you have lost. Pathways of HopeSM invites you to join in Hope for the Holidays\, our holiday grief support program\, which provides grieving individuals and families an opportunity to honor loved ones who have died. Hope for the Holidays is open to any member of the community who is grieving the loss of a loved one. Participants will receive helpful insights and information about coping with holiday grief. \nWHEN:\nTuesday\, December 5\, 7 pm\nThursday\, December 7\, 7 pm \nWHERE:\nOhio’s Hospice of Dayton\, Community Room\n324 Wilmington Ave.\nDayton\, OH 45420 \nCOST:\nThe program is free of charge thanks to the generosity of our community.  \nHOW:\nTo register online\, click the button below. Because of limited seating\, reservations are required and will be accepted until November 28 or until capacity is reached\, whichever comes first. In the event of questionable weather\, please call 937.258.4991  for updates. The registration deadline is Tuesday\, November 28\, 2023. \n  \nRegister Online \n  \nShare this:\n				Share on Facebook (Opens in new window)\n				Facebook\n			\n				Share on X (Opens in new window)\n				X
URL:https://www.ohioshospice.org/event/ohod-2023-hope-for-the-holidays/2023-12-07/
CATEGORIES:Grief Support,Ohio's Hospice | Dayton
ATTACH;FMTTYPE=image/jpeg:https://www.ohioshospice.org/wp-content/uploads/2023/08/GR_OHOD_20230821_HopefortheHolidays_Events_02.jpg
END:VEVENT
END:VCALENDAR