BEGIN:VCALENDAR
VERSION:2.0
PRODID:-//Ohio&#039;s Hospice - ECPv6.15.20//NONSGML v1.0//EN
CALSCALE:GREGORIAN
METHOD:PUBLISH
X-WR-CALNAME:Ohio&#039;s Hospice
X-ORIGINAL-URL:https://www.ohioshospice.org
X-WR-CALDESC:Events for Ohio&#039;s Hospice
REFRESH-INTERVAL;VALUE=DURATION:PT1H
X-Robots-Tag:noindex
X-PUBLISHED-TTL:PT1H
BEGIN:VTIMEZONE
TZID:America/New_York
BEGIN:DAYLIGHT
TZOFFSETFROM:-0500
TZOFFSETTO:-0400
TZNAME:EDT
DTSTART:20230312T070000
END:DAYLIGHT
BEGIN:STANDARD
TZOFFSETFROM:-0400
TZOFFSETTO:-0500
TZNAME:EST
DTSTART:20231105T060000
END:STANDARD
BEGIN:DAYLIGHT
TZOFFSETFROM:-0500
TZOFFSETTO:-0400
TZNAME:EDT
DTSTART:20240310T070000
END:DAYLIGHT
BEGIN:STANDARD
TZOFFSETFROM:-0400
TZOFFSETTO:-0500
TZNAME:EST
DTSTART:20241103T060000
END:STANDARD
BEGIN:DAYLIGHT
TZOFFSETFROM:-0500
TZOFFSETTO:-0400
TZNAME:EDT
DTSTART:20250309T070000
END:DAYLIGHT
BEGIN:STANDARD
TZOFFSETFROM:-0400
TZOFFSETTO:-0500
TZNAME:EST
DTSTART:20251102T060000
END:STANDARD
END:VTIMEZONE
BEGIN:VEVENT
DTSTART;TZID=America/New_York:20241105T123000
DTEND;TZID=America/New_York:20241105T143000
DTSTAMP:20260425T085743
CREATED:20240214T154432Z
LAST-MODIFIED:20260317T191320Z
UID:10000341-1730809800-1730817000@www.ohioshospice.org
SUMMARY:Growing Together Monthly Support Group
DESCRIPTION:WHAT:\nPathways of HopeSM Grief Counseling Center at Ohio’s Hospice hosts a monthly support group\, Growing Together. Growing Together is for those who are grieving the loss of a loved one. The group meets twice monthly to share a meal and enjoy the fellowship of others who also have experienced the loss of a loved one. \nThis time is an accessible\, respectful and confidential space. If you’re grieving the loss of a loved one or supporting a friend who is grieving\, please join us for a meal. \nWHEN:\nFirst Tuesday – Lunch Bunch – 12:30 pm\nThird Tuesday – Dinner Out – 3:30 pm \nWHERE:\nThe Barn Restaurant\n877 W. Main St.\nSmithville\, OH 44677 \nQuestions:\nFor more information\, please email NorthPathwaysofHope@OhiosHospice.org or call 800.653.4490\, option 6. \nShare this:\n				Share on Facebook (Opens in new window)\n				Facebook\n			\n				Share on X (Opens in new window)\n				X
URL:https://www.ohioshospice.org/event/growing-together-monthly-support-group-lunch/2024-11-05/
LOCATION:The Barn Restaurant\, 877 W. Main St.\, Smithville\, OH\, 44677\, United States
CATEGORIES:Grief Support,Ohio's Hospice | Wooster
ATTACH;FMTTYPE=image/jpeg:https://www.ohioshospice.org/wp-content/uploads/2024/02/SM_OHLC_20240130_GrowingTogether_01.jpg
ORGANIZER;CN="Ohio%E2%80%99s Hospice | Wooster":MAILTO:Info@OhiosHospice.org
END:VEVENT
BEGIN:VEVENT
DTSTART;TZID=America/New_York:20241111T173000
DTEND;TZID=America/New_York:20241111T184500
DTSTAMP:20260425T085743
CREATED:20240119T215117Z
LAST-MODIFIED:20240507T172037Z
UID:10000202-1731346200-1731350700@www.ohioshospice.org
SUMMARY:Bereavement Workshop: How to Extend Comfort - Supporting Those Who Are Grieving
DESCRIPTION:WHAT:\nFor those who have experienced the death of a loved one and need grief support services\, the Pathways of HopeSM Grief Counseling Center is offering a bereavement workshop\, “How to Extend Comfort – Supporting Those Who Are Grieving.” \nDavid Hargrave\, LSW\, CCTP\, CGCS\, bereavement counseling professional with Ohio’s Hospice\, will lead the workshop. Hargrave has significant experience and expertise in assisting children\, adolescents and adults with grief. \nParticipants will learn about the difference between grieving and mourning\, what to expect when grieving\, and what helps a grieving person. \nWHEN:\nMonday\, November 11\, 2024\n5:30-6:45 pm \nWHERE:\nOhio’s Hospice\n1900 Akron Rd.\nWooster\, Ohio 44691 \nCOST:\nFree and open to the public. \nHOW:\nWhile the event is free and open to the public\, registration is required. To register\, please call 330.264.4899 or email PathwaysOfHope@LifeCareHospice.org and include your name\, the name of the event\, the date of the event\, and your phone number. For those who wish to attend the bereavement workshop\, please note that there are limited seats available. \nShare this:\n				Share on Facebook (Opens in new window)\n				Facebook\n			\n				Share on X (Opens in new window)\n				X
URL:https://www.ohioshospice.org/event/bereavement-workshop-how-to-extend-comfort-2024/
LOCATION:Ohio’s Hospice | Wooster\, 1900 Akron Rd.\, Wooster\, OH\, 44691\, United States
CATEGORIES:Grief Support,Ohio's Hospice | Wooster
ATTACH;FMTTYPE=image/jpeg:https://www.ohioshospice.org/wp-content/uploads/2024/01/SM_OHLC_20240130_BereavementWorkshop_ExtendGrief_01.jpg
ORGANIZER;CN="Ohio%E2%80%99s Hospice | Wooster":MAILTO:Info@OhiosHospice.org
END:VEVENT
BEGIN:VEVENT
DTSTART;TZID=America/New_York:20241119T153000
DTEND;TZID=America/New_York:20241119T173000
DTSTAMP:20260425T085743
CREATED:20240214T151834Z
LAST-MODIFIED:20260317T191432Z
UID:10000222-1732030200-1732037400@www.ohioshospice.org
SUMMARY:Growing Together Monthly Support Group
DESCRIPTION:WHAT:\nPathways of HopeSM Grief Counseling Center at Ohio’s Hospice hosts a monthly support group\, Growing Together. Growing Together is for those who are grieving the loss of a loved one. The group meets twice monthly to share a meal and enjoy the fellowship of others who also have experienced the loss of a loved one. \n“This time is an accessible\, respectful and confidential space\,” said David Hargrave\, LSW\, CTP\, CGGS\, bereavement counseling professional with Ohio’s Hospice. “If you’re grieving the loss of a loved one or supporting a friend who is grieving\, please join us for a meal.” \nWHEN:\nFirst Tuesday – Lunch Bunch – 12:30 pm\nThird Tuesday – Dinner Out – 3:30 pm \nWHERE:\nThe Barn Restaurant\n877 W. Main St.\nSmithville\, OH 44677 \nQuestions:\nFor more information\, please email PathwaysofHope@LifeCareHospice.org or call 330.264.4899. \nShare this:\n				Share on Facebook (Opens in new window)\n				Facebook\n			\n				Share on X (Opens in new window)\n				X
URL:https://www.ohioshospice.org/event/growing-together-monthly-support-group-dinner/2024-11-19/
LOCATION:The Barn Restaurant\, 877 W. Main St.\, Smithville\, OH\, 44677\, United States
CATEGORIES:Grief Support,Ohio's Hospice | Wooster
ATTACH;FMTTYPE=image/jpeg:https://www.ohioshospice.org/wp-content/uploads/2024/02/SM_OHLC_20240130_GrowingTogether_01.jpg
ORGANIZER;CN="Ohio%E2%80%99s Hospice | Wooster":MAILTO:Info@OhiosHospice.org
END:VEVENT
END:VCALENDAR