BEGIN:VCALENDAR
VERSION:2.0
PRODID:-//Ohio&#039;s Hospice - ECPv6.15.18//NONSGML v1.0//EN
CALSCALE:GREGORIAN
METHOD:PUBLISH
X-WR-CALNAME:Ohio&#039;s Hospice
X-ORIGINAL-URL:https://www.ohioshospice.org
X-WR-CALDESC:Events for Ohio&#039;s Hospice
REFRESH-INTERVAL;VALUE=DURATION:PT1H
X-Robots-Tag:noindex
X-PUBLISHED-TTL:PT1H
BEGIN:VTIMEZONE
TZID:America/New_York
BEGIN:DAYLIGHT
TZOFFSETFROM:-0500
TZOFFSETTO:-0400
TZNAME:EDT
DTSTART:20220313T070000
END:DAYLIGHT
BEGIN:STANDARD
TZOFFSETFROM:-0400
TZOFFSETTO:-0500
TZNAME:EST
DTSTART:20221106T060000
END:STANDARD
BEGIN:DAYLIGHT
TZOFFSETFROM:-0500
TZOFFSETTO:-0400
TZNAME:EDT
DTSTART:20230312T070000
END:DAYLIGHT
BEGIN:STANDARD
TZOFFSETFROM:-0400
TZOFFSETTO:-0500
TZNAME:EST
DTSTART:20231105T060000
END:STANDARD
BEGIN:DAYLIGHT
TZOFFSETFROM:-0500
TZOFFSETTO:-0400
TZNAME:EDT
DTSTART:20240310T070000
END:DAYLIGHT
BEGIN:STANDARD
TZOFFSETFROM:-0400
TZOFFSETTO:-0500
TZNAME:EST
DTSTART:20241103T060000
END:STANDARD
END:VTIMEZONE
BEGIN:VEVENT
DTSTART;TZID=America/New_York:20231102T160000
DTEND;TZID=America/New_York:20231102T190000
DTSTAMP:20260420T084423
CREATED:20230913T173131Z
LAST-MODIFIED:20230921T142102Z
UID:10000128-1698940800-1698951600@www.ohioshospice.org
SUMMARY:Ohio's Hospice of Miami County 40th Anniversary Open House
DESCRIPTION:WHAT:\nOhio’s Hospice of Miami County invites you to please join us for a Community Open House as we start the next chapter of serving the community. \nWHEN:\nThursday\, November 2\, 2023\n4-7 pm \nWHERE:\nOhio’s Hospice of Miami County\nCommunity Room\n3230 N. County Rd. 25A\nTroy\, OH 45373 \nADDITIONAL DETAILS:\nThere is no cost or registration needed for this open house event. For questions or more information\, please call 937.335.5191. \nShare this:\n				Share on Facebook (Opens in new window)\n				Facebook\n			\n				Share on X (Opens in new window)\n				X
URL:https://www.ohioshospice.org/event/ohios-hospice-of-miami-county-40th-anniversary-open-house/
LOCATION:Ohio’s Hospice | Troy\, 3230 N. County Rd. 25A\, Troy\, OH\, 45373\, United States
CATEGORIES:Ohio's Hospice | Troy
ATTACH;FMTTYPE=image/jpeg:https://www.ohioshospice.org/wp-content/uploads/2023/09/GR_OHMC_20230913_Anniversary_Event_01_WEB.jpg
ORGANIZER;CN="Ohio%E2%80%99s Hospice | Troy":MAILTO:Info@OhiosHospice.org
END:VEVENT
END:VCALENDAR