BEGIN:VCALENDAR
VERSION:2.0
PRODID:-//Ohio&#039;s Hospice - ECPv6.15.20//NONSGML v1.0//EN
CALSCALE:GREGORIAN
METHOD:PUBLISH
X-ORIGINAL-URL:https://www.ohioshospice.org
X-WR-CALDESC:Events for Ohio&#039;s Hospice
REFRESH-INTERVAL;VALUE=DURATION:PT1H
X-Robots-Tag:noindex
X-PUBLISHED-TTL:PT1H
BEGIN:VTIMEZONE
TZID:UTC
BEGIN:STANDARD
TZOFFSETFROM:+0000
TZOFFSETTO:+0000
TZNAME:UTC
DTSTART:20160101T000000
END:STANDARD
END:VTIMEZONE
BEGIN:VEVENT
DTSTART;TZID=UTC:20191030T083000
DTEND;TZID=UTC:20191030T110000
DTSTAMP:20260420T153519
CREATED:20190723T005954Z
LAST-MODIFIED:20230420T153507Z
UID:10000030-1572424200-1572433200@www.ohioshospice.org
SUMMARY:Matters of the Heart: Supporting Those Who Are Grieving at the Holidays
DESCRIPTION:WHO: Clergy of any religious affiliation \nWHAT: “Supporting Those Who Are Grieving at the Holidays” is a timely program led by Kim Vesey that will provide information and strategies for supporting those who are grieving during the holidays. Recommendations on ways to support grievers both as individuals and as part of the congregation will be reviewed. There will be the opportunity to plan your holiday support strategy (as a clergy\, lay person or griever) as part of the training. \nWHEN: Wednesday\, Oct. 30\, 2019\n8:30 am: Registration and breakfast\n9-11 am: Presentation \nWHERE: Ohio’s Hospice of Dayton\n324 Wilmington Ave\nDayton\, OH 45420\nEnter through the visitor entrance — straight ahead when you enter the campus. They will direct you to the Community Room upstairs. Administrative doors (upper level) are secured and require a swipe card to enter. \nREGISTER & RSVP: Registration is required. Registration is required for this event. To register\, visit https://ohioshospice.regfox.com/2019-october-matters-of-the-heart. \nAdditional information is available by contacting Kim Vesey at kvesey@hospiceofdayton.org or by calling 937.256.9507\, ext. 4447. \nShare this:\n				Share on Facebook (Opens in new window)\n				Facebook\n			\n				Share on X (Opens in new window)\n				X
URL:https://www.ohioshospice.org/event/supporting-those-who-are-grieving-during-holidays/
CATEGORIES:Education
ATTACH;FMTTYPE=image/jpeg:https://www.ohioshospice.org/wp-content/uploads/2018/07/SM_OHI_20180713_MattersoftheHeart_BLOG_v1.jpg
ORGANIZER;CN="Ohio's Hospice":MAILTO:Info@OhiosHospice.org
END:VEVENT
BEGIN:VEVENT
DTSTART;TZID=UTC:20190812T083000
DTEND;TZID=UTC:20190812T110000
DTSTAMP:20260420T153519
CREATED:20190723T004515Z
LAST-MODIFIED:20230420T153459Z
UID:10000029-1565598600-1565607600@www.ohioshospice.org
SUMMARY:Matters of the Heart: Supporting Grievers of a Traumatic Loss
DESCRIPTION:WHO: Clergy of any religious affiliation \nWHAT: Most clergy have received a hard phone call: a sudden death; a death through unnatural means such as accident\, suicide\, homicide; the death of a child. There is little question these types of death bring intense and prolonged grief reactions that can lead the comforter to feel helpless. The workshop “Supporting Grievers of a Traumatic Loss” led by Debbie Holt will educate on the normal grief process with an emphasis on the challenging grief responses to a traumatic loss. Strategies to provide effective help to these grievers will also be provided. \nWHEN: Wednesday\, Aug. 12\, 2019\n8:30 am: Registration\n9-11 am: Presentation \nWHERE: Ohio’s Hospice of Dayton\n324 Wilmington Ave\nDayton\, OH 45420\nEnter through the visitor entrance — straight ahead when you enter the campus. They will direct you to the Community Room upstairs. Administrative doors (upper level) are secured and require a swipe card to enter. \nREGISTER & RSVP: Registration is required. Click here to RSVP. \nShare this:\n				Share on Facebook (Opens in new window)\n				Facebook\n			\n				Share on X (Opens in new window)\n				X
URL:https://www.ohioshospice.org/event/matters-of-the-heart-traumatic-loss/
CATEGORIES:Education
ATTACH;FMTTYPE=image/jpeg:https://www.ohioshospice.org/wp-content/uploads/2018/07/SM_OHI_20180713_MattersoftheHeart_BLOG_v1.jpg
ORGANIZER;CN="Ohio's Hospice":MAILTO:Info@OhiosHospice.org
END:VEVENT
BEGIN:VEVENT
DTSTART;TZID=UTC:20180823T090000
DTEND;TZID=UTC:20180823T110000
DTSTAMP:20260420T153519
CREATED:20180723T165701Z
LAST-MODIFIED:20230420T153452Z
UID:10000028-1535014800-1535022000@www.ohioshospice.org
SUMMARY:Matters of the Heart August Session
DESCRIPTION:CLICK HERE TO REGISTER! \n  \n  \nClergy are invited to join us for our Matters of the Heart series. Each session discusses a topic of interest on issues related to end of life and spirituality. The sessions are presented quarterly followed by lunch and interfaith sharing. \nThe August 23 session will address ways of being present and helpful to those who are critically ill\, dying and/or grieving. We will explore methods for offering support and guidance\, while maintaining boundaries to help ensure self-care. \nWhen: August 23\, 9 – 11 am\nHot breakfast will be served at 8:30 am \nWhere: Ohio’s Hospice of Dayton – Community Room\n324 Wilmington Ave. Dayton\, OH 45420 \nRSVP: Register today for this free session by clicking here. \nShare this:\n				Share on Facebook (Opens in new window)\n				Facebook\n			\n				Share on X (Opens in new window)\n				X
URL:https://www.ohioshospice.org/event/matters-of-the-heart-august-session/
CATEGORIES:Education
ATTACH;FMTTYPE=image/jpeg:https://www.ohioshospice.org/wp-content/uploads/2018/07/SM_OHI_20180713_MattersoftheHeart_BLOG_v1.jpg
ORGANIZER;CN="Ohio's Hospice":MAILTO:Info@OhiosHospice.org
END:VEVENT
BEGIN:VEVENT
DTSTART;TZID=UTC:20171026T100000
DTEND;TZID=UTC:20171026T130000
DTSTAMP:20260420T153519
CREATED:20170522T211043Z
LAST-MODIFIED:20230420T153358Z
UID:10000023-1509012000-1509022800@www.ohioshospice.org
SUMMARY:Matters of the Heart - Identifying Spiritual Issues at End of Life
DESCRIPTION:The Matters of the Heart series include sessions that discuss topics of interest on issues related to end of life and spirituality. The sessions are presented quarterly followed by lunch and interfaith sharing. \nThe Oct. 26 topic is Identifying and Addressing Spiritual Issues at End of Life. \nWhen: October 26\, 10 am – 1 pm (lunch provided) \nWhere: Ray and Joan Kroc Community Center (Salvation Army)\n1000 N. Keowee St.\nDayton\, OH 45404 \nRSVP: Register today for this free session at https://www.ohioshospice.org/clergyevents/ \nShare this:\n				Share on Facebook (Opens in new window)\n				Facebook\n			\n				Share on X (Opens in new window)\n				X
URL:https://www.ohioshospice.org/event/matters-heart-identifying-spiritual-issues-end-life/
LOCATION:Ray and Joan Kroc Community Center\, 1000 N. Keowee St.\, Dayton\, OH\, 45404\, United States
CATEGORIES:Education
ATTACH;FMTTYPE=image/png:https://www.ohioshospice.org/wp-content/uploads/2017/05/MattersOfTheHeart_FB_OCT_600x600.png
END:VEVENT
BEGIN:VEVENT
DTSTART;TZID=UTC:20171005T090000
DTEND;TZID=UTC:20171005T160000
DTSTAMP:20260420T153519
CREATED:20170522T211426Z
LAST-MODIFIED:20230420T153331Z
UID:10000024-1507194000-1507219200@www.ohioshospice.org
SUMMARY:Clergy Retreat
DESCRIPTION:Event has been postponed till Spring 2018\nA series of day-long gatherings providing you the opportunity to replenish and refresh by using activities and exercises from the Remen Institute for the Study of Health and Illness (RISHI)\, as well as taking time for personal reflection and exploration of the beautiful grounds. There is no charge for this program. \nWhen: October 5\, 9 am – 4pm \nWhere: Transfiguration Center for\nSpiritual Renewal \n3505 Calumet Road\nLudlow Falls\, Ohio 45339\n(approximately 30 minutes north of downtown Dayton)  \nRegister: https://www.ohioshospice.org/clergyevents/ \nShare this:\n				Share on Facebook (Opens in new window)\n				Facebook\n			\n				Share on X (Opens in new window)\n				X
URL:https://www.ohioshospice.org/event/clergy-retreat-2/
LOCATION:Transfiguration Center for Spiritual Renewal\, 3505 Calumet Road\, Ludlow Falls\, OH\, 45339\, United States
CATEGORIES:Education
ATTACH;FMTTYPE=image/png:https://www.ohioshospice.org/wp-content/uploads/2017/05/RetreatFB_OCT.png
ORGANIZER;CN="Ohio's Hospice":MAILTO:Info@OhiosHospice.org
END:VEVENT
BEGIN:VEVENT
DTSTART;TZID=UTC:20170816T100000
DTEND;TZID=UTC:20170816T130000
DTSTAMP:20260420T153519
CREATED:20170522T205941Z
LAST-MODIFIED:20230420T153321Z
UID:10000022-1502877600-1502888400@www.ohioshospice.org
SUMMARY:Matters of the Heart - What is Palliative Care & Hospice?
DESCRIPTION:The Matters of the Heart series include sessions that discuss topics of interest on issues related to end of life and spirituality. The sessions are presented quarterly followed by lunch and interfaith sharing. \nThe August 16th topic is What is Palliative Care and Hospice? What’s the Difference? \nWhen: August 16\, 10 am – 1 pm (lunch provided) \nWhere: Ray and Joan Kroc Community Center (Salvation Army)\n1000 N. Keowee St.\nDayton\, OH 45404 \nRSVP: Register today for this free session at HospiceOfDayton.org/Clergy. \nShare this:\n				Share on Facebook (Opens in new window)\n				Facebook\n			\n				Share on X (Opens in new window)\n				X
URL:https://www.ohioshospice.org/event/matters-heart-palliative-care-hospice/
LOCATION:Ray and Joan Kroc Community Center\, 1000 N. Keowee St.\, Dayton\, OH\, 45404\, United States
CATEGORIES:Education
ATTACH;FMTTYPE=image/png:https://www.ohioshospice.org/wp-content/uploads/2017/05/MattersOfTheHeart_FB_AUG_600x600.png
ORGANIZER;CN="Ohio's Hospice":MAILTO:Info@OhiosHospice.org
END:VEVENT
END:VCALENDAR