BEGIN:VCALENDAR
VERSION:2.0
PRODID:-//Ohio&#039;s Hospice - ECPv6.15.18//NONSGML v1.0//EN
CALSCALE:GREGORIAN
METHOD:PUBLISH
X-WR-CALNAME:Ohio&#039;s Hospice
X-ORIGINAL-URL:https://www.ohioshospice.org
X-WR-CALDESC:Events for Ohio&#039;s Hospice
REFRESH-INTERVAL;VALUE=DURATION:PT1H
X-Robots-Tag:noindex
X-PUBLISHED-TTL:PT1H
BEGIN:VTIMEZONE
TZID:UTC
BEGIN:STANDARD
TZOFFSETFROM:+0000
TZOFFSETTO:+0000
TZNAME:UTC
DTSTART:20160101T000000
END:STANDARD
END:VTIMEZONE
BEGIN:VEVENT
DTSTART;TZID=UTC:20171114T170000
DTEND;TZID=UTC:20171114T180000
DTSTAMP:20260419T233703
CREATED:20171101T000446Z
LAST-MODIFIED:20230420T143743Z
UID:10000027-1510678800-1510682400@www.ohioshospice.org
SUMMARY:Conducting a Compassionate Advance Directive Conversation
DESCRIPTION:November marks the observance of Hospice and Palliative Care Month\, and Ohio’s Hospice affiliates are actively engaged in offering education about hospice and palliative care to other clinicians who care for those facing life-limiting illnesses. Continuing education credits are available for nurses and social workers on a variety of topics being presented by Ohio’s Hospice staff members. \nThis session’s topic is called “Conducting a Compassionate Advance Directive Conversation\,” presented by Amy Mestemaker\, MD\, Medical Director\, Ohio’s Hospice. As a result of this conference\, the learner will be able to: \n\nIdentify strategies for initiating a discussion regarding advance directives\nCompare and contrast advance directive options available in Ohio\nDiscuss what will occur if no advance directives are in place\n\nWhere: Conference Room 1 & 2\, Upper Valley Medical Center Physician Office Building\, 3130 N. Co. Rd. 25A\, Troy\, OH 45373 \nWhen: November 14th @ 5:00 pm \nContact: Call 937.815.2848 or email gstokes@ohioshospice.org \nCEU Info: 1.0 Contact Hours. This activity has been approved by the Ohio Board of Nursing through the OBN Approver at Northwest State Community College Division of Nursing (OBN-008-92-2102-082417). This activity has been approved by Ohio’s Hospice\, Inc. an approved provider of continuing education by the Ohio Counselor\, Social Worker and Marriage and Family Therapist Board. Provider Number RCS0709901. 1.0 Contact Hours will be awarded to the participant upon satisfactory completion of the activity. In order to receive CE certificate\, participants must attend the entire presentation and complete a program evaluation. This program can also be applied toward annual educational requirements for nurses. \nShare this:\n				Share on Facebook (Opens in new window)\n				Facebook\n			\n				Share on X (Opens in new window)\n				X
URL:https://www.ohioshospice.org/event/advance-directive-conversation/
LOCATION:Upper Valley Medical Center\, 3130 N. Co. Rd. 25A\, Troy\, OH\, 45373\, United States
CATEGORIES:Education
ATTACH;FMTTYPE=image/png:https://www.ohioshospice.org/wp-content/uploads/2017/10/HMEducation_BlogSized.png
END:VEVENT
BEGIN:VEVENT
DTSTART;TZID=UTC:20171109T173000
DTEND;TZID=UTC:20171109T183000
DTSTAMP:20260419T233703
CREATED:20171031T235559Z
LAST-MODIFIED:20230420T143735Z
UID:10000026-1510248600-1510252200@www.ohioshospice.org
SUMMARY:Follow the Yellow Brick Road: The Heart\, the Brains\, the Courage in the Provision of Exceptional Palliative Care
DESCRIPTION:November marks the observance of Hospice and Palliative Care Month\, and Ohio’s Hospice affiliates are actively engaged in offering education about hospice and palliative care to other clinicians who care for those facing life-limiting illnesses. Continuing education credits are available for nurses and social workers on a variety of topics being presented by Ohio’s Hospice staff members. \nThis session’s topic is called “Follow the Yellow Brick Rd…the Heart\, the Brains\, the Courage in the Provision of Exceptional Palliative Care\,” presented by Jacqueline Matthews\, RN\, MS\, AOCN\, ACHPN\, CNS\, Oncology Clinical Nurse Specialist and Vice President\, Innovative Care Solutions Palliative Care. As a result of this conference\, the learner will be able to: \n\nDifferentiate between palliative and hospice care\nIdentify patients appropriate for palliative care\nDiscuss pain management principles in chronic\, progressive illness\nDemonstrate effective communication strategies in patients with chronic\, progressive or serious illness\nDescribe concepts of total pain\nIdentify barriers to effective palliative care\n\nWhere: Ohio’s Hospice of Butler & Warren Counties\, 5940 Long Meadow Dr.\, Franklin\, OH 45005 \nWhen: November 9th @ 5:30 pm \nContact: Call 937.603.9922 or email kparziale@ohioshospice.org \nCEU Info: 1.0 Contact Hour will be awarded to the participant upon satisfactory completion of the activity. In order to receive a CE certificate\, participants must attend the entire presentation and complete a program evaluation. This activity has been approved by the Ohio Board of Nursing through the OBN Approver at Northwest State Community Collebe Division of Nursing OBN-008-92-1069-091416. This activity has been approved by Ohio’s Hospice\, Inc.\, an approved provider of continuing education by the Ohio Counselor\, Social Worker and Marriage and Family Therapist Board. Provider Number RCS070901. \nShare this:\n				Share on Facebook (Opens in new window)\n				Facebook\n			\n				Share on X (Opens in new window)\n				X
URL:https://www.ohioshospice.org/event/follow-yellow-brick-road/
LOCATION:Ohio’s Hospice | Franklin\, 5940 Long Meadow Dr.\, Franklin\, OH\, 45005\, United States
CATEGORIES:Education
ATTACH;FMTTYPE=image/png:https://www.ohioshospice.org/wp-content/uploads/2017/10/HMEducation_BlogSized.png
ORGANIZER;CN="Ohio's Hospice | Franklin":MAILTO:Info@OhiosHospice.org
END:VEVENT
BEGIN:VEVENT
DTSTART;TZID=UTC:20171108T170000
DTEND;TZID=UTC:20171108T180000
DTSTAMP:20260419T233703
CREATED:20171031T234122Z
LAST-MODIFIED:20230420T143722Z
UID:10000025-1510160400-1510164000@www.ohioshospice.org
SUMMARY:Coping With Grief at the Holidays
DESCRIPTION:November marks the observance of Hospice and Palliative Care Month\, and Ohio’s Hospice affiliates are actively engaged in offering education about hospice and palliative care to other clinicians who care for those facing life-limiting illnesses. Continuing education credits are available for nurses and social workers on a variety of topics being presented by Ohio’s Hospice staff members. \nThis session’s topic is called “Coping With Grief at the Holidays\,” presented by Monica DuShane\, MSW\, LISW-S\, ACHP-SW\, Bereavement Counseling Professional. As a result of this conference\, the learner will be able to: \n\nUnderstand challenges the holidays present for grieving people\nUnderstand challenges professional caregivers face when providing end-of-life care during holidays\nExplore coping strategies designed to minimize stress\n\nWhere: Ohio’s Community Mercy Hospice\, Mitchell Thomas Center\, 100 W. McCreight Ave.\, Suite 400\, Springfield\, OH 45504 \nWhen: November 8th @ 5 pm \nContact: Call 937.751.7448 or email cshapiro@communitymercy.org \nCEU Info: 1.0 Contact Hours. This activity has been approved by Ohio’s Hospice\, Inc.\, an approved provider of continuing education by the Ohio Counselor\, Social Worker\, and Marriage and Family Therapist Board. Provider Number RCS070901. In order to receive a CE certificate\, participants must attend the entire presentation and complete a program evaluation. This program can also be applied toward annual educational requirements for nurses. \nShare this:\n				Share on Facebook (Opens in new window)\n				Facebook\n			\n				Share on X (Opens in new window)\n				X
URL:https://www.ohioshospice.org/event/grief-holidays-education/
LOCATION:Ohio’s Hospice | Springfield\, 100 W. McCreight Ave.\, Suite 400\, Springfield\, OH\, 45504\, United States
CATEGORIES:Education,Grief Support
ATTACH;FMTTYPE=image/png:https://www.ohioshospice.org/wp-content/uploads/2017/10/HMEducation_BlogSized.png
END:VEVENT
BEGIN:VEVENT
DTSTART;TZID=UTC:20171108T170000
DTEND;TZID=UTC:20171108T180000
DTSTAMP:20260419T233703
CREATED:20171031T231700Z
LAST-MODIFIED:20230420T143654Z
UID:10000019-1510160400-1510164000@www.ohioshospice.org
SUMMARY:Compassion Fatigue/Vicarious Trauma (When Caring Hurts)
DESCRIPTION:November marks the observance of Hospice and Palliative Care Month\, and Ohio’s Hospice affiliates are actively engaged in offering education about hospice and palliative care to other clinicians who care for those facing life-limiting illnesses. Continuing education credits are available for nurses and social workers on a variety of topics being presented by Ohio’s Hospice staff members. \nThis session’s topic is called “Compassion Fatigue/Vicarious Trauma (When Caring Hurts)\,” presented by Mark Curtis\, APRN\, Innovative Care Solutions. As a result of this conference\, the learner will be able to: \n\nIdentify the parts of the brain affected by trauma\nIdentify signs and symptoms of compassion\, fatigue and vicarious trauma\nIdentify healthy coping strategies to prevent or decrease the negative effects of compassion fatigue and vicarious trauma\n\nWhere: Ohio’s Hospice of Dayton\, Community Room\, 324 Wilmington Ave.\, Dayton\, OH 45420 \nWhen: November 8th @ 5 pm \nContact: Call 937.723.0903 or email rcline@ohioshospice.org or sbirdsall@ohioshospice.org \nCEU Info: 1.0 Contact Hours. This activity has been approved by the Ohio Board of Nursing through the OBN Approver at Northwest State Community College Division of Nursing (OBN-008-92-2102-082417). This activity has been approved by Ohio’s Hospice\, Inc.\, an approved provider of continuing education by the Ohio Counselor\, Social Worker and Marriage and Family Therapist Board. Provider Number RCS070901. In order to receive a CE certificate\, participants must attend the entire presentation and complete a program evaluation. \nShare this:\n				Share on Facebook (Opens in new window)\n				Facebook\n			\n				Share on X (Opens in new window)\n				X
URL:https://www.ohioshospice.org/event/compassion-fatiguevicarious-trauma-caring-hurts/
LOCATION:OH
CATEGORIES:Education
ATTACH;FMTTYPE=image/png:https://www.ohioshospice.org/wp-content/uploads/2017/10/HMEducation_BlogSized.png
END:VEVENT
BEGIN:VEVENT
DTSTART;TZID=UTC:20171101T170000
DTEND;TZID=UTC:20171101T180000
DTSTAMP:20260419T233703
CREATED:20171031T230725Z
LAST-MODIFIED:20230420T143704Z
UID:10000020-1509555600-1509559200@www.ohioshospice.org
SUMMARY:Recognizing the Progression & Improving Outcomes in Heart Failure
DESCRIPTION:November marks the observance of Hospice and Palliative Care Month\, and Ohio’s Hospice affiliates are actively engaged in offering education about hospice and palliative care to other clinicians who care for those facing life-limiting illnesses. Continuing education credits are available for nurses and social workers on a variety of topics being presented by Ohio’s Hospice staff members. \nThis session’s topic is called “Recognizing the Progression & Improving Outcomes in Heart Failure\,” presented by Lynda Weide\, MSN\, RN\, CHPN\, Cardiac Focused Care Clinician. As a result of this conference\, the learner will be able to: \n\nIdentify the anticipated progression of heart failure\nDiscuss the community resources available for the end-stage heart failure patient to promote readmission reduction\n\nWhere: Communitty Care Hospice\, 1669 Rombach Ave. Wilmington Ohio 45277 \nWhen: November 1st @ 5 pm \nContact: Call Community Care Hospice at 937.382.5400 to learn more and register \nCEU Info: 1.0 Contact Hours. This activity has been approved by the Ohio Board of Nursing through the OBN Approver at Northwest State Community College Division of Nursing (OBN-008-92-2102-082417). This activity has been approved by Ohio’s Hospice\, Inc.\, an approved provider of continuing education by the Ohio Counselor\, Social Worker\, and Marriage and Family Therapist Board. Provider Number RCS070901 1.0. Contact hours will be awarded to the participant upon satisfactory completion of the activity. \nShare this:\n				Share on Facebook (Opens in new window)\n				Facebook\n			\n				Share on X (Opens in new window)\n				X
URL:https://www.ohioshospice.org/event/recognizing-progression-improving-outcomes-heart-failure/
LOCATION:Ohio’s Hospice | Wilmington\, 1669 Rombach Ave.\, Wilmington\, OH\, 45177\, United States
CATEGORIES:Education
ATTACH;FMTTYPE=image/png:https://www.ohioshospice.org/wp-content/uploads/2017/10/HMEducation_BlogSized.png
END:VEVENT
END:VCALENDAR