BEGIN:VCALENDAR
VERSION:2.0
PRODID:-//Ohio&#039;s Hospice - ECPv6.15.20//NONSGML v1.0//EN
CALSCALE:GREGORIAN
METHOD:PUBLISH
X-WR-CALNAME:Ohio&#039;s Hospice
X-ORIGINAL-URL:https://www.ohioshospice.org
X-WR-CALDESC:Events for Ohio&#039;s Hospice
REFRESH-INTERVAL;VALUE=DURATION:PT1H
X-Robots-Tag:noindex
X-PUBLISHED-TTL:PT1H
BEGIN:VTIMEZONE
TZID:America/New_York
BEGIN:DAYLIGHT
TZOFFSETFROM:-0500
TZOFFSETTO:-0400
TZNAME:EDT
DTSTART:20210314T070000
END:DAYLIGHT
BEGIN:STANDARD
TZOFFSETFROM:-0400
TZOFFSETTO:-0500
TZNAME:EST
DTSTART:20211107T060000
END:STANDARD
BEGIN:DAYLIGHT
TZOFFSETFROM:-0500
TZOFFSETTO:-0400
TZNAME:EDT
DTSTART:20220313T070000
END:DAYLIGHT
BEGIN:STANDARD
TZOFFSETFROM:-0400
TZOFFSETTO:-0500
TZNAME:EST
DTSTART:20221106T060000
END:STANDARD
BEGIN:DAYLIGHT
TZOFFSETFROM:-0500
TZOFFSETTO:-0400
TZNAME:EDT
DTSTART:20230312T070000
END:DAYLIGHT
BEGIN:STANDARD
TZOFFSETFROM:-0400
TZOFFSETTO:-0500
TZNAME:EST
DTSTART:20231105T060000
END:STANDARD
BEGIN:DAYLIGHT
TZOFFSETFROM:-0500
TZOFFSETTO:-0400
TZNAME:EDT
DTSTART:20240310T070000
END:DAYLIGHT
BEGIN:STANDARD
TZOFFSETFROM:-0400
TZOFFSETTO:-0500
TZNAME:EST
DTSTART:20241103T060000
END:STANDARD
END:VTIMEZONE
BEGIN:VEVENT
DTSTART;TZID=America/New_York:20230628T090000
DTEND;TZID=America/New_York:20230630T160000
DTSTAMP:20260423T151527
CREATED:20230501T195448Z
LAST-MODIFIED:20240515T141234Z
UID:10000087-1687942800-1688140800@www.ohioshospice.org
SUMMARY:Ohio's Hospice of Miami County 2023 Camp Pathways
DESCRIPTION:WHAT:\nCamp Pathways: Miami County\nSummer camp for children and teens who are grieving the loss of a loved one. \nCamp Pathways is a unique experience designed to encourage children and teens to express their feelings of grief in a safe and fun environment. Trained volunteers lead group sessions and activities. Some of the benefits of the camp are: \n\nAn opportunity to be with other kids and teens who also have experienced the death of a loved one.\nLots of fun\, age appropriate outdoor activities such as swimming\, games\, and arts and crafts.\nA memorial service that honors the memory of the loved one.\n\nWHEN:\nJune 28-30\, 2023\, 9 am-4 pm \nWHERE:\nIndian Hills 4H Camp\n8212 Lauver Rd.\nPleasant Hill\, OH 45359 \nCOST:\n$15 for 1 camper\n$20 for 2 sibling campers\n$30 for 3 or more sibling campers \nFinancial aid is available and made possible by generous community support from the Ohio’s Hospice Foundation.\nIf your child/teen will need a ride to camp\, please call 937.573.2114 to inquire. \nREGISTRATION:\nTo ensure your space\, you must pre-register by calling 937.573.2114 or click the link below.\nPlease register by Monday\, June 12\, 2023.\nRegister Online \n  \nINTERESTED IN BECOMING A CAMP VOLUNTEER?\nA camp volunteer is someone safe to talk\, play\, laugh and cry with during camp. Camp volunteers are assigned one to two children for the duration of camp. To volunteer\, you must: \n\nBe 18 years of age or older.\nBe available and present on camp days from 8:30 am-4:30 pm.\nComplete an online application with two references (new volunteers only) and submit by April 28\, 2023.\nComplete an interview.\nComplete a background check and be fingerprinted.\nAttend one training/orientation session held at the Pathways of HopeSM Grief Counseling Center located at 3230 N. County Rd. 25A\, Troy\, OH 45373. Dates and times to be announced.\n\nPlease submit by April 28\, 2023. \nVolunteer Application \n  \nShare this:\n				Share on Facebook (Opens in new window)\n				Facebook\n			\n				Share on X (Opens in new window)\n				X
URL:https://www.ohioshospice.org/event/ohios-hospice-of-miami-county-2023-camp-pathways/
LOCATION:Indian Hills 4H Camp\, 8212 Lauver Rd.\, Pleasant Hill\, OH\, 45359\, United States
CATEGORIES:Grief Support,Ohio's Hospice | Troy
ATTACH;FMTTYPE=image/jpeg:https://www.ohioshospice.org/wp-content/uploads/2023/05/SM_OHMC_20230309_CampPathways__01-1.jpg
ORGANIZER;CN="Ohio%E2%80%99s Hospice | Troy":MAILTO:Info@OhiosHospice.org
END:VEVENT
BEGIN:VEVENT
DTSTART;TZID=America/New_York:20221217T140000
DTEND;TZID=America/New_York:20221217T150000
DTSTAMP:20260423T151527
CREATED:20221121T201902Z
LAST-MODIFIED:20230420T154812Z
UID:10000048-1671285600-1671289200@www.ohioshospice.org
SUMMARY:2022 Hope for the Holidays
DESCRIPTION:WHAT: \nDuring this holiday season\, we want to help you remember as well as celebrate the loved ones you have lost. Pathways of HopeSM invites you to join in Hope for the Holidays\, our holiday grief support program\, which provides grieving individuals and families an opportunity to honor loved ones who have died. Hope for the Holidays is open to any member of the community who is grieving the loss of a loved one. Participants will receive helpful insights and information about coping with holiday grief. \nWHEN: \nSaturday\, December 17\, 2022\n2 pm \nWHERE: \nFirst Presbyterian Church of Troy\n20 S. Walnut St.\nTroy\, OH 45373 \nHOW: \nTo register online\, click the button below. Because of limited seating\, reservations are required and will be accepted until December 9 or until capacity is reached\, whichever comes first. The program is free of charge thanks to the generosity of the community. In the event of questionable weather\, please call 937.573.2114 for updates. \n  \nRegister Online \nThe registration deadline is December 9\, 2022. \nShare this:\n				Share on Facebook (Opens in new window)\n				Facebook\n			\n				Share on X (Opens in new window)\n				X
URL:https://www.ohioshospice.org/event/2022-hope-for-the-holidays-7/
LOCATION:First Presbyterian Church of Troy\, 20 S. Walnut St.\, Troy\, OH\, 45373\, United States
CATEGORIES:Grief Support
ATTACH;FMTTYPE=image/jpeg:https://www.ohioshospice.org/wp-content/uploads/2022/11/GR_OHMC_20221028_HopefortheHolidays_Events_023-FWYAdy.tmp_.jpg
ORGANIZER;CN="Ohio%E2%80%99s Hospice | Troy":MAILTO:Info@OhiosHospice.org
END:VEVENT
BEGIN:VEVENT
DTSTART;TZID=America/New_York:20220925T140000
DTEND;TZID=America/New_York:20220925T170000
DTSTAMP:20260423T151527
CREATED:20220829T201823Z
LAST-MODIFIED:20230420T154410Z
UID:10000010-1664114400-1664125200@www.ohioshospice.org
SUMMARY:Fall Memorial Service 2022
DESCRIPTION:WHAT:\nWe invite you\, your friends and your family to come and enjoy this beautiful fall memorial event in memory of your loved one(s). We will honor each person being remembered by gently placing a flower in the pond during the reading of names. Packaged refreshments will be available at the conclusion of our service. Various arts and crafts will be provided for children. \nWHEN:\nSunday\, September 25\, 2022\, 2 pm \nWHERE:\nStillwater Prairie Reserve\n9750 W. State Rt. 185\nCovington\, OH 45318 \nCOST:\nThis event is free to the community thanks to generous support from our donors. \nREGISTRATION:\nFor more information or to register\, please call Angela Timpson at Pathways of Hope℠ at 937.573.2114. Please register by Friday\, September 19\, 2022. \nShare this:\n				Share on Facebook (Opens in new window)\n				Facebook\n			\n				Share on X (Opens in new window)\n				X
URL:https://www.ohioshospice.org/event/fall-memorial-service-2022/
LOCATION:Stillwater Prairie Reserve\, 9750 OH-185\, Covington\, OH\, 45318\, United States
CATEGORIES:Grief Support
ATTACH;FMTTYPE=image/jpeg:https://www.ohioshospice.org/wp-content/uploads/2022/08/SM_OHMC_20220811_FallMemorialService_01_07269-CkwzAO.tmp_.jpg
ORGANIZER;CN="Ohio%E2%80%99s Hospice | Troy":MAILTO:Info@OhiosHospice.org
END:VEVENT
BEGIN:VEVENT
DTSTART;TZID=America/New_York:20220813T130000
DTEND;TZID=America/New_York:20220813T150000
DTSTAMP:20260423T151527
CREATED:20220718T201808Z
LAST-MODIFIED:20230420T154225Z
UID:10000004-1660395600-1660402800@www.ohioshospice.org
SUMMARY:2022 Ohio’s Hospice of Miami County Butterfly Release
DESCRIPTION:WHAT:\nOhio’s Hospice of Miami County is holding a Celebrating Life’s Stories® Butterfly Release event as a way to remember and honor special people who have touched our lives and who live on in our memories. At the conclusion of the event\, participants will release butterflies in memory of loved ones. If you are unable to attend the event\, butterflies requested will be released on your behalf. \nWHEN:\nSaturday\, August 13\, 2022\n1-3 pm \nWHERE:\nOhio’s Hospice of Miami County\n3230 N. County Rd. 25A | Troy\, OH\, 45373 \nHOW:\nTo register online\, click the button below. Registration is required. Butterflies are $15 each. Net proceeds from this event benefit Ohio’s Hospice of Miami County patient care and services. For more information\, email Ryan Gathard at RGathard@OhiosHospice.org or call 937.269.5245. The registration deadline is Saturday\, Aug. 13\, 2022. \n  \nRegister Online \n  \nShare this:\n				Share on Facebook (Opens in new window)\n				Facebook\n			\n				Share on X (Opens in new window)\n				X
URL:https://www.ohioshospice.org/event/2022-ohios-hospice-of-miami-county-butterfly-release/
LOCATION:Ohio’s Hospice | Troy\, 3230 N. County Rd. 25A\, Troy\, OH\, 45373\, United States
CATEGORIES:Foundation
ATTACH;FMTTYPE=image/jpeg:https://www.ohioshospice.org/wp-content/uploads/2022/07/SM_OHMC_20220210_ButterflyRelease_01_06166-scaled-BQ44OL.tmp_.jpg
ORGANIZER;CN="Ohio%E2%80%99s Hospice | Troy":MAILTO:Info@OhiosHospice.org
END:VEVENT
END:VCALENDAR