BEGIN:VCALENDAR
VERSION:2.0
PRODID:-//Ohio&#039;s Hospice - ECPv6.15.20//NONSGML v1.0//EN
CALSCALE:GREGORIAN
METHOD:PUBLISH
X-ORIGINAL-URL:https://www.ohioshospice.org
X-WR-CALDESC:Events for Ohio&#039;s Hospice
REFRESH-INTERVAL;VALUE=DURATION:PT1H
X-Robots-Tag:noindex
X-PUBLISHED-TTL:PT1H
BEGIN:VTIMEZONE
TZID:America/New_York
BEGIN:DAYLIGHT
TZOFFSETFROM:-0500
TZOFFSETTO:-0400
TZNAME:EDT
DTSTART:20220313T070000
END:DAYLIGHT
BEGIN:STANDARD
TZOFFSETFROM:-0400
TZOFFSETTO:-0500
TZNAME:EST
DTSTART:20221106T060000
END:STANDARD
BEGIN:DAYLIGHT
TZOFFSETFROM:-0500
TZOFFSETTO:-0400
TZNAME:EDT
DTSTART:20230312T070000
END:DAYLIGHT
BEGIN:STANDARD
TZOFFSETFROM:-0400
TZOFFSETTO:-0500
TZNAME:EST
DTSTART:20231105T060000
END:STANDARD
BEGIN:DAYLIGHT
TZOFFSETFROM:-0500
TZOFFSETTO:-0400
TZNAME:EDT
DTSTART:20240310T070000
END:DAYLIGHT
BEGIN:STANDARD
TZOFFSETFROM:-0400
TZOFFSETTO:-0500
TZNAME:EST
DTSTART:20241103T060000
END:STANDARD
END:VTIMEZONE
BEGIN:VTIMEZONE
TZID:America/New_York
BEGIN:DAYLIGHT
TZOFFSETFROM:-0500
TZOFFSETTO:-0400
TZNAME:EDT
DTSTART:20210314T070000
END:DAYLIGHT
BEGIN:STANDARD
TZOFFSETFROM:-0400
TZOFFSETTO:-0500
TZNAME:EST
DTSTART:20211107T060000
END:STANDARD
BEGIN:DAYLIGHT
TZOFFSETFROM:-0500
TZOFFSETTO:-0400
TZNAME:EDT
DTSTART:20220313T070000
END:DAYLIGHT
BEGIN:STANDARD
TZOFFSETFROM:-0400
TZOFFSETTO:-0500
TZNAME:EST
DTSTART:20221106T060000
END:STANDARD
BEGIN:DAYLIGHT
TZOFFSETFROM:-0500
TZOFFSETTO:-0400
TZNAME:EDT
DTSTART:20230312T070000
END:DAYLIGHT
BEGIN:STANDARD
TZOFFSETFROM:-0400
TZOFFSETTO:-0500
TZNAME:EST
DTSTART:20231105T060000
END:STANDARD
END:VTIMEZONE
BEGIN:VEVENT
DTSTART;TZID=America/New_York:20230820T133000
DTEND;TZID=America/New_York:20230820T160000
DTSTAMP:20260421T153947
CREATED:20230223T205543Z
LAST-MODIFIED:20230808T165619Z
UID:10000059-1692538200-1692547200@www.ohioshospice.org
SUMMARY:Ohio's Hospice Loving Care 2023 Butterfly Release
DESCRIPTION:WHAT:\nOhio’s Hospice Loving Care is holding a Celebrating Life’s Stories® 2023 Butterfly Release as a way to remember and honor special people who have touched our lives and live on in our memories. After a brief program including music\, participants will release butterflies in memory of loved ones. If you are unable to attend the event\, butterflies requested will be released on your behalf. \nWHEN:\nSunday\, August 20\, 2023\nRegistration: 1:30 pm\nCeremony and Butterfly Release: 2 pm \nWHERE:\nFrench Hen Farm\n14458 Fladt Rd.\nMarysville\, OH 43040 \nCOST:\nButterflies are $15 each.\nSponsorship opportunities are available. Net proceeds from the 2023 Butterfly Release benefit Ohio’s Hospice Loving Care patient care and services. \nHOW:\nRegistration is closed for this event. For questions or more information\, please email Dee Weekly at DWeekly@OhiosHospice.org or call 740.788.1503.
URL:https://www.ohioshospice.org/event/ohios-hospice-loving-care-2023-butterfly-release/
LOCATION:French Hen Farm\, 14458 Fladt Rd.\, Marysville\, OH\, 43040\, United States
CATEGORIES:Foundation,Ohio's Hospice | Marysville
ATTACH;FMTTYPE=image/jpeg:https://www.ohioshospice.org/wp-content/uploads/2023/02/SM_OHLV_20220517_ButterflyRelease_01_08310.jpg
ORGANIZER;CN="Ohio%E2%80%99s Hospice | Marysville":MAILTO:Info@OhiosHospice.org
END:VEVENT
BEGIN:VEVENT
DTSTART;TZID=America/New_York:20220807T140000
DTEND;TZID=America/New_York:20220807T160000
DTSTAMP:20260421T153947
CREATED:20220713T210401Z
LAST-MODIFIED:20230420T154146Z
UID:10000001-1659880800-1659888000@www.ohioshospice.org
SUMMARY:2022 Ohio’s Hospice Loving Care Butterfly Release
DESCRIPTION:WHAT:\nOhio’s Hospice Loving Care is holding a Celebrating Life’s Stories® Butterfly Release event as a way to remember and honor special people who have touched our lives and who live on in our memories. At the conclusion of the event\, participants will release butterflies in memory of loved ones. If you are unable to attend the event\, butterflies requested will be released on your behalf. \nWHEN:\nSunday\, August 7\, 2022\n2-4 pm \nWHERE:\nFrench Hen Farm\n14458 Fladt Rd. | Marysville\, OH 43040 \nHOW:\nTo register online\, click the button below. Registration is required. Butterflies are $15 each. Net proceeds from this event benefit Ohio’s Hospice Loving Care patient care and services. For more information\, email Dee Weekly at DWeekly@HospiceofCentralOhio.org or call 740.788.1503. The registration deadline is Friday\, July 22\, 2022. \n  \nRegister Online \n  \nShare this:\n				Share on Facebook (Opens in new window)\n				Facebook\n			\n				Share on X (Opens in new window)\n				X
URL:https://www.ohioshospice.org/event/2022-ohios-hospice-loving-care-butterfly-release/
LOCATION:French Hen Farm\, 14458 Fladt Rd.\, Marysville\, OH\, 43040\, United States
CATEGORIES:Foundation
ATTACH;FMTTYPE=image/jpeg:https://www.ohioshospice.org/wp-content/uploads/2022/07/SM_OHLV_20220210_ButterflyRelease_01_06043-scaled-MHRUaA.tmp_.jpg
END:VEVENT
END:VCALENDAR