BEGIN:VCALENDAR
VERSION:2.0
PRODID:-//Ohio&#039;s Hospice - ECPv6.15.20//NONSGML v1.0//EN
CALSCALE:GREGORIAN
METHOD:PUBLISH
X-WR-CALNAME:Ohio&#039;s Hospice
X-ORIGINAL-URL:https://www.ohioshospice.org
X-WR-CALDESC:Events for Ohio&#039;s Hospice
REFRESH-INTERVAL;VALUE=DURATION:PT1H
X-Robots-Tag:noindex
X-PUBLISHED-TTL:PT1H
BEGIN:VTIMEZONE
TZID:America/New_York
BEGIN:DAYLIGHT
TZOFFSETFROM:-0500
TZOFFSETTO:-0400
TZNAME:EDT
DTSTART:20210314T070000
END:DAYLIGHT
BEGIN:STANDARD
TZOFFSETFROM:-0400
TZOFFSETTO:-0500
TZNAME:EST
DTSTART:20211107T060000
END:STANDARD
BEGIN:DAYLIGHT
TZOFFSETFROM:-0500
TZOFFSETTO:-0400
TZNAME:EDT
DTSTART:20220313T070000
END:DAYLIGHT
BEGIN:STANDARD
TZOFFSETFROM:-0400
TZOFFSETTO:-0500
TZNAME:EST
DTSTART:20221106T060000
END:STANDARD
BEGIN:DAYLIGHT
TZOFFSETFROM:-0500
TZOFFSETTO:-0400
TZNAME:EDT
DTSTART:20230312T070000
END:DAYLIGHT
BEGIN:STANDARD
TZOFFSETFROM:-0400
TZOFFSETTO:-0500
TZNAME:EST
DTSTART:20231105T060000
END:STANDARD
BEGIN:DAYLIGHT
TZOFFSETFROM:-0500
TZOFFSETTO:-0400
TZNAME:EDT
DTSTART:20240310T070000
END:DAYLIGHT
BEGIN:STANDARD
TZOFFSETFROM:-0400
TZOFFSETTO:-0500
TZNAME:EST
DTSTART:20241103T060000
END:STANDARD
END:VTIMEZONE
BEGIN:VEVENT
DTSTART;TZID=America/New_York:20231203T150000
DTEND;TZID=America/New_York:20231203T160000
DTSTAMP:20260421T123542
CREATED:20230821T193151Z
LAST-MODIFIED:20230821T193151Z
UID:10000124-1701615600-1701619200@www.ohioshospice.org
SUMMARY:Ohio's Community Mercy Hospice 2023 Hope for the Holidays
DESCRIPTION:Register Online \nWHAT:\nDuring this holiday season\, we want to help you remember as well as celebrate the loved ones you have lost. Pathways of HopeSM invites you to join in Hope for the Holidays\, our holiday grief support program\, which provides grieving individuals and families an opportunity to honor loved ones who have died. Hope for the Holidays is open to any member of the community who is grieving the loss of a loved one. Participants will receive helpful insights and information about coping with holiday grief. \nWHEN:\nSunday\, December 3\, 3 pm \nWHERE:\nGrace Evangelical Lutheran Church\n1801 St. Paris Pike\nSpringfield\, OH 45504 \nCOST:\nThe program is free of charge thanks to the generosity of our community.  \nHOW:\nTo register online\, click the button below. Because of limited seating\, reservations are required and will be accepted until November 27 or until capacity is reached\, whichever comes first. In the event of questionable weather\, please call 937.258.4991  for updates. The registration deadline is Monday\, November 27\, 2023. \n  \nRegister Online \n  \nShare this:\n				Share on Facebook (Opens in new window)\n				Facebook\n			\n				Share on X (Opens in new window)\n				X
URL:https://www.ohioshospice.org/event/ocmh-2023-hope-for-the-holidays/
LOCATION:Grace Evangelical Lutheran Church\, 1801 Saint Paris Pike\, Springfield\, OH\, 45504\, United States
CATEGORIES:Grief Support,Ohio's Hospice | Springfield
ATTACH;FMTTYPE=image/jpeg:https://www.ohioshospice.org/wp-content/uploads/2023/08/GR_OCMH_20230821_HopefortheHolidays_Events_024.jpg
END:VEVENT
BEGIN:VEVENT
DTSTART;TZID=America/New_York:20221211T150000
DTEND;TZID=America/New_York:20221211T160000
DTSTAMP:20260421T123542
CREATED:20221003T204822Z
LAST-MODIFIED:20230420T154722Z
UID:10000016-1670770800-1670774400@www.ohioshospice.org
SUMMARY:2022 Hope for the Holidays
DESCRIPTION:WHAT: \nDuring this holiday season\, we want to help you remember as well as celebrate the loved ones you have lost. Pathways of HopeSM invites you to join in Hope for the Holidays\, our holiday grief support program\, which provides grieving individuals and families an opportunity to honor loved ones who have died. Hope for the Holidays is open to any member of the community who is grieving the loss of a loved one. Participants will receive helpful insights and information about coping with holiday grief. \nWHEN: \nSunday\, December 11\, 2022\n3 pm \nWHERE: \nGrace Evangelical Lutheran Church\n1801 St. Paris Pike\nSpringfield\, OH 45504 \nHOW: \nTo register online\, click the button below. Because of limited seating\, reservations are required and will be accepted until December 5 or until capacity is reached\, whichever comes first. The program is free of charge thanks to the generosity of the community. In the event of questionable weather\, please call 937.258.4991 for updates. \n  \nRegister Online \nThe registration deadline is December 5\, 2022. \nShare this:\n				Share on Facebook (Opens in new window)\n				Facebook\n			\n				Share on X (Opens in new window)\n				X
URL:https://www.ohioshospice.org/event/2022-hope-for-the-holidays/
LOCATION:Grace Evangelical Lutheran Church\, 1801 Saint Paris Pike\, Springfield\, OH\, 45504\, United States
CATEGORIES:Grief Support
ATTACH;FMTTYPE=image/jpeg:https://www.ohioshospice.org/wp-content/uploads/2022/10/GR_OCMH_20221028_HopefortheHolidays_Events_024-cBEyEv.tmp_.jpg
END:VEVENT
END:VCALENDAR