BEGIN:VCALENDAR
VERSION:2.0
PRODID:-//Ohio&#039;s Hospice - ECPv6.15.18//NONSGML v1.0//EN
CALSCALE:GREGORIAN
METHOD:PUBLISH
X-ORIGINAL-URL:https://www.ohioshospice.org
X-WR-CALDESC:Events for Ohio&#039;s Hospice
REFRESH-INTERVAL;VALUE=DURATION:PT1H
X-Robots-Tag:noindex
X-PUBLISHED-TTL:PT1H
BEGIN:VTIMEZONE
TZID:America/New_York
BEGIN:DAYLIGHT
TZOFFSETFROM:-0500
TZOFFSETTO:-0400
TZNAME:EDT
DTSTART:20220313T070000
END:DAYLIGHT
BEGIN:STANDARD
TZOFFSETFROM:-0400
TZOFFSETTO:-0500
TZNAME:EST
DTSTART:20221106T060000
END:STANDARD
BEGIN:DAYLIGHT
TZOFFSETFROM:-0500
TZOFFSETTO:-0400
TZNAME:EDT
DTSTART:20230312T070000
END:DAYLIGHT
BEGIN:STANDARD
TZOFFSETFROM:-0400
TZOFFSETTO:-0500
TZNAME:EST
DTSTART:20231105T060000
END:STANDARD
BEGIN:DAYLIGHT
TZOFFSETFROM:-0500
TZOFFSETTO:-0400
TZNAME:EDT
DTSTART:20240310T070000
END:DAYLIGHT
BEGIN:STANDARD
TZOFFSETFROM:-0400
TZOFFSETTO:-0500
TZNAME:EST
DTSTART:20241103T060000
END:STANDARD
END:VTIMEZONE
BEGIN:VEVENT
DTSTART;TZID=America/New_York:20231221T140000
DTEND;TZID=America/New_York:20231221T150000
DTSTAMP:20260419T085727
CREATED:20230704T143607Z
LAST-MODIFIED:20230704T143607Z
UID:10000107-1703167200-1703170800@www.ohioshospice.org
SUMMARY:Ohio's Hospice Loving Care – Grief Support Group Madison County
DESCRIPTION:WHAT:\nFor those who have experienced the death of a loved one and need grief support services\, the Pathways of HopeSM Grief Counseling Center at Ohio’s Hospice Loving Care is offering a grief support group in Madison County. \nWHEN:\nThird Thursday of each month\n2-3 pm \nThe dates of the meetings in Madison County for the remainder of 2023 are:\nJuly 20\nAug. 17\nSept. 21\nOct. 19\nNov. 16\nDec. 21 \nWHERE:\nMadison County Senior Center\n280 W. High St.\nLondon\, OH 43140 \nCOST:\nFree and open to the public. \nHOW:\nWhile the event is free and open to the public\, registration is required. To register\, please call 937.469.0565  or email RVance@OhiosHospice.com and include your name\, the date of the event\, and your phone number. For those who wish to attend the bereavement workshop\, please note that there are limited seats available. \nShare this:\n				Share on Facebook (Opens in new window)\n				Facebook\n			\n				Share on X (Opens in new window)\n				X
URL:https://www.ohioshospice.org/event/ohios-hospice-loving-care-grief-support-group-madison-county/2023-12-21/
LOCATION:Madison County Senior Center\, 280 W. High St.\, London\, OH\, 43140\, United States
CATEGORIES:Grief Support,Ohio's Hospice | Marysville
ATTACH;FMTTYPE=image/jpeg:https://www.ohioshospice.org/wp-content/uploads/2023/06/SM_OHLV_20230630_GriefSupportGroup_02_08655.jpg
ORGANIZER;CN="Ohio%E2%80%99s Hospice | Marysville":MAILTO:Info@OhiosHospice.org
END:VEVENT
BEGIN:VEVENT
DTSTART;TZID=America/New_York:20231116T140000
DTEND;TZID=America/New_York:20231116T150000
DTSTAMP:20260419T085727
CREATED:20230704T143607Z
LAST-MODIFIED:20230704T143607Z
UID:10000106-1700143200-1700146800@www.ohioshospice.org
SUMMARY:Ohio's Hospice Loving Care – Grief Support Group Madison County
DESCRIPTION:WHAT:\nFor those who have experienced the death of a loved one and need grief support services\, the Pathways of HopeSM Grief Counseling Center at Ohio’s Hospice Loving Care is offering a grief support group in Madison County. \nWHEN:\nThird Thursday of each month\n2-3 pm \nThe dates of the meetings in Madison County for the remainder of 2023 are:\nJuly 20\nAug. 17\nSept. 21\nOct. 19\nNov. 16\nDec. 21 \nWHERE:\nMadison County Senior Center\n280 W. High St.\nLondon\, OH 43140 \nCOST:\nFree and open to the public. \nHOW:\nWhile the event is free and open to the public\, registration is required. To register\, please call 937.469.0565  or email RVance@OhiosHospice.com and include your name\, the date of the event\, and your phone number. For those who wish to attend the bereavement workshop\, please note that there are limited seats available. \nShare this:\n				Share on Facebook (Opens in new window)\n				Facebook\n			\n				Share on X (Opens in new window)\n				X
URL:https://www.ohioshospice.org/event/ohios-hospice-loving-care-grief-support-group-madison-county/2023-11-16/
LOCATION:Madison County Senior Center\, 280 W. High St.\, London\, OH\, 43140\, United States
CATEGORIES:Grief Support,Ohio's Hospice | Marysville
ATTACH;FMTTYPE=image/jpeg:https://www.ohioshospice.org/wp-content/uploads/2023/06/SM_OHLV_20230630_GriefSupportGroup_02_08655.jpg
ORGANIZER;CN="Ohio%E2%80%99s Hospice | Marysville":MAILTO:Info@OhiosHospice.org
END:VEVENT
BEGIN:VEVENT
DTSTART;TZID=America/New_York:20231019T140000
DTEND;TZID=America/New_York:20231019T150000
DTSTAMP:20260419T085727
CREATED:20230704T143607Z
LAST-MODIFIED:20230704T143607Z
UID:10000105-1697724000-1697727600@www.ohioshospice.org
SUMMARY:Ohio's Hospice Loving Care – Grief Support Group Madison County
DESCRIPTION:WHAT:\nFor those who have experienced the death of a loved one and need grief support services\, the Pathways of HopeSM Grief Counseling Center at Ohio’s Hospice Loving Care is offering a grief support group in Madison County. \nWHEN:\nThird Thursday of each month\n2-3 pm \nThe dates of the meetings in Madison County for the remainder of 2023 are:\nJuly 20\nAug. 17\nSept. 21\nOct. 19\nNov. 16\nDec. 21 \nWHERE:\nMadison County Senior Center\n280 W. High St.\nLondon\, OH 43140 \nCOST:\nFree and open to the public. \nHOW:\nWhile the event is free and open to the public\, registration is required. To register\, please call 937.469.0565  or email RVance@OhiosHospice.com and include your name\, the date of the event\, and your phone number. For those who wish to attend the bereavement workshop\, please note that there are limited seats available. \nShare this:\n				Share on Facebook (Opens in new window)\n				Facebook\n			\n				Share on X (Opens in new window)\n				X
URL:https://www.ohioshospice.org/event/ohios-hospice-loving-care-grief-support-group-madison-county/2023-10-19/
LOCATION:Madison County Senior Center\, 280 W. High St.\, London\, OH\, 43140\, United States
CATEGORIES:Grief Support,Ohio's Hospice | Marysville
ATTACH;FMTTYPE=image/jpeg:https://www.ohioshospice.org/wp-content/uploads/2023/06/SM_OHLV_20230630_GriefSupportGroup_02_08655.jpg
ORGANIZER;CN="Ohio%E2%80%99s Hospice | Marysville":MAILTO:Info@OhiosHospice.org
END:VEVENT
BEGIN:VEVENT
DTSTART;TZID=America/New_York:20230921T140000
DTEND;TZID=America/New_York:20230921T150000
DTSTAMP:20260419T085727
CREATED:20230704T143607Z
LAST-MODIFIED:20230704T143607Z
UID:10000104-1695304800-1695308400@www.ohioshospice.org
SUMMARY:Ohio's Hospice Loving Care – Grief Support Group Madison County
DESCRIPTION:WHAT:\nFor those who have experienced the death of a loved one and need grief support services\, the Pathways of HopeSM Grief Counseling Center at Ohio’s Hospice Loving Care is offering a grief support group in Madison County. \nWHEN:\nThird Thursday of each month\n2-3 pm \nThe dates of the meetings in Madison County for the remainder of 2023 are:\nJuly 20\nAug. 17\nSept. 21\nOct. 19\nNov. 16\nDec. 21 \nWHERE:\nMadison County Senior Center\n280 W. High St.\nLondon\, OH 43140 \nCOST:\nFree and open to the public. \nHOW:\nWhile the event is free and open to the public\, registration is required. To register\, please call 937.469.0565  or email RVance@OhiosHospice.com and include your name\, the date of the event\, and your phone number. For those who wish to attend the bereavement workshop\, please note that there are limited seats available. \nShare this:\n				Share on Facebook (Opens in new window)\n				Facebook\n			\n				Share on X (Opens in new window)\n				X
URL:https://www.ohioshospice.org/event/ohios-hospice-loving-care-grief-support-group-madison-county/2023-09-21/
LOCATION:Madison County Senior Center\, 280 W. High St.\, London\, OH\, 43140\, United States
CATEGORIES:Grief Support,Ohio's Hospice | Marysville
ATTACH;FMTTYPE=image/jpeg:https://www.ohioshospice.org/wp-content/uploads/2023/06/SM_OHLV_20230630_GriefSupportGroup_02_08655.jpg
ORGANIZER;CN="Ohio%E2%80%99s Hospice | Marysville":MAILTO:Info@OhiosHospice.org
END:VEVENT
BEGIN:VEVENT
DTSTART;TZID=America/New_York:20230817T140000
DTEND;TZID=America/New_York:20230817T150000
DTSTAMP:20260419T085727
CREATED:20230704T143607Z
LAST-MODIFIED:20230704T143607Z
UID:10000103-1692280800-1692284400@www.ohioshospice.org
SUMMARY:Ohio's Hospice Loving Care – Grief Support Group Madison County
DESCRIPTION:WHAT:\nFor those who have experienced the death of a loved one and need grief support services\, the Pathways of HopeSM Grief Counseling Center at Ohio’s Hospice Loving Care is offering a grief support group in Madison County. \nWHEN:\nThird Thursday of each month\n2-3 pm \nThe dates of the meetings in Madison County for the remainder of 2023 are:\nJuly 20\nAug. 17\nSept. 21\nOct. 19\nNov. 16\nDec. 21 \nWHERE:\nMadison County Senior Center\n280 W. High St.\nLondon\, OH 43140 \nCOST:\nFree and open to the public. \nHOW:\nWhile the event is free and open to the public\, registration is required. To register\, please call 937.469.0565  or email RVance@OhiosHospice.com and include your name\, the date of the event\, and your phone number. For those who wish to attend the bereavement workshop\, please note that there are limited seats available. \nShare this:\n				Share on Facebook (Opens in new window)\n				Facebook\n			\n				Share on X (Opens in new window)\n				X
URL:https://www.ohioshospice.org/event/ohios-hospice-loving-care-grief-support-group-madison-county/2023-08-17/
LOCATION:Madison County Senior Center\, 280 W. High St.\, London\, OH\, 43140\, United States
CATEGORIES:Grief Support,Ohio's Hospice | Marysville
ATTACH;FMTTYPE=image/jpeg:https://www.ohioshospice.org/wp-content/uploads/2023/06/SM_OHLV_20230630_GriefSupportGroup_02_08655.jpg
ORGANIZER;CN="Ohio%E2%80%99s Hospice | Marysville":MAILTO:Info@OhiosHospice.org
END:VEVENT
BEGIN:VEVENT
DTSTART;TZID=America/New_York:20230720T140000
DTEND;TZID=America/New_York:20230720T150000
DTSTAMP:20260419T085727
CREATED:20230704T143607Z
LAST-MODIFIED:20230704T143607Z
UID:10000097-1689861600-1689865200@www.ohioshospice.org
SUMMARY:Ohio's Hospice Loving Care – Grief Support Group Madison County
DESCRIPTION:WHAT:\nFor those who have experienced the death of a loved one and need grief support services\, the Pathways of HopeSM Grief Counseling Center at Ohio’s Hospice Loving Care is offering a grief support group in Madison County. \nWHEN:\nThird Thursday of each month\n2-3 pm \nThe dates of the meetings in Madison County for the remainder of 2023 are:\nJuly 20\nAug. 17\nSept. 21\nOct. 19\nNov. 16\nDec. 21 \nWHERE:\nMadison County Senior Center\n280 W. High St.\nLondon\, OH 43140 \nCOST:\nFree and open to the public. \nHOW:\nWhile the event is free and open to the public\, registration is required. To register\, please call 937.469.0565  or email RVance@OhiosHospice.com and include your name\, the date of the event\, and your phone number. For those who wish to attend the bereavement workshop\, please note that there are limited seats available. \nShare this:\n				Share on Facebook (Opens in new window)\n				Facebook\n			\n				Share on X (Opens in new window)\n				X
URL:https://www.ohioshospice.org/event/ohios-hospice-loving-care-grief-support-group-madison-county/2023-07-20/
LOCATION:Madison County Senior Center\, 280 W. High St.\, London\, OH\, 43140\, United States
CATEGORIES:Grief Support,Ohio's Hospice | Marysville
ATTACH;FMTTYPE=image/jpeg:https://www.ohioshospice.org/wp-content/uploads/2023/06/SM_OHLV_20230630_GriefSupportGroup_02_08655.jpg
ORGANIZER;CN="Ohio%E2%80%99s Hospice | Marysville":MAILTO:Info@OhiosHospice.org
END:VEVENT
END:VCALENDAR