BEGIN:VCALENDAR
VERSION:2.0
PRODID:-//Ohio&#039;s Hospice - ECPv6.15.20//NONSGML v1.0//EN
CALSCALE:GREGORIAN
METHOD:PUBLISH
X-ORIGINAL-URL:https://www.ohioshospice.org
X-WR-CALDESC:Events for Ohio&#039;s Hospice
REFRESH-INTERVAL;VALUE=DURATION:PT1H
X-Robots-Tag:noindex
X-PUBLISHED-TTL:PT1H
BEGIN:VTIMEZONE
TZID:UTC
BEGIN:STANDARD
TZOFFSETFROM:+0000
TZOFFSETTO:+0000
TZNAME:UTC
DTSTART:20210101T000000
END:STANDARD
END:VTIMEZONE
BEGIN:VEVENT
DTSTART;TZID=UTC:20220827T083000
DTEND;TZID=UTC:20220827T130000
DTSTAMP:20260421T073952
CREATED:20220801T203315Z
LAST-MODIFIED:20230420T154325Z
UID:10000007-1661589000-1661605200@www.ohioshospice.org
SUMMARY:2022 Ohio’s Hospice of Butler & Warren Counties 5k Remembrance Walk/Run
DESCRIPTION:WHAT:\nThe Ohio’s Hospice of Butler & Warren Counties 5k Remembrance Walk/Run offers families and friends an opportunity to honor the memory of a loved one and raise funds to support patient care and services. These include community-wide grief counseling; complementary therapies such as music\, art and massage; and financial assistance for patients unable to pay for their care. \nWHEN:\nSaturday\, Aug. 27\, 2022\nRegistration begins at 8:30 am on Saturday\, August 27.\nWalk begins at 10 am. T-shirts will be available for pick up at North Park (195 Tamarack Trail\, Springboro\, OH 45066)\, from 8:30 am to 1 pm. Also during this time\, memory walk signs will be displayed along the path for viewing purposes. \nWHERE:\nNorth Park | 195 Tamarack Trail | Springboro\, OH 45066 \nPRICING:\n• Individual Walker: $25\n• Youth Walker (Age 12 and under): $15\n• Active Military or Veteran: $20\n• Memory Walk Sign: $20  \nDETAILS:\n• Please register by Tuesday\, August 9\, 2022 to guarantee a T-shirt. \n• Although this walk/run has been professionally timed in the past\, it will no longer be professionally timed.   \n \n  \nRegister Online\nQUESTIONS:\nFor questions or sponsorship information\, contact Sydney Munch at SMunch@OhiosHospice.org or call 937.604.0495. \nShare this:\n				Share on Facebook (Opens in new window)\n				Facebook\n			\n				Share on X (Opens in new window)\n				X
URL:https://www.ohioshospice.org/event/2022-ohios-hospice-of-butler-warren-counties-5k-remembrance-walk-run/
LOCATION:North Park\, 195 Tamarack Trail\, Springboro\, OH\, 45066\, United States
CATEGORIES:Foundation
ATTACH;FMTTYPE=image/png:https://www.ohioshospice.org/wp-content/uploads/2022/08/SM_OHBWC_20220304_Walk_01PID06375-1-SdgFjq.tmp_.png
END:VEVENT
END:VCALENDAR