BEGIN:VCALENDAR
VERSION:2.0
PRODID:-//Ohio&#039;s Hospice - ECPv6.15.20//NONSGML v1.0//EN
CALSCALE:GREGORIAN
METHOD:PUBLISH
X-ORIGINAL-URL:https://www.ohioshospice.org
X-WR-CALDESC:Events for Ohio&#039;s Hospice
REFRESH-INTERVAL;VALUE=DURATION:PT1H
X-Robots-Tag:noindex
X-PUBLISHED-TTL:PT1H
BEGIN:VTIMEZONE
TZID:America/New_York
BEGIN:DAYLIGHT
TZOFFSETFROM:-0500
TZOFFSETTO:-0400
TZNAME:EDT
DTSTART:20220313T070000
END:DAYLIGHT
BEGIN:STANDARD
TZOFFSETFROM:-0400
TZOFFSETTO:-0500
TZNAME:EST
DTSTART:20221106T060000
END:STANDARD
BEGIN:DAYLIGHT
TZOFFSETFROM:-0500
TZOFFSETTO:-0400
TZNAME:EDT
DTSTART:20230312T070000
END:DAYLIGHT
BEGIN:STANDARD
TZOFFSETFROM:-0400
TZOFFSETTO:-0500
TZNAME:EST
DTSTART:20231105T060000
END:STANDARD
BEGIN:DAYLIGHT
TZOFFSETFROM:-0500
TZOFFSETTO:-0400
TZNAME:EDT
DTSTART:20240310T070000
END:DAYLIGHT
BEGIN:STANDARD
TZOFFSETFROM:-0400
TZOFFSETTO:-0500
TZNAME:EST
DTSTART:20241103T060000
END:STANDARD
BEGIN:DAYLIGHT
TZOFFSETFROM:-0500
TZOFFSETTO:-0400
TZNAME:EDT
DTSTART:20250309T070000
END:DAYLIGHT
BEGIN:STANDARD
TZOFFSETFROM:-0400
TZOFFSETTO:-0500
TZNAME:EST
DTSTART:20251102T060000
END:STANDARD
BEGIN:DAYLIGHT
TZOFFSETFROM:-0500
TZOFFSETTO:-0400
TZNAME:EDT
DTSTART:20260308T070000
END:DAYLIGHT
BEGIN:STANDARD
TZOFFSETFROM:-0400
TZOFFSETTO:-0500
TZNAME:EST
DTSTART:20261101T060000
END:STANDARD
BEGIN:DAYLIGHT
TZOFFSETFROM:-0500
TZOFFSETTO:-0400
TZNAME:EDT
DTSTART:20270314T070000
END:DAYLIGHT
BEGIN:STANDARD
TZOFFSETFROM:-0400
TZOFFSETTO:-0500
TZNAME:EST
DTSTART:20271107T060000
END:STANDARD
END:VTIMEZONE
BEGIN:VTIMEZONE
TZID:UTC
BEGIN:STANDARD
TZOFFSETFROM:+0000
TZOFFSETTO:+0000
TZNAME:UTC
DTSTART:20160101T000000
END:STANDARD
END:VTIMEZONE
BEGIN:VEVENT
DTSTART;TZID=America/New_York:20260407T080000
DTEND;TZID=America/New_York:20260407T170000
DTSTAMP:20260421T153857
CREATED:20250918T152959Z
LAST-MODIFIED:20260401T132346Z
UID:10001101-1775548800-1775581200@www.ohioshospice.org
SUMMARY:Drop-In Adult Grief Support Group
DESCRIPTION:WHAT:\nOhio’s Hospice Pathways of HopeSM Grief Counseling Center hosts an open bi-monthly support group for adults who have experienced the loss of a loved one within the last 5 years. The group meets the first and third Tuesday of each month to share their experiences and enjoy the fellowship of others who also are grieving the loss of a loved one. A wide variety of topics will be discussed based on the season and needs of the group. This time is an accessible\, respectful and confidential space. If you’re grieving a loss\, please consider joining us. \nWHEN:\nFirst and Third Tuesday Monthly\n10-11:15 am \nWHERE:\nOhio’s Hospice\nDayton Community Room\n324 Wilmington Ave.\nDayton\, OH 45420 \nREGISTRATION:\nNo registration is required. For more information\, please call 937.258.4991. \nShare this:\n				Share on Facebook (Opens in new window)\n				Facebook\n			\n				Share on X (Opens in new window)\n				X
URL:https://www.ohioshospice.org/event/drop-in-adult-grief-support-group/2026-04-07/
LOCATION:Ohio’s Hospice | Dayton\, 324 Wilmington Ave.\, Dayton\, OH\, 45420\, United States
CATEGORIES:Grief Support,Ohio's Hospice | Dayton
ATTACH;FMTTYPE=image/jpeg:https://www.ohioshospice.org/wp-content/uploads/2025/09/SM_DAY_20250908_01_DropInGroupDLM_12387.jpg
ORGANIZER;CN="Ohio%E2%80%99s Hospice | Dayton":MAILTO:Info@OhiosHospice.org
END:VEVENT
BEGIN:VEVENT
DTSTART;TZID=America/New_York:20251216T100000
DTEND;TZID=America/New_York:20251216T111500
DTSTAMP:20260421T153857
CREATED:20250918T152959Z
LAST-MODIFIED:20260401T132346Z
UID:10000810-1765879200-1765883700@www.ohioshospice.org
SUMMARY:Drop-In Adult Grief Support Group
DESCRIPTION:WHAT:\nOhio’s Hospice Pathways of HopeSM Grief Counseling Center hosts an open bi-monthly support group for adults who have experienced the loss of a loved one within the last 5 years. The group meets the first and third Tuesday of each month to share their experiences and enjoy the fellowship of others who also are grieving the loss of a loved one. A wide variety of topics will be discussed based on the season and needs of the group. This time is an accessible\, respectful and confidential space. If you’re grieving a loss\, please consider joining us. \nWHEN:\nFirst and Third Tuesday Monthly\n10-11:15 am \nWHERE:\nOhio’s Hospice\nDayton Community Room\n324 Wilmington Ave.\nDayton\, OH 45420 \nREGISTRATION:\nNo registration is required. For more information\, please call 937.258.4991. \nShare this:\n				Share on Facebook (Opens in new window)\n				Facebook\n			\n				Share on X (Opens in new window)\n				X
URL:https://www.ohioshospice.org/event/drop-in-adult-grief-support-group/2025-12-16/
LOCATION:Ohio’s Hospice | Dayton\, 324 Wilmington Ave.\, Dayton\, OH\, 45420\, United States
CATEGORIES:Grief Support,Ohio's Hospice | Dayton
ATTACH;FMTTYPE=image/jpeg:https://www.ohioshospice.org/wp-content/uploads/2025/09/SM_DAY_20250908_01_DropInGroupDLM_12387.jpg
ORGANIZER;CN="Ohio%E2%80%99s Hospice | Dayton":MAILTO:Info@OhiosHospice.org
END:VEVENT
BEGIN:VEVENT
DTSTART;TZID=America/New_York:20251202T100000
DTEND;TZID=America/New_York:20251202T111500
DTSTAMP:20260421T153857
CREATED:20250918T152959Z
LAST-MODIFIED:20260401T132346Z
UID:10001100-1764669600-1764674100@www.ohioshospice.org
SUMMARY:Drop-In Adult Grief Support Group
DESCRIPTION:WHAT:\nOhio’s Hospice Pathways of HopeSM Grief Counseling Center hosts an open bi-monthly support group for adults who have experienced the loss of a loved one within the last 5 years. The group meets the first and third Tuesday of each month to share their experiences and enjoy the fellowship of others who also are grieving the loss of a loved one. A wide variety of topics will be discussed based on the season and needs of the group. This time is an accessible\, respectful and confidential space. If you’re grieving a loss\, please consider joining us. \nWHEN:\nFirst and Third Tuesday Monthly\n10-11:15 am \nWHERE:\nOhio’s Hospice\nDayton Community Room\n324 Wilmington Ave.\nDayton\, OH 45420 \nREGISTRATION:\nNo registration is required. For more information\, please call 937.258.4991. \nShare this:\n				Share on Facebook (Opens in new window)\n				Facebook\n			\n				Share on X (Opens in new window)\n				X
URL:https://www.ohioshospice.org/event/drop-in-adult-grief-support-group/2025-12-02/
LOCATION:Ohio’s Hospice | Dayton\, 324 Wilmington Ave.\, Dayton\, OH\, 45420\, United States
CATEGORIES:Grief Support,Ohio's Hospice | Dayton
ATTACH;FMTTYPE=image/jpeg:https://www.ohioshospice.org/wp-content/uploads/2025/09/SM_DAY_20250908_01_DropInGroupDLM_12387.jpg
ORGANIZER;CN="Ohio%E2%80%99s Hospice | Dayton":MAILTO:Info@OhiosHospice.org
END:VEVENT
BEGIN:VEVENT
DTSTART;TZID=America/New_York:20251118T100000
DTEND;TZID=America/New_York:20251118T111500
DTSTAMP:20260421T153857
CREATED:20250918T152959Z
LAST-MODIFIED:20260401T132346Z
UID:10000808-1763460000-1763464500@www.ohioshospice.org
SUMMARY:Drop-In Adult Grief Support Group
DESCRIPTION:WHAT:\nOhio’s Hospice Pathways of HopeSM Grief Counseling Center hosts an open bi-monthly support group for adults who have experienced the loss of a loved one within the last 5 years. The group meets the first and third Tuesday of each month to share their experiences and enjoy the fellowship of others who also are grieving the loss of a loved one. A wide variety of topics will be discussed based on the season and needs of the group. This time is an accessible\, respectful and confidential space. If you’re grieving a loss\, please consider joining us. \nWHEN:\nFirst and Third Tuesday Monthly\n10-11:15 am \nWHERE:\nOhio’s Hospice\nDayton Community Room\n324 Wilmington Ave.\nDayton\, OH 45420 \nREGISTRATION:\nNo registration is required. For more information\, please call 937.258.4991. \nShare this:\n				Share on Facebook (Opens in new window)\n				Facebook\n			\n				Share on X (Opens in new window)\n				X
URL:https://www.ohioshospice.org/event/drop-in-adult-grief-support-group/2025-11-18/
LOCATION:Ohio’s Hospice | Dayton\, 324 Wilmington Ave.\, Dayton\, OH\, 45420\, United States
CATEGORIES:Grief Support,Ohio's Hospice | Dayton
ATTACH;FMTTYPE=image/jpeg:https://www.ohioshospice.org/wp-content/uploads/2025/09/SM_DAY_20250908_01_DropInGroupDLM_12387.jpg
ORGANIZER;CN="Ohio%E2%80%99s Hospice | Dayton":MAILTO:Info@OhiosHospice.org
END:VEVENT
BEGIN:VEVENT
DTSTART;TZID=America/New_York:20251104T100000
DTEND;TZID=America/New_York:20251104T111500
DTSTAMP:20260421T153857
CREATED:20250918T152959Z
LAST-MODIFIED:20260401T132346Z
UID:10000807-1762250400-1762254900@www.ohioshospice.org
SUMMARY:Drop-In Adult Grief Support Group
DESCRIPTION:WHAT:\nOhio’s Hospice Pathways of HopeSM Grief Counseling Center hosts an open bi-monthly support group for adults who have experienced the loss of a loved one within the last 5 years. The group meets the first and third Tuesday of each month to share their experiences and enjoy the fellowship of others who also are grieving the loss of a loved one. A wide variety of topics will be discussed based on the season and needs of the group. This time is an accessible\, respectful and confidential space. If you’re grieving a loss\, please consider joining us. \nWHEN:\nFirst and Third Tuesday Monthly\n10-11:15 am \nWHERE:\nOhio’s Hospice\nDayton Community Room\n324 Wilmington Ave.\nDayton\, OH 45420 \nREGISTRATION:\nNo registration is required. For more information\, please call 937.258.4991. \nShare this:\n				Share on Facebook (Opens in new window)\n				Facebook\n			\n				Share on X (Opens in new window)\n				X
URL:https://www.ohioshospice.org/event/drop-in-adult-grief-support-group/2025-11-04/
LOCATION:Ohio’s Hospice | Dayton\, 324 Wilmington Ave.\, Dayton\, OH\, 45420\, United States
CATEGORIES:Grief Support,Ohio's Hospice | Dayton
ATTACH;FMTTYPE=image/jpeg:https://www.ohioshospice.org/wp-content/uploads/2025/09/SM_DAY_20250908_01_DropInGroupDLM_12387.jpg
ORGANIZER;CN="Ohio%E2%80%99s Hospice | Dayton":MAILTO:Info@OhiosHospice.org
END:VEVENT
BEGIN:VEVENT
DTSTART;TZID=America/New_York:20251021T100000
DTEND;TZID=America/New_York:20251021T111500
DTSTAMP:20260421T153857
CREATED:20250918T152959Z
LAST-MODIFIED:20260401T132346Z
UID:10000806-1761040800-1761045300@www.ohioshospice.org
SUMMARY:Drop-In Adult Grief Support Group
DESCRIPTION:WHAT:\nOhio’s Hospice Pathways of HopeSM Grief Counseling Center hosts an open bi-monthly support group for adults who have experienced the loss of a loved one within the last 5 years. The group meets the first and third Tuesday of each month to share their experiences and enjoy the fellowship of others who also are grieving the loss of a loved one. A wide variety of topics will be discussed based on the season and needs of the group. This time is an accessible\, respectful and confidential space. If you’re grieving a loss\, please consider joining us. \nWHEN:\nFirst and Third Tuesday Monthly\n10-11:15 am \nWHERE:\nOhio’s Hospice\nDayton Community Room\n324 Wilmington Ave.\nDayton\, OH 45420 \nREGISTRATION:\nNo registration is required. For more information\, please call 937.258.4991. \nShare this:\n				Share on Facebook (Opens in new window)\n				Facebook\n			\n				Share on X (Opens in new window)\n				X
URL:https://www.ohioshospice.org/event/drop-in-adult-grief-support-group/2025-10-21/
LOCATION:Ohio’s Hospice | Dayton\, 324 Wilmington Ave.\, Dayton\, OH\, 45420\, United States
CATEGORIES:Grief Support,Ohio's Hospice | Dayton
ATTACH;FMTTYPE=image/jpeg:https://www.ohioshospice.org/wp-content/uploads/2025/09/SM_DAY_20250908_01_DropInGroupDLM_12387.jpg
ORGANIZER;CN="Ohio%E2%80%99s Hospice | Dayton":MAILTO:Info@OhiosHospice.org
END:VEVENT
BEGIN:VEVENT
DTSTART;TZID=America/New_York:20251007T100000
DTEND;TZID=America/New_York:20251007T111500
DTSTAMP:20260421T153857
CREATED:20250918T152959Z
LAST-MODIFIED:20260401T132346Z
UID:10000805-1759831200-1759835700@www.ohioshospice.org
SUMMARY:Drop-In Adult Grief Support Group
DESCRIPTION:WHAT:\nOhio’s Hospice Pathways of HopeSM Grief Counseling Center hosts an open bi-monthly support group for adults who have experienced the loss of a loved one within the last 5 years. The group meets the first and third Tuesday of each month to share their experiences and enjoy the fellowship of others who also are grieving the loss of a loved one. A wide variety of topics will be discussed based on the season and needs of the group. This time is an accessible\, respectful and confidential space. If you’re grieving a loss\, please consider joining us. \nWHEN:\nFirst and Third Tuesday Monthly\n10-11:15 am \nWHERE:\nOhio’s Hospice\nDayton Community Room\n324 Wilmington Ave.\nDayton\, OH 45420 \nREGISTRATION:\nNo registration is required. For more information\, please call 937.258.4991. \nShare this:\n				Share on Facebook (Opens in new window)\n				Facebook\n			\n				Share on X (Opens in new window)\n				X
URL:https://www.ohioshospice.org/event/drop-in-adult-grief-support-group/2025-10-07/
LOCATION:Ohio’s Hospice | Dayton\, 324 Wilmington Ave.\, Dayton\, OH\, 45420\, United States
CATEGORIES:Grief Support,Ohio's Hospice | Dayton
ATTACH;FMTTYPE=image/jpeg:https://www.ohioshospice.org/wp-content/uploads/2025/09/SM_DAY_20250908_01_DropInGroupDLM_12387.jpg
ORGANIZER;CN="Ohio%E2%80%99s Hospice | Dayton":MAILTO:Info@OhiosHospice.org
END:VEVENT
BEGIN:VEVENT
DTSTART;TZID=America/New_York:20240907T100000
DTEND;TZID=America/New_York:20240907T120000
DTSTAMP:20260421T153857
CREATED:20240109T215018Z
LAST-MODIFIED:20240816T134834Z
UID:10000176-1725703200-1725710400@www.ohioshospice.org
SUMMARY:2024 Butterfly Release
DESCRIPTION:Register Online \nWHAT:\nOhio’s Hospice is holding a Celebrating Life’s Stories® 2024 Butterfly Release as a way to remember and honor special people who have touched our lives and live on in our memories. After a brief program including music\, participants will release butterflies in memory of loved ones. If you are unable to attend the event\, butterflies requested will be released on your behalf.  \nWHEN:\nSaturday\, September 7\, 2024\nRegistration Opens: 10 am\nProgram Begins: 11 am \nWHERE:\nOhio’s Hospice | Dayton\n324 Wilmington Ave.\nDayton\, OH 45420 \nCOST:\nButterflies are $20 each. \nSponsorship opportunities are available. Net proceeds from the 2024 Butterfly Release benefit Ohio’s Hospice patient care and services. \nHOW:\nTo register online\, click the button below. Registration is required. For questions or sponsorship information\, email Jill Lewis at JELewis@OhiosHospice.org or call 937.414.3583. The registration deadline is Thursday\, August 22\, 2024. \n  \nRegister Online \nShare this:\n				Share on Facebook (Opens in new window)\n				Facebook\n			\n				Share on X (Opens in new window)\n				X
URL:https://www.ohioshospice.org/event/ohod-2024-butterfly-release/
LOCATION:Ohio’s Hospice | Dayton\, 324 Wilmington Ave.\, Dayton\, OH\, 45420\, United States
CATEGORIES:Foundation,Ohio's Hospice | Dayton
ATTACH;FMTTYPE=image/jpeg:https://www.ohioshospice.org/wp-content/uploads/2024/01/SM_OHOD_20230314_Butterfly_Event_WEB.jpg
END:VEVENT
BEGIN:VEVENT
DTSTART;TZID=America/New_York:20230819T130000
DTEND;TZID=America/New_York:20230819T150000
DTSTAMP:20260421T153857
CREATED:20230223T202424Z
LAST-MODIFIED:20230807T125530Z
UID:10000057-1692450000-1692457200@www.ohioshospice.org
SUMMARY:Ohio's Hospice of Dayton 2023 Butterfly Release
DESCRIPTION:WHAT:\nOhio’s Hospice of Dayton is holding a Celebrating Life’s Stories® 2023 Butterfly Release as a way to remember and honor special people who have touched our lives and live on in our memories. After a brief program including music\, participants will release butterflies in memory of loved ones. If you are unable to attend the event\, butterflies requested will be released on your behalf. \nWHEN:\nSaturday\, August 19\, 2023\nRegistration Opens: 1 pm\nProgram Begins: 1:30 pm \nWHERE:\nOhio’s Hospice of Dayton\n324 Wilmington Ave.\nDayton\, OH 45420 \nCOST:\nButterflies are $15 each.\nSponsorship opportunities are available. Net proceeds from the 2023 Butterfly Release benefit Ohio’s Hospice of Dayton patient care and services. \nHOW:\nRegistration is closed for this event. For questions or more information\, please email Jill Lewis at JELewis@OhiosHospice.org or call 937.414.3583. \n \nShare this:\n				Share on Facebook (Opens in new window)\n				Facebook\n			\n				Share on X (Opens in new window)\n				X
URL:https://www.ohioshospice.org/event/ohios-hospice-of-dayton-2023-butterfly-release/2023-08-19/
LOCATION:Ohio’s Hospice | Dayton\, 324 Wilmington Ave.\, Dayton\, OH\, 45420\, United States
CATEGORIES:Foundation,Ohio's Hospice | Dayton
ATTACH;FMTTYPE=image/jpeg:https://www.ohioshospice.org/wp-content/uploads/2023/02/SM_OHOD_20230314_Butterfly_Event_WEB.jpg
END:VEVENT
BEGIN:VEVENT
DTSTART;TZID=UTC:20170531T110000
DTEND;TZID=UTC:20170531T120000
DTSTAMP:20260421T153857
CREATED:20170531T010517Z
LAST-MODIFIED:20230420T153121Z
UID:10000018-1496228400-1496232000@www.ohioshospice.org
SUMMARY:Fallen Heroes: A Day of Honor and Remembrance
DESCRIPTION:Ohio’s Hospice will host a Veterans Memorial event on Wednesday\, May 31 to honor fallen heroes.\nVeterans\, their families and the community are invited to join in Fallen Heroes: A Day of Honor and Remembrance to celebrate the lives and service of Veterans throughout Ohio. Ceremonies will be held at the American Pride Veteran Memorial on the campus of Ohio’s Hospice of Dayton\, 324 Wilmington Avenue\, Dayton. The event begins at 11 am and will include a wreath presentation\, Honor Guard and reception to honor the fallen. \n“We are committed to caring for and honoring veterans as part of our mission and our American Pride program\,” explains President/CEO Kent Anderson. “We want to include the entire community in this effort by encouraging them to pay tribute and thank Veterans for their service and sacrifice.” \nThe American Pride Veteran Memorial is a moving commemoration that includes illustrated panels dedicated to American military campaigns ranging from the Revolutionary War to the War Against Terror. Each branch of the service is represented with a flag\, and the American flag flies proudly at the center of the display. The memorial also includes a computer kiosk that features pictures and stories about veterans. \nBy visiting www.ohioshospice.org/american-pride\, community members can enter their own stories or stories about loved ones\, and upload photos of Veterans\, honoring their lives and service. All stories submitted will be accessible online and on display at the American Pride Veteran Memorial. The stories are searchable by name. Any Veteran from the Greater Dayton area is eligible to be included. \n“This Memorial is dedicated to the Veterans we serve through Ohio’s Hospice\, but also to every Veteran from our community\,” says Anderson. “Honoring their service is in keeping with our mission and our commitment to this community.” \nThose planning to attend the Fallen Heroes event are asked to RSVP by calling (937) 256-4490\, ext. 4447 or email bbruns@hospiceofdayton.org . \nShare this:\n				Share on Facebook (Opens in new window)\n				Facebook\n			\n				Share on X (Opens in new window)\n				X
URL:https://www.ohioshospice.org/event/fallen-heroes/
LOCATION:Ohio’s Hospice | Dayton\, 324 Wilmington Ave.\, Dayton\, OH\, 45420\, United States
CATEGORIES:Grief Support,Ohio's Hospice | Dayton
ATTACH;FMTTYPE=image/jpeg:https://www.ohioshospice.org/wp-content/uploads/2017/02/hospice_memorial-7347.jpg
ORGANIZER;CN="Ohio's Hospice":MAILTO:Info@OhiosHospice.org
END:VEVENT
END:VCALENDAR