BEGIN:VCALENDAR
VERSION:2.0
PRODID:-//Ohio&#039;s Hospice - ECPv6.15.18//NONSGML v1.0//EN
CALSCALE:GREGORIAN
METHOD:PUBLISH
X-ORIGINAL-URL:https://www.ohioshospice.org
X-WR-CALDESC:Events for Ohio&#039;s Hospice
REFRESH-INTERVAL;VALUE=DURATION:PT1H
X-Robots-Tag:noindex
X-PUBLISHED-TTL:PT1H
BEGIN:VTIMEZONE
TZID:America/New_York
BEGIN:DAYLIGHT
TZOFFSETFROM:-0500
TZOFFSETTO:-0400
TZNAME:EDT
DTSTART:20220313T070000
END:DAYLIGHT
BEGIN:STANDARD
TZOFFSETFROM:-0400
TZOFFSETTO:-0500
TZNAME:EST
DTSTART:20221106T060000
END:STANDARD
BEGIN:DAYLIGHT
TZOFFSETFROM:-0500
TZOFFSETTO:-0400
TZNAME:EDT
DTSTART:20230312T070000
END:DAYLIGHT
BEGIN:STANDARD
TZOFFSETFROM:-0400
TZOFFSETTO:-0500
TZNAME:EST
DTSTART:20231105T060000
END:STANDARD
BEGIN:DAYLIGHT
TZOFFSETFROM:-0500
TZOFFSETTO:-0400
TZNAME:EDT
DTSTART:20240310T070000
END:DAYLIGHT
BEGIN:STANDARD
TZOFFSETFROM:-0400
TZOFFSETTO:-0500
TZNAME:EST
DTSTART:20241103T060000
END:STANDARD
END:VTIMEZONE
BEGIN:VTIMEZONE
TZID:America/New_York
BEGIN:DAYLIGHT
TZOFFSETFROM:-0500
TZOFFSETTO:-0400
TZNAME:EDT
DTSTART:20210314T070000
END:DAYLIGHT
BEGIN:STANDARD
TZOFFSETFROM:-0400
TZOFFSETTO:-0500
TZNAME:EST
DTSTART:20211107T060000
END:STANDARD
BEGIN:DAYLIGHT
TZOFFSETFROM:-0500
TZOFFSETTO:-0400
TZNAME:EDT
DTSTART:20220313T070000
END:DAYLIGHT
BEGIN:STANDARD
TZOFFSETFROM:-0400
TZOFFSETTO:-0500
TZNAME:EST
DTSTART:20221106T060000
END:STANDARD
BEGIN:DAYLIGHT
TZOFFSETFROM:-0500
TZOFFSETTO:-0400
TZNAME:EDT
DTSTART:20230312T070000
END:DAYLIGHT
BEGIN:STANDARD
TZOFFSETFROM:-0400
TZOFFSETTO:-0500
TZNAME:EST
DTSTART:20231105T060000
END:STANDARD
END:VTIMEZONE
BEGIN:VEVENT
DTSTART;TZID=America/New_York:20231128T183000
DTEND;TZID=America/New_York:20231128T193000
DTSTAMP:20260420T094746
CREATED:20230821T193200Z
LAST-MODIFIED:20230821T193200Z
UID:10000122-1701196200-1701199800@www.ohioshospice.org
SUMMARY:Ohio's Hospice of Fayette County 2023 Hope for the Holidays
DESCRIPTION:Register Online \nWHAT:\nDuring this holiday season\, we want to help you remember as well as celebrate the loved ones you have lost. Pathways of HopeSM invites you to join in Hope for the Holidays\, our holiday grief support program\, which provides grieving individuals and families an opportunity to honor loved ones who have died. Hope for the Holidays is open to any member of the community who is grieving the loss of a loved one. Participants will receive helpful insights and information about coping with holiday grief. \nWHEN:\nTuesday\, November 28\, 6:30 pm \nWHERE:\nSabina Church of Christ\n185 S. College St.\nSabina\, OH 45169 \nCOST:\nThe program is free of charge thanks to the generosity of our community.  \nHOW:\nTo register online\, click the button below. Because of limited seating\, reservations are required and will be accepted until November 22 or until capacity is reached\, whichever comes first. In the event of questionable weather\, please call 937.258.4991 for updates. The registration deadline is Wednesday\, November 22\, 2023. \n  \nRegister Online \n  \nShare this:\n				Share on Facebook (Opens in new window)\n				Facebook\n			\n				Share on X (Opens in new window)\n				X
URL:https://www.ohioshospice.org/event/ohfc-2023-hope-for-the-holidays/
LOCATION:Sabina Church of Christ\, 185 S College St\, Sabina\, OH\, 45169\, United States
CATEGORIES:Grief Support,Ohio's Hospice | Washington Court House
ATTACH;FMTTYPE=image/jpeg:https://www.ohioshospice.org/wp-content/uploads/2023/08/GR_OHFC_20230821_HopefortheHolidays_Events_023.jpg
ORGANIZER;CN="Ohio%E2%80%99s Hospice | Washington Court House":MAILTO:Info@OhiosHospice.org
END:VEVENT
BEGIN:VEVENT
DTSTART;TZID=America/New_York:20230812T103000
DTEND;TZID=America/New_York:20230812T120000
DTSTAMP:20260420T094746
CREATED:20230126T212400Z
LAST-MODIFIED:20230803T143810Z
UID:10000049-1691836200-1691841600@www.ohioshospice.org
SUMMARY:Community Care Hospice and Ohio's Hospice of Fayette County 2023 Butterfly Release
DESCRIPTION:WHAT:\nCommunity Care Hospice and Ohio’s Hospice of Fayette County are holding a Celebrating Life’s Stories® 2023 Butterfly Release as a way to remember and honor special people who have touched our lives and live on in our memories. After a brief program including music\, participants will release butterflies in memory of loved ones. If you are unable to attend the event\, butterflies requested will be released on your behalf. \nWHEN:\nSaturday\, August 12\, 2023\n10:30 am-Noon \nWHERE:\nSabina Church of Christ\n185 S. College St.\nSabina\, OH 45169 \nCOST:\nButterflies are $15 each.\nSponsorship opportunities are available. Net proceeds from the 2023 Butterfly Release benefit Community Care Hospice and Ohio’s Hospice of Fayette County patient care and services. \nHOW:\nRegistration is closed for this event. For questions or more information\, please call 740.335.0149.
URL:https://www.ohioshospice.org/event/cchohfcbutterflyrelease2023/
LOCATION:Sabina Church of Christ\, 185 S College St\, Sabina\, OH\, 45169\, United States
CATEGORIES:Foundation,Ohio's Hospice | Washington Court House,Ohio's Hospice | Wilmington
ATTACH;FMTTYPE=image/jpeg:https://www.ohioshospice.org/wp-content/uploads/2023/02/SM_CCHOHFC_20230315_ButterflyRelease_Event_01_WEB.jpg
END:VEVENT
BEGIN:VEVENT
DTSTART;TZID=America/New_York:20220813T103000
DTEND;TZID=America/New_York:20220813T120000
DTSTAMP:20260420T094746
CREATED:20220718T202243Z
LAST-MODIFIED:20230420T154212Z
UID:10000005-1660386600-1660392000@www.ohioshospice.org
SUMMARY:2022 Butterfly Release
DESCRIPTION:Community Care Hospice and Ohio’s Hospice of Fayette County are holding a Celebrating Life’s Stories® Butterfly Release event as a way to remember and honor loved ones who have touched our lives and who live on in our memories. At the conclusion of the event\, participants will release butterflies in memory of loved ones. If you are unable to attend the event\, butterflies requested will be released on your behalf. \nWhen:\nSaturday\, August 13\, 2022\nCeremony begins at 10:30 am \nWhere:\nSabina Church of Christ\n185 S. College St.\nSabina\, OH 45169 \nRegister Now! \nFor more information\, please contact Stacy Havens at SHavens@OhiosHospice.org or 740.335.0149. \nShare this:\n				Share on Facebook (Opens in new window)\n				Facebook\n			\n				Share on X (Opens in new window)\n				X
URL:https://www.ohioshospice.org/event/2022-butterfly-release-2/
LOCATION:Sabina Church of Christ\, 185 S College St\, Sabina\, OH\, 45169\, United States
CATEGORIES:Foundation
ATTACH;FMTTYPE=image/jpeg:https://www.ohioshospice.org/wp-content/uploads/2022/07/PID06963_Butterfly_Release_202207_Community_Fayette_WEB-3VXJYM.tmp_.jpg
ORGANIZER;CN="Ohio%E2%80%99s Hospice | Washington Court House":MAILTO:Info@OhiosHospice.org
END:VEVENT
BEGIN:VEVENT
DTSTART;TZID=America/New_York:20220813T103000
DTEND;TZID=America/New_York:20220813T120000
DTSTAMP:20260420T094746
CREATED:20220714T173317Z
LAST-MODIFIED:20230420T154157Z
UID:10000002-1660386600-1660392000@www.ohioshospice.org
SUMMARY:2022 Butterfly Release
DESCRIPTION:Register Now! \nCommunity Care Hospice and Ohio’s Hospice of Fayette County are holding a Celebrating Life’s Stories® Butterfly Release event as a way to remember and honor loved ones who have touched our lives and who live on in our memories. At the conclusion of the event\, participants will release butterflies in memory of loved ones. If you are unable to attend the event\, butterflies requested will be released on your behalf.  \nWhen:\nSaturday\, August 13\, 2022\nCeremony begins at 10:30 am \nWhere:\nSabina Church of Christ\n185 S. College St.\nSabina\, OH 45169 \nFor more information\, please contact Stacy Havens at SHavens@OhiosHospice.org or 740.335.0149. \nShare this:\n				Share on Facebook (Opens in new window)\n				Facebook\n			\n				Share on X (Opens in new window)\n				X
URL:https://www.ohioshospice.org/event/2022-butterfly-release/
LOCATION:Sabina Church of Christ\, 185 S College St\, Sabina\, OH\, 45169\, United States
CATEGORIES:Foundation
ATTACH;FMTTYPE=image/png:https://www.ohioshospice.org/wp-content/uploads/2022/07/SM_ALL_20220104_TEMPLATE_SquarishStyle-qi6AYv.tmp_.png
END:VEVENT
END:VCALENDAR