BEGIN:VCALENDAR
VERSION:2.0
PRODID:-//Ohio&#039;s Hospice - ECPv6.15.20//NONSGML v1.0//EN
CALSCALE:GREGORIAN
METHOD:PUBLISH
X-WR-CALNAME:Ohio&#039;s Hospice
X-ORIGINAL-URL:https://www.ohioshospice.org
X-WR-CALDESC:Events for Ohio&#039;s Hospice
REFRESH-INTERVAL;VALUE=DURATION:PT1H
X-Robots-Tag:noindex
X-PUBLISHED-TTL:PT1H
BEGIN:VTIMEZONE
TZID:America/New_York
BEGIN:DAYLIGHT
TZOFFSETFROM:-0500
TZOFFSETTO:-0400
TZNAME:EDT
DTSTART:20210314T070000
END:DAYLIGHT
BEGIN:STANDARD
TZOFFSETFROM:-0400
TZOFFSETTO:-0500
TZNAME:EST
DTSTART:20211107T060000
END:STANDARD
BEGIN:DAYLIGHT
TZOFFSETFROM:-0500
TZOFFSETTO:-0400
TZNAME:EDT
DTSTART:20220313T070000
END:DAYLIGHT
BEGIN:STANDARD
TZOFFSETFROM:-0400
TZOFFSETTO:-0500
TZNAME:EST
DTSTART:20221106T060000
END:STANDARD
BEGIN:DAYLIGHT
TZOFFSETFROM:-0500
TZOFFSETTO:-0400
TZNAME:EDT
DTSTART:20230312T070000
END:DAYLIGHT
BEGIN:STANDARD
TZOFFSETFROM:-0400
TZOFFSETTO:-0500
TZNAME:EST
DTSTART:20231105T060000
END:STANDARD
END:VTIMEZONE
BEGIN:VEVENT
DTSTART;TZID=America/New_York:20220925T140000
DTEND;TZID=America/New_York:20220925T170000
DTSTAMP:20260420T232004
CREATED:20220829T201823Z
LAST-MODIFIED:20230420T154410Z
UID:10000010-1664114400-1664125200@www.ohioshospice.org
SUMMARY:Fall Memorial Service 2022
DESCRIPTION:WHAT:\nWe invite you\, your friends and your family to come and enjoy this beautiful fall memorial event in memory of your loved one(s). We will honor each person being remembered by gently placing a flower in the pond during the reading of names. Packaged refreshments will be available at the conclusion of our service. Various arts and crafts will be provided for children. \nWHEN:\nSunday\, September 25\, 2022\, 2 pm \nWHERE:\nStillwater Prairie Reserve\n9750 W. State Rt. 185\nCovington\, OH 45318 \nCOST:\nThis event is free to the community thanks to generous support from our donors. \nREGISTRATION:\nFor more information or to register\, please call Angela Timpson at Pathways of Hope℠ at 937.573.2114. Please register by Friday\, September 19\, 2022. \nShare this:\n				Share on Facebook (Opens in new window)\n				Facebook\n			\n				Share on X (Opens in new window)\n				X
URL:https://www.ohioshospice.org/event/fall-memorial-service-2022/
LOCATION:Stillwater Prairie Reserve\, 9750 OH-185\, Covington\, OH\, 45318\, United States
CATEGORIES:Grief Support
ATTACH;FMTTYPE=image/jpeg:https://www.ohioshospice.org/wp-content/uploads/2022/08/SM_OHMC_20220811_FallMemorialService_01_07269-CkwzAO.tmp_.jpg
ORGANIZER;CN="Ohio%E2%80%99s Hospice | Troy":MAILTO:Info@OhiosHospice.org
END:VEVENT
END:VCALENDAR