BEGIN:VCALENDAR
VERSION:2.0
PRODID:-//Ohio&#039;s Hospice - ECPv6.15.20//NONSGML v1.0//EN
CALSCALE:GREGORIAN
METHOD:PUBLISH
X-WR-CALNAME:Ohio&#039;s Hospice
X-ORIGINAL-URL:https://www.ohioshospice.org
X-WR-CALDESC:Events for Ohio&#039;s Hospice
REFRESH-INTERVAL;VALUE=DURATION:PT1H
X-Robots-Tag:noindex
X-PUBLISHED-TTL:PT1H
BEGIN:VTIMEZONE
TZID:America/New_York
BEGIN:DAYLIGHT
TZOFFSETFROM:-0500
TZOFFSETTO:-0400
TZNAME:EDT
DTSTART:20220313T070000
END:DAYLIGHT
BEGIN:STANDARD
TZOFFSETFROM:-0400
TZOFFSETTO:-0500
TZNAME:EST
DTSTART:20221106T060000
END:STANDARD
BEGIN:DAYLIGHT
TZOFFSETFROM:-0500
TZOFFSETTO:-0400
TZNAME:EDT
DTSTART:20230312T070000
END:DAYLIGHT
BEGIN:STANDARD
TZOFFSETFROM:-0400
TZOFFSETTO:-0500
TZNAME:EST
DTSTART:20231105T060000
END:STANDARD
BEGIN:DAYLIGHT
TZOFFSETFROM:-0500
TZOFFSETTO:-0400
TZNAME:EDT
DTSTART:20240310T070000
END:DAYLIGHT
BEGIN:STANDARD
TZOFFSETFROM:-0400
TZOFFSETTO:-0500
TZNAME:EST
DTSTART:20241103T060000
END:STANDARD
BEGIN:DAYLIGHT
TZOFFSETFROM:-0500
TZOFFSETTO:-0400
TZNAME:EDT
DTSTART:20250309T070000
END:DAYLIGHT
BEGIN:STANDARD
TZOFFSETFROM:-0400
TZOFFSETTO:-0500
TZNAME:EST
DTSTART:20251102T060000
END:STANDARD
BEGIN:DAYLIGHT
TZOFFSETFROM:-0500
TZOFFSETTO:-0400
TZNAME:EDT
DTSTART:20260308T070000
END:DAYLIGHT
BEGIN:STANDARD
TZOFFSETFROM:-0400
TZOFFSETTO:-0500
TZNAME:EST
DTSTART:20261101T060000
END:STANDARD
END:VTIMEZONE
BEGIN:VTIMEZONE
TZID:UTC
BEGIN:STANDARD
TZOFFSETFROM:+0000
TZOFFSETTO:+0000
TZNAME:UTC
DTSTART:20210101T000000
END:STANDARD
END:VTIMEZONE
BEGIN:VEVENT
DTSTART;TZID=America/New_York:20250822T090000
DTEND;TZID=America/New_York:20250822T170000
DTSTAMP:20260423T010047
CREATED:20250205T150441Z
LAST-MODIFIED:20250807T185354Z
UID:10000440-1755853200-1755882000@www.ohioshospice.org
SUMMARY:2025 Golf Classic
DESCRIPTION:Register Online \nWHAT:\nJoin us for the Ohio’s Hospice 2025 Golf Classic. Enjoy a day of golf\, lunch\, dinner\, drinks\, and games of chance all to support Ohio’s Hospice’s continued mission of serving patients\, families and the community. \nWHEN:\nFriday\, August 22\, 2025\nRegistration: 9 am\nTee Time: 10 am \nWHERE:\nThe Pines Golf Club\n1319 N. Millborne Rd.\nOrrville\, OH 44667 \nCOST:\n$560 team of four \nIncludes 18 holes of golf with a cart\, lunch\, dinner\, drinks and snacks. Net proceeds benefit Ohio’s Hospice patient care and services. \nHOW:\nTo register online\, click the button below. Registration is required. For questions or sponsorship information\, email Mona Sayre at MSayre@OhiosHospice.org  or call 330.663.6490. \n  \nRegister Online \n  \n  \nSPONSORED BY: \nPresenting Sponsor: \n \n Gold Sponsor: \n \nBeverage Cart Sponsors:\n \nMillersburg Eagles FOE 2418 \nShare this:\n				Share on Facebook (Opens in new window)\n				Facebook\n			\n				Share on X (Opens in new window)\n				X
URL:https://www.ohioshospice.org/event/2025-golf-classic-wooster/
LOCATION:The Pines Golf Club\, 1319 N. Millborne Rd.\, Orrville\, 44667
CATEGORIES:Foundation,Ohio's Hospice | Wooster
ATTACH;FMTTYPE=image/jpeg:https://www.ohioshospice.org/wp-content/uploads/2025/02/SM_WST_20250205_01_GolfOuting_Event_WEB.jpg
ORGANIZER;CN="Ohio%E2%80%99s Hospice | Wooster":MAILTO:Info@OhiosHospice.org
END:VEVENT
BEGIN:VEVENT
DTSTART;TZID=America/New_York:20240823T090000
DTEND;TZID=America/New_York:20240823T170000
DTSTAMP:20260423T010047
CREATED:20240110T151959Z
LAST-MODIFIED:20240805T143357Z
UID:10000175-1724403600-1724432400@www.ohioshospice.org
SUMMARY:2024 Golf Classic
DESCRIPTION:Register Online \nWHAT:\nJoin us for the Ohio’s Hospice 2024 Golf Classic. Enjoy a day of golf\, lunch\, dinner\, drinks\, and games of chance all to support Ohio’s Hospice’s continued mission of serving patients\, families and the community. \nWHEN:\nFriday\, August 23\, 2024\nRegistration: 9 am\nTee Time: 10 am \nWHERE:\nThe Pines Golf Club\n1319 N. Millborne Rd.\nOrrville\, OH 44667 \nCOST:\n$135 per golfer\n$540 team of four \nIncludes 18 holes of golf with a cart\, lunch\, dinner\, drinks and snacks. Net proceeds from the 2024 Golf Classic benefit Ohio’s Hospice patient care and services. \nHOW:\nTo register online\, click the button below. Registration is required. For questions or sponsorship information\, email Katherine (Ritchie) Grant at KRitchie@LifeCareHospice.org or call 330.264.4899.  \n  \nRegister Online \n  \nShare this:\n				Share on Facebook (Opens in new window)\n				Facebook\n			\n				Share on X (Opens in new window)\n				X
URL:https://www.ohioshospice.org/event/ohlc-2024-golf-classic/
LOCATION:The Pines Golf Club\, 1319 N. Millborne Rd.\, Orrville\, 44667
CATEGORIES:Foundation,Ohio's Hospice | Wooster
ATTACH;FMTTYPE=image/jpeg:https://www.ohioshospice.org/wp-content/uploads/2024/01/SM_OHLC_20240125_GolfOuting_Event_02_WEB.jpg
ORGANIZER;CN="Ohio%E2%80%99s Hospice | Wooster":MAILTO:Info@OhiosHospice.org
END:VEVENT
BEGIN:VEVENT
DTSTART;TZID=America/New_York:20230908T090000
DTEND;TZID=America/New_York:20230908T170000
DTSTAMP:20260423T010047
CREATED:20230223T210427Z
LAST-MODIFIED:20230824T185628Z
UID:10000060-1694163600-1694192400@www.ohioshospice.org
SUMMARY:Ohio’s Hospice LifeCare 2023 Golf Classic
DESCRIPTION:Register Online \nWHAT:\nJoin us for the Ohio’s Hospice LifeCare 2023 Golf Classic. Enjoy a day of golf\, lunch\, dinner\, drinks\, and games of chance all to support Ohio’s Hospice LifeCare’s continued mission of serving patients\, families and the community. \nWHEN:\nFriday\, Sept. 8\, 2023\nRegistration: 9 am\nTee Time: 10 am \nWHERE:\nThe Pines Golf Club\n1319 N. Millborne Rd.\nOrrville\, OH 44667 \nCOST:\n$125 per golfer\n$500 team of four \nIncludes 18 holes of golf with a cart\, lunch\, dinner\, drinks and snacks. Net proceeds from the 2023 Golf Classic benefit Ohio’s Hospice LifeCare patient care and services. \nHOW:\nTo register online\, click the button below. Registration is required. For questions or sponsorship information\, email Katherine Ritchie at KRitchie@LifeCareHospice.org or call 330.264.4899. Registration deadline is Sept. 1.  \n  \nRegister Online \n  \nShare this:\n				Share on Facebook (Opens in new window)\n				Facebook\n			\n				Share on X (Opens in new window)\n				X
URL:https://www.ohioshospice.org/event/ohios-hospice-lifecare-2023-golf-classic/
LOCATION:The Pines Golf Club\, 1319 N. Millborne Rd.\, Orrville\, 44667
CATEGORIES:Foundation,Ohio's Hospice | Wooster
ATTACH;FMTTYPE=image/jpeg:https://www.ohioshospice.org/wp-content/uploads/2023/08/SM_OHLC_20230824_GolfOuting_Event_02_WEB.jpg
ORGANIZER;CN="Ohio%E2%80%99s Hospice | Wooster":MAILTO:Info@OhiosHospice.org
END:VEVENT
BEGIN:VEVENT
DTSTART;TZID=UTC:20220826T090000
DTEND;TZID=UTC:20220826T170000
DTSTAMP:20260423T010047
CREATED:20220801T201833Z
LAST-MODIFIED:20230420T154308Z
UID:10000017-1661504400-1661533200@www.ohioshospice.org
SUMMARY:Ohio’s Hospice LifeCare 2022 Inaugural Golf Classic
DESCRIPTION:WHAT:\nA day of golf\, lunch\, dinner\, drinks\, and games of chance\, all to support Ohio’s Hospice LifeCare’s continued mission of serving patients\, families and the community when the need arises. \nWHEN:\nFriday August 26\, 2022\nRegistration: 9 am\nTee Time: 10 am \nWHERE:\nThe Pines Golf Club\n1319 N. Millborne Road\nOrrville\, OH 44667 \nWHY:\nNet proceeds from this event benefit Ohio’s Hospice LifeCare patient care and services. \nCOST:\n$125 per golfer \nHOW:\nTo register online\, click the button below.  For questions or sponsorship information\, call Katherine Ritchie at Ohio’s Hospice LifeCare at 330.264.4899. \n  \nRegister Online \n  \nShare this:\n				Share on Facebook (Opens in new window)\n				Facebook\n			\n				Share on X (Opens in new window)\n				X
URL:https://www.ohioshospice.org/event/ohios-hospice-lifecare-2022-inaugural-golf-classic/
LOCATION:The Pines Golf Club\, 1319 N. Millborne Rd.\, Orrville\, 44667
CATEGORIES:Foundation
ATTACH;FMTTYPE=image/png:https://www.ohioshospice.org/wp-content/uploads/2022/08/SM_OHLC_20220301_Golf_01PID06290-KUlDvc.tmp_.png
END:VEVENT
END:VCALENDAR