BEGIN:VCALENDAR
VERSION:2.0
PRODID:-//Ohio&#039;s Hospice - ECPv6.15.20//NONSGML v1.0//EN
CALSCALE:GREGORIAN
METHOD:PUBLISH
X-WR-CALNAME:Ohio&#039;s Hospice
X-ORIGINAL-URL:https://www.ohioshospice.org
X-WR-CALDESC:Events for Ohio&#039;s Hospice
REFRESH-INTERVAL;VALUE=DURATION:PT1H
X-Robots-Tag:noindex
X-PUBLISHED-TTL:PT1H
BEGIN:VTIMEZONE
TZID:America/New_York
BEGIN:DAYLIGHT
TZOFFSETFROM:-0500
TZOFFSETTO:-0400
TZNAME:EDT
DTSTART:20230312T070000
END:DAYLIGHT
BEGIN:STANDARD
TZOFFSETFROM:-0400
TZOFFSETTO:-0500
TZNAME:EST
DTSTART:20231105T060000
END:STANDARD
BEGIN:DAYLIGHT
TZOFFSETFROM:-0500
TZOFFSETTO:-0400
TZNAME:EDT
DTSTART:20240310T070000
END:DAYLIGHT
BEGIN:STANDARD
TZOFFSETFROM:-0400
TZOFFSETTO:-0500
TZNAME:EST
DTSTART:20241103T060000
END:STANDARD
BEGIN:DAYLIGHT
TZOFFSETFROM:-0500
TZOFFSETTO:-0400
TZNAME:EDT
DTSTART:20250309T070000
END:DAYLIGHT
BEGIN:STANDARD
TZOFFSETFROM:-0400
TZOFFSETTO:-0500
TZNAME:EST
DTSTART:20251102T060000
END:STANDARD
BEGIN:DAYLIGHT
TZOFFSETFROM:-0500
TZOFFSETTO:-0400
TZNAME:EDT
DTSTART:20260308T070000
END:DAYLIGHT
BEGIN:STANDARD
TZOFFSETFROM:-0400
TZOFFSETTO:-0500
TZNAME:EST
DTSTART:20261101T060000
END:STANDARD
END:VTIMEZONE
BEGIN:VEVENT
DTSTART;TZID=America/New_York:20250910T100000
DTEND;TZID=America/New_York:20250910T180000
DTSTAMP:20260420T190048
CREATED:20250313T174747Z
LAST-MODIFIED:20250818T195011Z
UID:10000456-1757498400-1757527200@www.ohioshospice.org
SUMMARY:2025 Golf Classic
DESCRIPTION:Register Online \nWHAT:\nJoin us for our 2025 Golf Classic. Enjoy a day of 18 holes of golf with a cart\, in a scramble format\, lunch\, dinner\, soft drinks\, and games of chance all to support the continued mission of serving patients and families of Ohio’s Hospice. \nWHEN:\nWednesday\, Sept. 10\, 2025\nRegistration: 10 am\nShotgun Start: 11 am \nWHERE:\nUnion Country Club\n1000 N. Bellevue Ave.\nDover\, OH 44622 \nCOST:\nDetails coming soon. \nIncludes 18 holes of golf with a cart\, breakfast\, lunch\, dinner\, drinks and snacks.\nSponsorship opportunities are available. Net proceeds benefit Ohio’s Hospice patient care and services. \nHOW:\nRegistration for this event is required. For questions\, contact Mona Sayre at MSayre@OhiosHospice.org or 330.663.6490. \n \nRegister Online \n  \n  \nSPONSORED BY: \nDinner Sponsor: \n \nCorporate Sponsors: \n \n \n \n \n \n \nShare this:\n				Share on Facebook (Opens in new window)\n				Facebook\n			\n				Share on X (Opens in new window)\n				X
URL:https://www.ohioshospice.org/event/2025-golf-classic-dover/
LOCATION:Union Country Club\, 1000 N Bellevue Ave.\, Dover\, OH\, 44622\, United States
CATEGORIES:Foundation,Ohio's Hospice | New Philadelphia
ATTACH;FMTTYPE=image/jpeg:https://www.ohioshospice.org/wp-content/uploads/2025/03/SM_NPH_20250310_01_GolfOuting_Event_WEB.jpg
END:VEVENT
BEGIN:VEVENT
DTSTART;TZID=America/New_York:20240911T100000
DTEND;TZID=America/New_York:20240911T180000
DTSTAMP:20260420T190048
CREATED:20240219T165454Z
LAST-MODIFIED:20240904T192723Z
UID:10000393-1726048800-1726077600@www.ohioshospice.org
SUMMARY:2024 Golf Classic
DESCRIPTION:WHAT:\nJoin us for our 2024 Golf Classic. Enjoy a day of 18 holes of golf with a cart\, in a scramble format\, lunch\, dinner\, soft drinks\, and games of chance all to support the continued mission of serving patients and families of Ohio’s Hospice. \nWHEN:\nWednesday\, Sept. 11\, 2024\nRegistration: 10 am\nShotgun Start: 11 am \nWHERE:\nUnion Country Club\n1000 N. Bellevue Ave.\nDover\, OH 44622 \nCOST:\n$700 team of four \nIncludes 18 holes of golf with a cart\, breakfast\, lunch\, dinner\, drinks and snacks.\nSponsorship opportunities are available. Net proceeds from the 2024 Golf Classic benefit Ohio’s Hospice patient care and services. \nHOW:\nRegistration for this event is now closed. For questions\, call Mona Sayre at 330.343.7605. \n \nShare this:\n				Share on Facebook (Opens in new window)\n				Facebook\n			\n				Share on X (Opens in new window)\n				X
URL:https://www.ohioshospice.org/event/com-2024-golf-classic/
LOCATION:Union Country Club\, 1000 N Bellevue Ave.\, Dover\, OH\, 44622\, United States
CATEGORIES:Foundation,Ohio's Hospice
ATTACH;FMTTYPE=image/jpeg:https://www.ohioshospice.org/wp-content/uploads/2024/02/SM_COM_20240219_GolfOuting_Event_01_WEB.jpg
END:VEVENT
END:VCALENDAR