BEGIN:VCALENDAR
VERSION:2.0
PRODID:-//Ohio&#039;s Hospice - ECPv6.15.20//NONSGML v1.0//EN
CALSCALE:GREGORIAN
METHOD:PUBLISH
X-ORIGINAL-URL:https://www.ohioshospice.org
X-WR-CALDESC:Events for Ohio&#039;s Hospice
REFRESH-INTERVAL;VALUE=DURATION:PT1H
X-Robots-Tag:noindex
X-PUBLISHED-TTL:PT1H
BEGIN:VTIMEZONE
TZID:America/New_York
BEGIN:DAYLIGHT
TZOFFSETFROM:-0500
TZOFFSETTO:-0400
TZNAME:EDT
DTSTART:20210314T070000
END:DAYLIGHT
BEGIN:STANDARD
TZOFFSETFROM:-0400
TZOFFSETTO:-0500
TZNAME:EST
DTSTART:20211107T060000
END:STANDARD
BEGIN:DAYLIGHT
TZOFFSETFROM:-0500
TZOFFSETTO:-0400
TZNAME:EDT
DTSTART:20220313T070000
END:DAYLIGHT
BEGIN:STANDARD
TZOFFSETFROM:-0400
TZOFFSETTO:-0500
TZNAME:EST
DTSTART:20221106T060000
END:STANDARD
BEGIN:DAYLIGHT
TZOFFSETFROM:-0500
TZOFFSETTO:-0400
TZNAME:EDT
DTSTART:20230312T070000
END:DAYLIGHT
BEGIN:STANDARD
TZOFFSETFROM:-0400
TZOFFSETTO:-0500
TZNAME:EST
DTSTART:20231105T060000
END:STANDARD
END:VTIMEZONE
BEGIN:VEVENT
DTSTART;TZID=America/New_York:20221129T183000
DTEND;TZID=America/New_York:20221129T193000
DTSTAMP:20260421T212258
CREATED:20221031T210332Z
LAST-MODIFIED:20230420T154657Z
UID:10000044-1669746600-1669750200@www.ohioshospice.org
SUMMARY:2022 Hope for the Holidays
DESCRIPTION:WHAT: \nDuring this holiday season\, we want to help you remember as well as celebrate the loved ones you have lost. Pathways of HopeSM invites you to join in Hope for the Holidays\, our holiday grief support program\, which provides grieving individuals and families an opportunity to honor loved ones who have died. Hope for the Holidays is open to any member of the community who is grieving the loss of a loved one. Participants will receive helpful insights and information about coping with holiday grief. \nWHEN: \nTuesday\, November 29\, 2022\n6:30 pm \nWHERE: \nWilmington Church of God\n100 R. Gordon Dr.\nWilmington\, OH 45177 \nHOW: \nTo register online\, click the button below. Because of limited seating\, reservations are required and will be accepted until November 22 or until capacity is reached\, whichever comes first. The program is free of charge thanks to the generosity of the community. In the event of questionable weather\, please call 937.258.4991 for updates. \n  \nRegister Online \nThe registration deadline is November 22\, 2022. \nShare this:\n				Share on Facebook (Opens in new window)\n				Facebook\n			\n				Share on X (Opens in new window)\n				X
URL:https://www.ohioshospice.org/event/2022-hope-for-the-holidays-5/
LOCATION:Wilmington Church of God\, 100 R. Gordon Dr.\, Wilmington\, OH\, 45177\, United States
CATEGORIES:Grief Support
ATTACH;FMTTYPE=image/jpeg:https://www.ohioshospice.org/wp-content/uploads/2022/10/GR_CCH_20221028_HopefortheHolidays_Events_025-oYETWA.tmp_.jpg
ORGANIZER;CN="Ohio's Hospice | Wilmington":MAILTO:Info@OhiosHospice.org
END:VEVENT
END:VCALENDAR